BEGIN:VCALENDAR
VERSION:2.0
PRODID:-//Sydney North Region Scouts - ECPv6.15.20//NONSGML v1.0//EN
CALSCALE:GREGORIAN
METHOD:PUBLISH
X-ORIGINAL-URL:https://sydneynorthscouts.com
X-WR-CALDESC:Events for Sydney North Region Scouts
REFRESH-INTERVAL;VALUE=DURATION:PT1H
X-Robots-Tag:noindex
X-PUBLISHED-TTL:PT1H
BEGIN:VTIMEZONE
TZID:Australia/Sydney
BEGIN:STANDARD
TZOFFSETFROM:+1100
TZOFFSETTO:+1000
TZNAME:AEST
DTSTART:20230401T160000
END:STANDARD
BEGIN:DAYLIGHT
TZOFFSETFROM:+1000
TZOFFSETTO:+1100
TZNAME:AEDT
DTSTART:20230930T160000
END:DAYLIGHT
BEGIN:STANDARD
TZOFFSETFROM:+1100
TZOFFSETTO:+1000
TZNAME:AEST
DTSTART:20240406T160000
END:STANDARD
BEGIN:DAYLIGHT
TZOFFSETFROM:+1000
TZOFFSETTO:+1100
TZNAME:AEDT
DTSTART:20241005T160000
END:DAYLIGHT
BEGIN:STANDARD
TZOFFSETFROM:+1100
TZOFFSETTO:+1000
TZNAME:AEST
DTSTART:20250405T160000
END:STANDARD
BEGIN:DAYLIGHT
TZOFFSETFROM:+1000
TZOFFSETTO:+1100
TZNAME:AEDT
DTSTART:20251004T160000
END:DAYLIGHT
BEGIN:STANDARD
TZOFFSETFROM:+1100
TZOFFSETTO:+1000
TZNAME:AEST
DTSTART:20260404T160000
END:STANDARD
BEGIN:DAYLIGHT
TZOFFSETFROM:+1000
TZOFFSETTO:+1100
TZNAME:AEDT
DTSTART:20261003T160000
END:DAYLIGHT
END:VTIMEZONE
BEGIN:VEVENT
DTSTART;TZID=Australia/Sydney:20250617T200000
DTEND;TZID=Australia/Sydney:20250617T213000
DTSTAMP:20260420T195727
CREATED:20250113T005257Z
LAST-MODIFIED:20250113T005300Z
UID:9513-1750190400-1750195800@sydneynorthscouts.com
SUMMARY:Lower North Shore/Turrumburra Mindari
DESCRIPTION:
URL:https://sydneynorthscouts.com/event/lower-north-shore-turrumburra-mindari-5/
CATEGORIES:Mindari
END:VEVENT
BEGIN:VEVENT
DTSTART;TZID=Australia/Sydney:20250524T133000
DTEND;TZID=Australia/Sydney:20250525T150000
DTSTAMP:20260420T195727
CREATED:20250417T010334Z
LAST-MODIFIED:20250417T013320Z
UID:10157-1748093400-1748185200@sydneynorthscouts.com
SUMMARY:Garigal / Nthn Beaches Scout Personal Development Course
DESCRIPTION:Scouts will arrive in full uniform from 1.30pm on the Saturday for a 2pm start. \n\n\n\nSessions will be held in and outside the Hall. \n\n\n\nIt will be an overnight course so Scouts need to bring all that is necessary for an overnight camp. \n\n\n\nTent\, mat\, sleeping bag\, eating utensils\, toiletries\, pillow\, notepad\, pen\, spare clothes etc. \n\n\n\nSpecial dietary requirements are to be sent to Paul Soltau        paul.soltau@nsw.scouts.com.au \n\n\n\nAny questions / comments to Tom Miles     tom.miles@nsw.scouts.com.au \n\n\n\n\ninvalid event id provided.
URL:https://sydneynorthscouts.com/event/garigal-nthn-beaches-scout-personal-development-course/
LOCATION:Belrose Scout Hall\, 33 Maitland St\, Davidson\, NSW\, 2085\, Australia
CATEGORIES:Scouts
END:VEVENT
BEGIN:VEVENT
DTSTART;TZID=Australia/Sydney:20250520T200000
DTEND;TZID=Australia/Sydney:20250520T213000
DTSTAMP:20260420T195727
CREATED:20250113T005156Z
LAST-MODIFIED:20250113T005159Z
UID:9511-1747771200-1747776600@sydneynorthscouts.com
SUMMARY:Lower North Shore/Turrumburra Mindari
DESCRIPTION:
URL:https://sydneynorthscouts.com/event/lower-north-shore-turrumburra-mindari-4/
CATEGORIES:Mindari
END:VEVENT
BEGIN:VEVENT
DTSTART;TZID=Australia/Sydney:20250502T180000
DTEND;TZID=Australia/Sydney:20250504T150000
DTSTAMP:20260420T195727
CREATED:20250109T062634Z
LAST-MODIFIED:20250109T062651Z
UID:9486-1746208800-1746370800@sydneynorthscouts.com
SUMMARY:Scouthike 2025 "Pick Your Playlist"
DESCRIPTION:ScoutHike is Sydney North Region’s premier annual Scout section event. If you are interested in an exciting weekend of lightweight hiking around a NSW State Forest – then this is the event you must register for! \n\n\n\nWe are super-excited to run this fantastic event and can’t wait to have the forest full of Scouts and leaders eager for a challenging adventure! Dust off those packs and hiking boots and start thinking about your teams. \n\n\n\nThe theme for the event is “Pick your Playlist”. Scouts will have the opportunity to spend the weekend completing 30 different musically themed activity bases spread across the forest. \n\n\n\nLearn more – https://sydneynorthscouts.com/sections/scouts/scouthike/
URL:https://sydneynorthscouts.com/event/scouthike-2025-pick-your-playlist/
CATEGORIES:Scouts
END:VEVENT
BEGIN:VEVENT
DTSTART;TZID=Australia/Sydney:20250429T200000
DTEND;TZID=Australia/Sydney:20250429T213000
DTSTAMP:20260420T195727
CREATED:20250113T005110Z
LAST-MODIFIED:20250113T005113Z
UID:9509-1745956800-1745962200@sydneynorthscouts.com
SUMMARY:Lower North Shore/Turrumburra Mindari
DESCRIPTION:
URL:https://sydneynorthscouts.com/event/lower-north-shore-turrumburra-mindari-3/
CATEGORIES:Mindari
END:VEVENT
BEGIN:VEVENT
DTSTART;TZID=Australia/Sydney:20250417T170000
DTEND;TZID=Australia/Sydney:20250421T160000
DTSTAMP:20260420T195727
CREATED:20250328T021121Z
LAST-MODIFIED:20250328T021123Z
UID:9982-1744909200-1745251200@sydneynorthscouts.com
SUMMARY:Benowie District Easter Camp
DESCRIPTION:
URL:https://sydneynorthscouts.com/event/benowie-district-easter-camp/
LOCATION:Glenfield Scout Activity Centre\, 2 Cambridge Ave\, Glenfield\, NSW\, 2167\, Australia
CATEGORIES:Scouts
ORGANIZER;CN="Michelle Dalmaris":MAILTO:michelle.dalmaris@nsw.scouts.com.au
END:VEVENT
BEGIN:VEVENT
DTSTART;TZID=Australia/Sydney:20250218T200000
DTEND;TZID=Australia/Sydney:20250218T213000
DTSTAMP:20260420T195727
CREATED:20250113T004857Z
LAST-MODIFIED:20250113T004902Z
UID:9505-1739908800-1739914200@sydneynorthscouts.com
SUMMARY:Lower North Shore/Turrumburra Mindari
DESCRIPTION:
URL:https://sydneynorthscouts.com/event/lower-north-shore-turrumburra-mindari/
CATEGORIES:Mindari
END:VEVENT
BEGIN:VEVENT
DTSTART;TZID=Australia/Sydney:20250106T080000
DTEND;TZID=Australia/Sydney:20250115T170000
DTSTAMP:20260420T195727
CREATED:20240321T052255Z
LAST-MODIFIED:20241227T031518Z
UID:8534-1736150400-1736960400@sydneynorthscouts.com
SUMMARY:26TH AUSTRALIAN JAMBOREE - MARYBOROUGH\, QUEENSLAND
DESCRIPTION:The Australian Jamboree is an experience like no other. Every four years\, more than ten thousand Scouts from right across Australia and the world meet together for an unforgettable ten day camp full of incredible activities\, new challenges and endless opportunities to make friends for life. \n\n\n\nScouts Queensland will host AJ2025 from 6-15 January 2025 at the Maryborough Showgrounds and Equestrian Park. \n\n\n\nhttps://www.aj2025.com.au/
URL:https://sydneynorthscouts.com/event/26th-australian-jamboree-maryborough-queensland/
CATEGORIES:Scouts,Venturer Scouts
END:VEVENT
BEGIN:VEVENT
DTSTART;TZID=Australia/Sydney:20241210T190000
DTEND;TZID=Australia/Sydney:20241210T193000
DTSTAMP:20260420T195727
CREATED:20231109T223705Z
LAST-MODIFIED:20231109T223708Z
UID:7784-1733857200-1733859000@sydneynorthscouts.com
SUMMARY:Garigal Mindari Meeting
DESCRIPTION:
URL:https://sydneynorthscouts.com/event/garigal-mindari-meeting-9/
CATEGORIES:Mindari
END:VEVENT
BEGIN:VEVENT
DTSTART;TZID=Australia/Sydney:20241130T000000
DTEND;TZID=Australia/Sydney:20241130T235959
DTSTAMP:20260420T195727
CREATED:20240922T050736Z
LAST-MODIFIED:20240922T051220Z
UID:9047-1732924800-1733011199@sydneynorthscouts.com
SUMMARY:2025 Hornsby Gang Show Auditions
DESCRIPTION:Register via www.gangshow.com
URL:https://sydneynorthscouts.com/event/hornsby-gang-show-2025-auditions/
LOCATION:Gang Show Central\, Reddy Park Pretoria Parade\, Hornsby\, NSW\, 2077\, Australia
CATEGORIES:Gang Show,Scouts,Venturer Scouts,Rover Scouts
ATTACH;FMTTYPE=image/jpeg:https://sydneynorthscouts.com/wp-content/uploads/2024/09/449364663_948646103939680_7432436667367327292_n.jpg
END:VEVENT
BEGIN:VEVENT
DTSTART;TZID=Australia/Sydney:20241119T200000
DTEND;TZID=Australia/Sydney:20241119T213000
DTSTAMP:20260420T195727
CREATED:20240116T044052Z
LAST-MODIFIED:20240116T044054Z
UID:8141-1732046400-1732051800@sydneynorthscouts.com
SUMMARY:LNS/Turrumburra District Mindari
DESCRIPTION:
URL:https://sydneynorthscouts.com/event/lns-turrumburra-district-mindari-13/
LOCATION:1st Willoughby Scout Hall\, 56 Laurel St\, Willoughby\, NSW\, 2068\, Australia
CATEGORIES:Mindari
END:VEVENT
BEGIN:VEVENT
DTSTART;TZID=Australia/Sydney:20241022T200000
DTEND;TZID=Australia/Sydney:20241022T213000
DTSTAMP:20260420T195727
CREATED:20240116T043911Z
LAST-MODIFIED:20240116T043914Z
UID:8139-1729627200-1729632600@sydneynorthscouts.com
SUMMARY:LNS/Turrumburra District Mindari
DESCRIPTION:
URL:https://sydneynorthscouts.com/event/lns-turrumburra-district-mindari-12/
LOCATION:1st Willoughby Scout Hall\, 56 Laurel St\, Willoughby\, NSW\, 2068\, Australia
CATEGORIES:Mindari
END:VEVENT
BEGIN:VEVENT
DTSTART;TZID=Australia/Sydney:20241008T190000
DTEND;TZID=Australia/Sydney:20241008T193000
DTSTAMP:20260420T195727
CREATED:20231109T223453Z
LAST-MODIFIED:20231109T223456Z
UID:7780-1728414000-1728415800@sydneynorthscouts.com
SUMMARY:Garigal Mindari Meeting
DESCRIPTION:
URL:https://sydneynorthscouts.com/event/garigal-mindari-meeting-7/
CATEGORIES:Mindari
END:VEVENT
BEGIN:VEVENT
DTSTART;TZID=Australia/Sydney:20240917T200000
DTEND;TZID=Australia/Sydney:20240917T213000
DTSTAMP:20260420T195727
CREATED:20240116T043756Z
LAST-MODIFIED:20240116T043759Z
UID:8137-1726603200-1726608600@sydneynorthscouts.com
SUMMARY:LNS/Turrumburra District Mindari
DESCRIPTION:
URL:https://sydneynorthscouts.com/event/lns-turrumburra-district-mindari-11/
LOCATION:1st Willoughby Scout Hall\, 56 Laurel St\, Willoughby\, NSW\, 2068\, Australia
CATEGORIES:Mindari
END:VEVENT
BEGIN:VEVENT
DTSTART;TZID=Australia/Sydney:20240910T190000
DTEND;TZID=Australia/Sydney:20240910T193000
DTSTAMP:20260420T195727
CREATED:20231109T223358Z
LAST-MODIFIED:20231109T223400Z
UID:7778-1725994800-1725996600@sydneynorthscouts.com
SUMMARY:Garigal Mindari Meeting
DESCRIPTION:
URL:https://sydneynorthscouts.com/event/garigal-mindari-meeting-6/
CATEGORIES:Mindari
END:VEVENT
BEGIN:VEVENT
DTSTART;TZID=Australia/Sydney:20240820T200000
DTEND;TZID=Australia/Sydney:20240820T213000
DTSTAMP:20260420T195727
CREATED:20240116T043535Z
LAST-MODIFIED:20240116T043536Z
UID:8135-1724184000-1724189400@sydneynorthscouts.com
SUMMARY:LNS/Turrumburra District Mindari
DESCRIPTION:
URL:https://sydneynorthscouts.com/event/lns-turrumburra-district-mindari-10/
LOCATION:1st Willoughby Scout Hall\, 56 Laurel St\, Willoughby\, NSW\, 2068\, Australia
CATEGORIES:Mindari
END:VEVENT
BEGIN:VEVENT
DTSTART;TZID=Australia/Sydney:20240818T080000
DTEND;TZID=Australia/Sydney:20240818T150000
DTSTAMP:20260420T195727
CREATED:20240805T233404Z
LAST-MODIFIED:20240806T060708Z
UID:8930-1723968000-1723993200@sydneynorthscouts.com
SUMMARY:Benowie District Pioneer Construction Course
DESCRIPTION:Friday 16 August – 7pm to 9.30pm   \n\n\n\nSaturday 17 August – 8am to 4pm  \n\n\n\nSunday 18 August – 8am to 3pm Cost $30  \n\n\n\nNormanhurst Scout Hall\, Harris Rd\, Normanhurst  \n\n\n\nAll participants must be proficient in BASIC KNOTS AND HITCHES – reef knot\, sheet bend\, clove hitch\, rolling hitch. Knowledge of more\, and basic lashings would assist – square\, sheer and round lashings.  \n\n\n\nAttending this course is a great opportunity to achieve most of Bushcraft Pioneering stage 4\, 5 or 6 in one weekend\, depending on your prior achievements and goals for this course.   \n\n\n\n\nUniform is to be worn on Friday Night\, casual; clothes and scarf only for Saturday and Sunday. \n\n\n\n\n\nPlease bring a water bottle\, mug/cup and your own lunch\, morning tea and afternoon tea for Saturday and Sunday. \n\n\n\n\n\nNo food will be provided\, please bring your own lunch and morning/afternoon tea. \n\n\n\n\n\nPlease bring GARDENING GLOVES to protect your hands from splinters on Sunday as you will be working with wooden poles. \n\n\n\n\n\nBring and apply sunscreen on Saturday and Sunday for outdoor activities. \n\n\n\n\n\nLook at the requirements for each stage and come READY to tell us what stage you will be working at. \n\n\n\n\nYours in Scouting  \n\n\n\nMichelle “Kinka” Dalmaris   \n\n\n\nmichelle.dalmaris@nsw.scouts.com.au   \n\n\n\n0400 026 884  \n\n\n\n\ninvalid event id provided.\n\n\nhttps://events.nsw.scouts.com.au/event/1863
URL:https://sydneynorthscouts.com/event/benowie-district-pioneer-construction-course-2/
LOCATION:Normanhurst Scout Hall\, 22 Harris Rd\, Normanhurst\, NSW\, 2076\, Australia
CATEGORIES:Scouts
ORGANIZER;CN="Michelle Dalmaris":MAILTO:michelle.dalmaris@nsw.scouts.com.au
END:VEVENT
BEGIN:VEVENT
DTSTART;TZID=Australia/Sydney:20240813T190000
DTEND;TZID=Australia/Sydney:20240813T193000
DTSTAMP:20260420T195727
CREATED:20231109T223229Z
LAST-MODIFIED:20231109T223235Z
UID:7776-1723575600-1723577400@sydneynorthscouts.com
SUMMARY:Garigal Mindari Meeting
DESCRIPTION:
URL:https://sydneynorthscouts.com/event/garigal-mindari-meeting-5/
CATEGORIES:Mindari
END:VEVENT
BEGIN:VEVENT
DTSTART;TZID=Australia/Sydney:20240811T090000
DTEND;TZID=Australia/Sydney:20240811T160000
DTSTAMP:20260420T195727
CREATED:20240702T061807Z
LAST-MODIFIED:20240702T061812Z
UID:8843-1723366800-1723392000@sydneynorthscouts.com
SUMMARY:Scout Environment Day 2024
DESCRIPTION:Great opportunity for scouts to learn about solar energy and bushcare through fun activities. Activities include cooking an snack on a solar oven\, solar water filtration system and bit bush regeneration of the surround bushland.Scouts work towards an SIA environment project and the Earth Tribe Scouts Go Solar Challenge. \n\n\n\nScouts wear clothing to do bushcare work in and scout uniform. a Bring your own lunch and snacks. Scouts bring a water bottle\, hat and sunscreen. \n\n\n\n\n\n\ninvalid event id provided.
URL:https://sydneynorthscouts.com/event/scout-environment-day-2024/
LOCATION:1st Frenchs Forest Scout Hall\, Utyana Place\, Frenchs Forest\, NSW\, 2086\, Australia
CATEGORIES:Environment Activity Days,Scouts,Environment
ORGANIZER;CN="Cameron.Lathwell":MAILTO:cameron.lathwell@nsw.scouts.com.au
END:VEVENT
BEGIN:VEVENT
DTSTART;TZID=Australia/Sydney:20240723T200000
DTEND;TZID=Australia/Sydney:20240723T213000
DTSTAMP:20260420T195727
CREATED:20240116T043351Z
LAST-MODIFIED:20240116T043354Z
UID:8133-1721764800-1721770200@sydneynorthscouts.com
SUMMARY:LNS/Turrumburra District Mindari
DESCRIPTION:
URL:https://sydneynorthscouts.com/event/lns-turrumburra-district-mindari-9/
LOCATION:1st Willoughby Scout Hall\, 56 Laurel St\, Willoughby\, NSW\, 2068\, Australia
CATEGORIES:Mindari
END:VEVENT
BEGIN:VEVENT
DTSTART;TZID=Australia/Sydney:20240709T190000
DTEND;TZID=Australia/Sydney:20240709T193000
DTSTAMP:20260420T195727
CREATED:20231109T223123Z
LAST-MODIFIED:20231109T223126Z
UID:7774-1720551600-1720553400@sydneynorthscouts.com
SUMMARY:Garigal Mindari Meeting
DESCRIPTION:
URL:https://sydneynorthscouts.com/event/garigal-mindari-meeting-4/
CATEGORIES:Mindari
END:VEVENT
BEGIN:VEVENT
DTSTART;TZID=Australia/Sydney:20240618T200000
DTEND;TZID=Australia/Sydney:20240618T213000
DTSTAMP:20260420T195727
CREATED:20240116T043236Z
LAST-MODIFIED:20240116T043241Z
UID:8131-1718740800-1718746200@sydneynorthscouts.com
SUMMARY:LNS/Turrumburra District Mindari
DESCRIPTION:
URL:https://sydneynorthscouts.com/event/lns-turrumburra-district-mindari-8/
LOCATION:1st Willoughby Scout Hall\, 56 Laurel St\, Willoughby\, NSW\, 2068\, Australia
CATEGORIES:Mindari
END:VEVENT
BEGIN:VEVENT
DTSTART;TZID=Australia/Sydney:20240521T200000
DTEND;TZID=Australia/Sydney:20240521T213000
DTSTAMP:20260420T195727
CREATED:20240116T043041Z
LAST-MODIFIED:20240116T043043Z
UID:8129-1716321600-1716327000@sydneynorthscouts.com
SUMMARY:LNS/Turrumburra District Mindari
DESCRIPTION:
URL:https://sydneynorthscouts.com/event/lns-turrumburra-district-mindari-7/
LOCATION:1st Willoughby Scout Hall\, 56 Laurel St\, Willoughby\, NSW\, 2068\, Australia
CATEGORIES:Mindari
END:VEVENT
BEGIN:VEVENT
DTSTART;TZID=Australia/Sydney:20240518T133000
DTEND;TZID=Australia/Sydney:20240519T150000
DTSTAMP:20260420T195727
CREATED:20240422T044057Z
LAST-MODIFIED:20240422T044100Z
UID:8656-1716039000-1716130800@sydneynorthscouts.com
SUMMARY:Garigal / Northern Beaches Scout Personal Development Course
DESCRIPTION:The Garigal / Nthn Beaches Scout Personal Development Course will be held at Belrose Scout Hall on May 18 & 19. \n\n\n\nScouts will arrive in full uniform from 1.30pm on the Saturday for a 2pm start. \n\n\n\nSessions will be held in and outside the Hall. \n\n\n\nIt will be an overnight course so Scouts need to bring all that is necessary for an overnight camp. \n\n\n\nTent\, mat\, sleeping bag\, eating utensils\, toiletries\, pillow\, notepad\, pen etc. \n\n\n\nCost will be $50 per head \n\n\n\nSpecial dietary requirements are to be sent to Paul Soltau  paul.soltau@nsw.scouts.com.au \n\n\n\nThe course will finish at 3pm on Sunday May 19 \n\n\n\nAny questions / comments to Tom Miles  tom.miles@nsw.scouts.com.au \n\n\n\n\n\n\ninvalid event id provided.
URL:https://sydneynorthscouts.com/event/garigal-northern-beaches-scout-personal-development-course-2/
LOCATION:Belrose Scout Hall
CATEGORIES:Scouts,Scout Leadership Courses
END:VEVENT
BEGIN:VEVENT
DTSTART;TZID=Australia/Sydney:20240503T170000
DTEND;TZID=Australia/Sydney:20240505T160000
DTSTAMP:20260420T195727
CREATED:20240130T215714Z
LAST-MODIFIED:20240130T221231Z
UID:8161-1714755600-1714924800@sydneynorthscouts.com
SUMMARY:ScoutHike 2024 "Tour of the Eras"
DESCRIPTION:VISIT THE SCOUTHIKE PAGE\n\n\n\n\n$90 Early Bird rego now for Sydney North or South Met (see ScoutHike page for other prices)
URL:https://sydneynorthscouts.com/event/scouthike-2024-tour-of-the-eras/
CATEGORIES:Scouts
END:VEVENT
BEGIN:VEVENT
DTSTART;TZID=Australia/Sydney:20240430T200000
DTEND;TZID=Australia/Sydney:20240430T213000
DTSTAMP:20260420T195727
CREATED:20240116T042906Z
LAST-MODIFIED:20240116T042907Z
UID:8127-1714507200-1714512600@sydneynorthscouts.com
SUMMARY:LNS/Turrumburra District Mindari
DESCRIPTION:
URL:https://sydneynorthscouts.com/event/lns-turrumburra-district-mindari-6/
LOCATION:1st Willoughby Scout Hall\, 56 Laurel St\, Willoughby\, NSW\, 2068\, Australia
CATEGORIES:Mindari
END:VEVENT
END:VCALENDAR