BEGIN:VCALENDAR
VERSION:2.0
PRODID:-//Sydney North Region Scouts - ECPv6.15.20//NONSGML v1.0//EN
CALSCALE:GREGORIAN
METHOD:PUBLISH
X-ORIGINAL-URL:https://sydneynorthscouts.com
X-WR-CALDESC:Events for Sydney North Region Scouts
REFRESH-INTERVAL;VALUE=DURATION:PT1H
X-Robots-Tag:noindex
X-PUBLISHED-TTL:PT1H
BEGIN:VTIMEZONE
TZID:Australia/Sydney
BEGIN:STANDARD
TZOFFSETFROM:+1100
TZOFFSETTO:+1000
TZNAME:AEST
DTSTART:20250405T160000
END:STANDARD
BEGIN:DAYLIGHT
TZOFFSETFROM:+1000
TZOFFSETTO:+1100
TZNAME:AEDT
DTSTART:20251004T160000
END:DAYLIGHT
BEGIN:STANDARD
TZOFFSETFROM:+1100
TZOFFSETTO:+1000
TZNAME:AEST
DTSTART:20260404T160000
END:STANDARD
BEGIN:DAYLIGHT
TZOFFSETFROM:+1000
TZOFFSETTO:+1100
TZNAME:AEDT
DTSTART:20261003T160000
END:DAYLIGHT
BEGIN:STANDARD
TZOFFSETFROM:+1100
TZOFFSETTO:+1000
TZNAME:AEST
DTSTART:20270403T160000
END:STANDARD
BEGIN:DAYLIGHT
TZOFFSETFROM:+1000
TZOFFSETTO:+1100
TZNAME:AEDT
DTSTART:20271002T160000
END:DAYLIGHT
END:VTIMEZONE
BEGIN:VEVENT
DTSTART;TZID=Australia/Sydney:20260305T190000
DTEND;TZID=Australia/Sydney:20260305T210000
DTSTAMP:20260426T023427
CREATED:20241227T125404Z
LAST-MODIFIED:20260109T114146Z
UID:9400-1772737200-1772744400@sydneynorthscouts.com
SUMMARY:RRC Executive meeting
DESCRIPTION:
URL:https://sydneynorthscouts.com/event/rrc-executive-meeting-6/
LOCATION:Sydney North Region Support Hub\, cnr Roseville Ave & Martin Lane\, Roseville\, NSW\, 2069\, Australia
CATEGORIES:Region Rover Council Meetings (RRC),Rover Scouts
END:VEVENT
BEGIN:VEVENT
DTSTART;TZID=Australia/Sydney:20260322T180000
DTEND;TZID=Australia/Sydney:20260322T210000
DTSTAMP:20260426T023427
CREATED:20251217T083020Z
LAST-MODIFIED:20260110T064433Z
UID:10809-1774202400-1774213200@sydneynorthscouts.com
SUMMARY:Region Rover Council Annual General Meeting
DESCRIPTION:All members and supporters of the Rover section are encouraged to attend the AGM\, see the “Year in Review” video\, hear about the year’s highlights\, find out who will receive the Warawara Award for 2026\, and elect a new executive team for 2026-27. \n\n\n\nFree BBQ from 5.30pm. \n\n\n\nFull uniform should be worn. \n\n\n\nFacebook event: https://www.facebook.com/events/1585853359078708
URL:https://sydneynorthscouts.com/event/region-rover-council-annual-general-meeting/
LOCATION:2nd Gordon Scout Hall\, 32c Rosedale Rd\, Gordon\, NSW
CATEGORIES:Region Rover Council Meetings (RRC),Rover Scouts
END:VEVENT
BEGIN:VEVENT
DTSTART;TZID=Australia/Sydney:20260326T183000
DTEND;TZID=Australia/Sydney:20260326T203000
DTSTAMP:20260426T023427
CREATED:20260109T085812Z
LAST-MODIFIED:20260109T085814Z
UID:10905-1774549800-1774557000@sydneynorthscouts.com
SUMMARY:VOC 2 meeting
DESCRIPTION:
URL:https://sydneynorthscouts.com/event/voc-2-meeting-3/
LOCATION:Barra Brui Activity Hall\, Barra Brui Scout Hall\, Hunter St\, St Ives\, NSW\, 2075\, Australia
CATEGORIES:Activities,Venturer Scouts,Rover Scouts,Scout Fellowship
END:VEVENT
END:VCALENDAR