BEGIN:VCALENDAR
VERSION:2.0
PRODID:-//Sydney North Region Scouts - ECPv6.15.20//NONSGML v1.0//EN
CALSCALE:GREGORIAN
METHOD:PUBLISH
X-ORIGINAL-URL:https://sydneynorthscouts.com
X-WR-CALDESC:Events for Sydney North Region Scouts
REFRESH-INTERVAL;VALUE=DURATION:PT1H
X-Robots-Tag:noindex
X-PUBLISHED-TTL:PT1H
BEGIN:VTIMEZONE
TZID:Australia/Sydney
BEGIN:STANDARD
TZOFFSETFROM:+1100
TZOFFSETTO:+1000
TZNAME:AEST
DTSTART:20230401T160000
END:STANDARD
BEGIN:DAYLIGHT
TZOFFSETFROM:+1000
TZOFFSETTO:+1100
TZNAME:AEDT
DTSTART:20230930T160000
END:DAYLIGHT
BEGIN:STANDARD
TZOFFSETFROM:+1100
TZOFFSETTO:+1000
TZNAME:AEST
DTSTART:20240406T160000
END:STANDARD
BEGIN:DAYLIGHT
TZOFFSETFROM:+1000
TZOFFSETTO:+1100
TZNAME:AEDT
DTSTART:20241005T160000
END:DAYLIGHT
BEGIN:STANDARD
TZOFFSETFROM:+1100
TZOFFSETTO:+1000
TZNAME:AEST
DTSTART:20250405T160000
END:STANDARD
BEGIN:DAYLIGHT
TZOFFSETFROM:+1000
TZOFFSETTO:+1100
TZNAME:AEDT
DTSTART:20251004T160000
END:DAYLIGHT
END:VTIMEZONE
BEGIN:VEVENT
DTSTART;TZID=Australia/Sydney:20240722T000000
DTEND;TZID=Australia/Sydney:20240801T235959
DTSTAMP:20260422T220210
CREATED:20240312T035120Z
LAST-MODIFIED:20240420T095037Z
UID:8505-1721606400-1722556799@sydneynorthscouts.com
SUMMARY:Roverway 2024  - Norway
DESCRIPTION:Roverway 2024 will take place in Norway\, gathering thousands of Rovers from Europe and across the world. During the first days\, the participants will gather in smaller groups and get the opportunity to explore Norway on a self-chosen path. These will run throughout Southern Norway and end in a joint camp in the Stavanger area. \n\n\n\nRoverway is an international event for Rangers and Rovers by WAGGGS and WOSM Europe\, hosted by the Guides and Scouts of Norway. \n\n\n\nAustralian Contingent Facebook page – https://www.facebook.com/ausroverway \n\n\n\nEvent Facebook page – https://www.facebook.com/roverway2024
URL:https://sydneynorthscouts.com/event/roverway/
CATEGORIES:Rover Scouts
END:VEVENT
BEGIN:VEVENT
DTSTART;TZID=Australia/Sydney:20240803T130000
DTEND;TZID=Australia/Sydney:20240803T160000
DTSTAMP:20260422T220210
CREATED:20240312T031611Z
LAST-MODIFIED:20240312T031613Z
UID:8482-1722690000-1722700800@sydneynorthscouts.com
SUMMARY:NSW State Rover Council meeting
DESCRIPTION:Venue TBC
URL:https://sydneynorthscouts.com/event/nsw-state-rover-council-meeting-12/
CATEGORIES:State Rover Council Meetings,Rover Scouts
END:VEVENT
BEGIN:VEVENT
DTSTART;TZID=Australia/Sydney:20240804T190000
DTEND;TZID=Australia/Sydney:20240804T210000
DTSTAMP:20260422T220210
CREATED:20240312T032559Z
LAST-MODIFIED:20240312T032618Z
UID:8492-1722798000-1722805200@sydneynorthscouts.com
SUMMARY:Sydney North Region Rover Council meeting
DESCRIPTION:
URL:https://sydneynorthscouts.com/event/sydney-north-region-rover-council-meeting-8/
LOCATION:2nd Gordon Scout Hall\, 32c Rosedale Rd\, Gordon\, NSW
CATEGORIES:Region Rover Council Meetings (RRC),Rover Scouts
ATTACH;FMTTYPE=image/jpeg:https://sydneynorthscouts.com/wp-content/uploads/2022/03/roverhires2-scaled.jpg
END:VEVENT
BEGIN:VEVENT
DTSTART;TZID=Australia/Sydney:20240829T183000
DTEND;TZID=Australia/Sydney:20240829T203000
DTSTAMP:20260422T220210
CREATED:20240810T082107Z
LAST-MODIFIED:20240810T082111Z
UID:8936-1724956200-1724963400@sydneynorthscouts.com
SUMMARY:VOC 2 meeting
DESCRIPTION:
URL:https://sydneynorthscouts.com/event/voc-2-meeting-8/
LOCATION:Barra Brui Activity Hall\, Barra Brui Scout Hall\, Hunter St\, St Ives\, NSW\, 2075\, Australia
CATEGORIES:Activities,Venturer Scouts,Rover Scouts,Scout Fellowship
END:VEVENT
END:VCALENDAR