BEGIN:VCALENDAR
VERSION:2.0
PRODID:-//Sydney North Region Scouts - ECPv6.15.20//NONSGML v1.0//EN
CALSCALE:GREGORIAN
METHOD:PUBLISH
X-ORIGINAL-URL:https://sydneynorthscouts.com
X-WR-CALDESC:Events for Sydney North Region Scouts
REFRESH-INTERVAL;VALUE=DURATION:PT1H
X-Robots-Tag:noindex
X-PUBLISHED-TTL:PT1H
BEGIN:VTIMEZONE
TZID:Australia/Sydney
BEGIN:STANDARD
TZOFFSETFROM:+1100
TZOFFSETTO:+1000
TZNAME:AEST
DTSTART:20230401T160000
END:STANDARD
BEGIN:DAYLIGHT
TZOFFSETFROM:+1000
TZOFFSETTO:+1100
TZNAME:AEDT
DTSTART:20230930T160000
END:DAYLIGHT
BEGIN:STANDARD
TZOFFSETFROM:+1100
TZOFFSETTO:+1000
TZNAME:AEST
DTSTART:20240406T160000
END:STANDARD
BEGIN:DAYLIGHT
TZOFFSETFROM:+1000
TZOFFSETTO:+1100
TZNAME:AEDT
DTSTART:20241005T160000
END:DAYLIGHT
BEGIN:STANDARD
TZOFFSETFROM:+1100
TZOFFSETTO:+1000
TZNAME:AEST
DTSTART:20250405T160000
END:STANDARD
BEGIN:DAYLIGHT
TZOFFSETFROM:+1000
TZOFFSETTO:+1100
TZNAME:AEDT
DTSTART:20251004T160000
END:DAYLIGHT
END:VTIMEZONE
BEGIN:VEVENT
DTSTART;TZID=Australia/Sydney:20240509T190000
DTEND;TZID=Australia/Sydney:20240509T210000
DTSTAMP:20260426T023139
CREATED:20240311T234204Z
LAST-MODIFIED:20240311T234218Z
UID:8450-1715281200-1715288400@sydneynorthscouts.com
SUMMARY:RRC Executive meeting
DESCRIPTION:
URL:https://sydneynorthscouts.com/event/rrc-executive-meeting-9/
LOCATION:Sydney North Region Office\, 2 Ellis Street\, Chatswood\, NSW\, 2067\, Australia
CATEGORIES:Region Rover Council Meetings (RRC),Rover Scouts
END:VEVENT
BEGIN:VEVENT
DTSTART;TZID=Australia/Sydney:20240510T000000
DTEND;TZID=Australia/Sydney:20240512T235959
DTSTAMP:20260426T023139
CREATED:20240311T235113Z
LAST-MODIFIED:20240311T235656Z
UID:8464-1715299200-1715558399@sydneynorthscouts.com
SUMMARY:NSW Rover Bush Dance
DESCRIPTION:Welcome to the 2024 NSW State Bush Dance – The Ettamogah\, hosted by 1st Albury Rovers! \n\n\n\n \n\n\n\nLocation: Table Top Hotel (just a short 15 minutes drive from Albury) \n\n\n\nTicket Prices: TBA (Plus add-ons for expeditions & accommodation) \n\n\n\nThe weekend is packed with all sorts of adventures including expeditions to the beloved Bilsons or even a relaxing visit to the Hume Weir or for the chocolate-loving fellas a trip to the chocolate and whiskey factory… there is a sight to see for all. \n\n\n\nThe theme of the dance relates to the venue\, which is based on the classic Ettamogah Mob cartoons by Ken Maynard\, so pull out your denim shorts and your best dress flanny. \n\n\n\nHold your horses and await for more information to come! \n\n\n\n \n\n\n\nEvent Facebook page – https://www.facebook.com/events/1750533722091479
URL:https://sydneynorthscouts.com/event/nsw-rover-bush-dance/
CATEGORIES:Rover Scouts
END:VEVENT
BEGIN:VEVENT
DTSTART;TZID=Australia/Sydney:20240516T190000
DTEND;TZID=Australia/Sydney:20240516T210000
DTSTAMP:20260426T023139
CREATED:20240312T004013Z
LAST-MODIFIED:20240312T023602Z
UID:8473-1715886000-1715893200@sydneynorthscouts.com
SUMMARY:CLBAM - Crew/Unit Leader & RA meeting
DESCRIPTION:The first of two meetings to share ideas and issues among the Region’s Crew/Unit Leaders\, Rover Advisers\, and newly-elected RRC executive team. \n\n\n\nVenue: TBA
URL:https://sydneynorthscouts.com/event/clbam-crew-unit-leader-ra-meeting/
CATEGORIES:Rover Scouts
END:VEVENT
END:VCALENDAR