BEGIN:VCALENDAR
VERSION:2.0
PRODID:-//Sydney North Region Scouts - ECPv6.15.20//NONSGML v1.0//EN
CALSCALE:GREGORIAN
METHOD:PUBLISH
X-WR-CALNAME:Sydney North Region Scouts
X-ORIGINAL-URL:https://sydneynorthscouts.com
X-WR-CALDESC:Events for Sydney North Region Scouts
REFRESH-INTERVAL;VALUE=DURATION:PT1H
X-Robots-Tag:noindex
X-PUBLISHED-TTL:PT1H
BEGIN:VTIMEZONE
TZID:Australia/Sydney
BEGIN:STANDARD
TZOFFSETFROM:+1100
TZOFFSETTO:+1000
TZNAME:AEST
DTSTART:20250405T160000
END:STANDARD
BEGIN:DAYLIGHT
TZOFFSETFROM:+1000
TZOFFSETTO:+1100
TZNAME:AEDT
DTSTART:20251004T160000
END:DAYLIGHT
BEGIN:STANDARD
TZOFFSETFROM:+1100
TZOFFSETTO:+1000
TZNAME:AEST
DTSTART:20260404T160000
END:STANDARD
BEGIN:DAYLIGHT
TZOFFSETFROM:+1000
TZOFFSETTO:+1100
TZNAME:AEDT
DTSTART:20261003T160000
END:DAYLIGHT
BEGIN:STANDARD
TZOFFSETFROM:+1100
TZOFFSETTO:+1000
TZNAME:AEST
DTSTART:20270403T160000
END:STANDARD
BEGIN:DAYLIGHT
TZOFFSETFROM:+1000
TZOFFSETTO:+1100
TZNAME:AEDT
DTSTART:20271002T160000
END:DAYLIGHT
END:VTIMEZONE
BEGIN:VEVENT
DTSTART;TZID=Australia/Sydney:20260605T000000
DTEND;TZID=Australia/Sydney:20260608T235959
DTSTAMP:20260420T160633
CREATED:20260109T115618Z
LAST-MODIFIED:20260109T115801Z
UID:10936-1780617600-1780963199@sydneynorthscouts.com
SUMMARY:Mudbash
DESCRIPTION:Mudbash is an annual motorsport event run by the Rover section of the Victorian Branch of Scouts Australia\, held annually on the King’s Birthday long weekend in June at Mafeking Rover Park. Mudbash attracts hundreds of Rovers from all around Australia\, to spectate and socialise. \n\n\n\nEvent Facebook page – https://www.facebook.com/Mudbash
URL:https://sydneynorthscouts.com/event/mudbash-3/
LOCATION:Mafeking Rover Park\, 338 Caveat-Dropmore Rd\, Caveat\, Victoria\, 3660\, Australia
CATEGORIES:Rover Scouts
END:VEVENT
END:VCALENDAR