BEGIN:VCALENDAR
VERSION:2.0
PRODID:-//Sydney North Region Scouts - ECPv6.15.20//NONSGML v1.0//EN
CALSCALE:GREGORIAN
METHOD:PUBLISH
X-ORIGINAL-URL:https://sydneynorthscouts.com
X-WR-CALDESC:Events for Sydney North Region Scouts
REFRESH-INTERVAL;VALUE=DURATION:PT1H
X-Robots-Tag:noindex
X-PUBLISHED-TTL:PT1H
BEGIN:VTIMEZONE
TZID:Australia/Sydney
BEGIN:STANDARD
TZOFFSETFROM:+1100
TZOFFSETTO:+1000
TZNAME:AEST
DTSTART:20250405T160000
END:STANDARD
BEGIN:DAYLIGHT
TZOFFSETFROM:+1000
TZOFFSETTO:+1100
TZNAME:AEDT
DTSTART:20251004T160000
END:DAYLIGHT
BEGIN:STANDARD
TZOFFSETFROM:+1100
TZOFFSETTO:+1000
TZNAME:AEST
DTSTART:20260404T160000
END:STANDARD
BEGIN:DAYLIGHT
TZOFFSETFROM:+1000
TZOFFSETTO:+1100
TZNAME:AEDT
DTSTART:20261003T160000
END:DAYLIGHT
BEGIN:STANDARD
TZOFFSETFROM:+1100
TZOFFSETTO:+1000
TZNAME:AEST
DTSTART:20270403T160000
END:STANDARD
BEGIN:DAYLIGHT
TZOFFSETFROM:+1000
TZOFFSETTO:+1100
TZNAME:AEDT
DTSTART:20271002T160000
END:DAYLIGHT
END:VTIMEZONE
BEGIN:VEVENT
DTSTART;TZID=Australia/Sydney:20260221T090000
DTEND;TZID=Australia/Sydney:20260221T170000
DTSTAMP:20260421T120347
CREATED:20251004T125353Z
LAST-MODIFIED:20251218T025517Z
UID:10606-1771664400-1771693200@sydneynorthscouts.com
SUMMARY:"Top Gear: Roventure Special"
DESCRIPTION:Brought to you by Forest Rovers \n\n\n\nRev up your engines for Top Gear: Roventure Special! For 2026\, the Sydney North Roventure takes the form of a one day only high-octane extravaganza somewhere in Sydney. \n\n\n\nSave the date\, start preparing your Crunits\, and be sure to mark yourself interested or going to stay in the loop with updates! \n\n\n\nFacebook Event: https://www.facebook.com/events/826931956430124
URL:https://sydneynorthscouts.com/event/top-gear-roventure-special/
LOCATION:NSW
CATEGORIES:Venturer Scouts,Rover Scouts
END:VEVENT
END:VCALENDAR