BEGIN:VCALENDAR
VERSION:2.0
PRODID:-//Sydney North Region Scouts - ECPv6.15.20//NONSGML v1.0//EN
CALSCALE:GREGORIAN
METHOD:PUBLISH
X-WR-CALNAME:Sydney North Region Scouts
X-ORIGINAL-URL:https://sydneynorthscouts.com
X-WR-CALDESC:Events for Sydney North Region Scouts
REFRESH-INTERVAL;VALUE=DURATION:PT1H
X-Robots-Tag:noindex
X-PUBLISHED-TTL:PT1H
BEGIN:VTIMEZONE
TZID:Australia/Sydney
BEGIN:STANDARD
TZOFFSETFROM:+1100
TZOFFSETTO:+1000
TZNAME:AEST
DTSTART:20240406T160000
END:STANDARD
BEGIN:DAYLIGHT
TZOFFSETFROM:+1000
TZOFFSETTO:+1100
TZNAME:AEDT
DTSTART:20241005T160000
END:DAYLIGHT
BEGIN:STANDARD
TZOFFSETFROM:+1100
TZOFFSETTO:+1000
TZNAME:AEST
DTSTART:20250405T160000
END:STANDARD
BEGIN:DAYLIGHT
TZOFFSETFROM:+1000
TZOFFSETTO:+1100
TZNAME:AEDT
DTSTART:20251004T160000
END:DAYLIGHT
BEGIN:STANDARD
TZOFFSETFROM:+1100
TZOFFSETTO:+1000
TZNAME:AEST
DTSTART:20260404T160000
END:STANDARD
BEGIN:DAYLIGHT
TZOFFSETFROM:+1000
TZOFFSETTO:+1100
TZNAME:AEDT
DTSTART:20261003T160000
END:DAYLIGHT
END:VTIMEZONE
BEGIN:VEVENT
DTSTART;TZID=Australia/Sydney:20251125T193000
DTEND;TZID=Australia/Sydney:20251125T210000
DTSTAMP:20260420T181341
CREATED:20250120T104916Z
LAST-MODIFIED:20250202T041101Z
UID:9550-1764099000-1764104400@sydneynorthscouts.com
SUMMARY:Network Meeting for Cub Leaders
DESCRIPTION:This is a chance for Cub Leaders from the Sydeny North Region to come together\, exchange ideas\, share programs ideas and activities. \n\n\n\nLocation: Sydney North Region Office \n\n\n\nIf you would like more information please contact Cassie.donald@nsw.scouts.com.au
URL:https://sydneynorthscouts.com/event/network-meeting-for-cub-leaders-3/
LOCATION:NSW
CATEGORIES:Cub Scouts
END:VEVENT
BEGIN:VEVENT
DTSTART;TZID=Australia/Sydney:20251125T201500
DTEND;TZID=Australia/Sydney:20251125T213000
DTSTAMP:20260420T181341
CREATED:20250113T005722Z
LAST-MODIFIED:20251103T043145Z
UID:9523-1764101700-1764106200@sydneynorthscouts.com
SUMMARY:Lower North Shore/Turrumburra Mindari
DESCRIPTION:
URL:https://sydneynorthscouts.com/event/lower-north-shore-turrumburra-mindari-10/
LOCATION:Bridgeview Hotel\, 580 Willoughby Rd\, Willoughby\, nsw\, 2068\, Australia
CATEGORIES:Mindari
END:VEVENT
END:VCALENDAR