BEGIN:VCALENDAR
VERSION:2.0
PRODID:-//Sydney North Region Scouts - ECPv6.15.20//NONSGML v1.0//EN
CALSCALE:GREGORIAN
METHOD:PUBLISH
X-WR-CALNAME:Sydney North Region Scouts
X-ORIGINAL-URL:https://sydneynorthscouts.com
X-WR-CALDESC:Events for Sydney North Region Scouts
REFRESH-INTERVAL;VALUE=DURATION:PT1H
X-Robots-Tag:noindex
X-PUBLISHED-TTL:PT1H
BEGIN:VTIMEZONE
TZID:Australia/Sydney
BEGIN:STANDARD
TZOFFSETFROM:+1100
TZOFFSETTO:+1000
TZNAME:AEST
DTSTART:20240406T160000
END:STANDARD
BEGIN:DAYLIGHT
TZOFFSETFROM:+1000
TZOFFSETTO:+1100
TZNAME:AEDT
DTSTART:20241005T160000
END:DAYLIGHT
BEGIN:STANDARD
TZOFFSETFROM:+1100
TZOFFSETTO:+1000
TZNAME:AEST
DTSTART:20250405T160000
END:STANDARD
BEGIN:DAYLIGHT
TZOFFSETFROM:+1000
TZOFFSETTO:+1100
TZNAME:AEDT
DTSTART:20251004T160000
END:DAYLIGHT
BEGIN:STANDARD
TZOFFSETFROM:+1100
TZOFFSETTO:+1000
TZNAME:AEST
DTSTART:20260404T160000
END:STANDARD
BEGIN:DAYLIGHT
TZOFFSETFROM:+1000
TZOFFSETTO:+1100
TZNAME:AEDT
DTSTART:20261003T160000
END:DAYLIGHT
END:VTIMEZONE
BEGIN:VEVENT
DTSTART;TZID=Australia/Sydney:20251116T090000
DTEND;TZID=Australia/Sydney:20251116T150000
DTSTAMP:20260420T081638
CREATED:20250120T104810Z
LAST-MODIFIED:20250206T024437Z
UID:9548-1763283600-1763305200@sydneynorthscouts.com
SUMMARY:Region Personal Development Course for Cubs
DESCRIPTION:The Cub Scout personal development course offers interested Cub Scouts an opportunity to meet new people and develop their own communication\, teamwork and leadership skills.  \n\n\n\nThis course is designed for youth members who are aged 10 years old.  \n\n\n\nWe will be completing various activities which some might be done outside. Please come prepared to be outside\, potentially in the weather and bring a day pack with items you would need for the day which should include a hat\, snacks and water bottle. The youth members need to attend the full day to achieve their personal development badge.  \n\n\n\nLunch is included\, but if your youth member does get hungry please provide other food for them.  \n\n\n\nPlease note:  \n\n\n\n\nIf numbers exceed the nominal limit\, preference will be given to the older youth members and prospective peak award recipients. \n\n\n\n\n\nIf 4 or more youth members attend from the same scout group registered\, an adult leader will be asked to attend to assist the course facilitator. \n\n\n\n\nCost $25.00 per youth member ( which includes lunch)  \n\n\n\nStart time: 8:55am for 9am start  \n\n\n\nEnd time: 3pm  \n\n\n\nLocation: TBA   \n\n\n\nCourse limit to 36 youth members  \n\n\n\nOpening date for registration 13.10.25   \n\n\n\nClosing Date for registration 2.11.25 \n\n\n\nif you have any questions please direct them to Cassie.donald@nsw.scouts.com.au  \n\n\n\n				Registrations for this event have closed.
URL:https://sydneynorthscouts.com/event/region-personal-development-course-for-cubs-3/
LOCATION:NSW
CATEGORIES:Cub Scouts
ORGANIZER;CN="Cassie Donald":MAILTO:cassie.donald@nsw.scouts.com.au
END:VEVENT
END:VCALENDAR