BEGIN:VCALENDAR
VERSION:2.0
PRODID:-//Sydney North Region Scouts - ECPv6.15.20//NONSGML v1.0//EN
CALSCALE:GREGORIAN
METHOD:PUBLISH
X-WR-CALNAME:Sydney North Region Scouts
X-ORIGINAL-URL:https://sydneynorthscouts.com
X-WR-CALDESC:Events for Sydney North Region Scouts
REFRESH-INTERVAL;VALUE=DURATION:PT1H
X-Robots-Tag:noindex
X-PUBLISHED-TTL:PT1H
BEGIN:VTIMEZONE
TZID:Australia/Sydney
BEGIN:STANDARD
TZOFFSETFROM:+1100
TZOFFSETTO:+1000
TZNAME:AEST
DTSTART:20230401T160000
END:STANDARD
BEGIN:DAYLIGHT
TZOFFSETFROM:+1000
TZOFFSETTO:+1100
TZNAME:AEDT
DTSTART:20230930T160000
END:DAYLIGHT
BEGIN:STANDARD
TZOFFSETFROM:+1100
TZOFFSETTO:+1000
TZNAME:AEST
DTSTART:20240406T160000
END:STANDARD
BEGIN:DAYLIGHT
TZOFFSETFROM:+1000
TZOFFSETTO:+1100
TZNAME:AEDT
DTSTART:20241005T160000
END:DAYLIGHT
BEGIN:STANDARD
TZOFFSETFROM:+1100
TZOFFSETTO:+1000
TZNAME:AEST
DTSTART:20250405T160000
END:STANDARD
BEGIN:DAYLIGHT
TZOFFSETFROM:+1000
TZOFFSETTO:+1100
TZNAME:AEDT
DTSTART:20251004T160000
END:DAYLIGHT
END:VTIMEZONE
BEGIN:VEVENT
DTSTART;TZID=Australia/Sydney:20241020T100000
DTEND;TZID=Australia/Sydney:20241020T150000
DTSTAMP:20260422T031425
CREATED:20240312T041552Z
LAST-MODIFIED:20240922T051800Z
UID:8516-1729418400-1729436400@sydneynorthscouts.com
SUMMARY:Kalang Kup
DESCRIPTION:The Kalang Kup is Sydney North’s annual inter-Crew sports comp day. Traditionally soccer\, sometimes Oztag\, frisbee\, netball\, or… for 2024\, it’s a throwback sport to our high school days of Speedaway! \n\n\n\nHold up… you’re not familiar with Speedaway? \n\n\n\nWell\, it’s a mix of soccer\, rugby\, and netball all in one. Confused\, don’t worry a rule book will soon follow. \n\n\n\nStart training with your Unit/Crew/teams now ‘cos there are great prizes to be won…  \n\n\n\nBarra Brui Oval\, St Ives \n\n\n\nFacebook Event: https://www.facebook.com/events/956281512918005
URL:https://sydneynorthscouts.com/event/kalang-kup-3/
LOCATION:NSW
CATEGORIES:Rover Scouts
END:VEVENT
END:VCALENDAR