BEGIN:VCALENDAR
VERSION:2.0
PRODID:-//Sydney North Region Scouts - ECPv6.15.20//NONSGML v1.0//EN
CALSCALE:GREGORIAN
METHOD:PUBLISH
X-WR-CALNAME:Sydney North Region Scouts
X-ORIGINAL-URL:https://sydneynorthscouts.com
X-WR-CALDESC:Events for Sydney North Region Scouts
REFRESH-INTERVAL;VALUE=DURATION:PT1H
X-Robots-Tag:noindex
X-PUBLISHED-TTL:PT1H
BEGIN:VTIMEZONE
TZID:Australia/Sydney
BEGIN:STANDARD
TZOFFSETFROM:+1100
TZOFFSETTO:+1000
TZNAME:AEST
DTSTART:20230401T160000
END:STANDARD
BEGIN:DAYLIGHT
TZOFFSETFROM:+1000
TZOFFSETTO:+1100
TZNAME:AEDT
DTSTART:20230930T160000
END:DAYLIGHT
BEGIN:STANDARD
TZOFFSETFROM:+1100
TZOFFSETTO:+1000
TZNAME:AEST
DTSTART:20240406T160000
END:STANDARD
BEGIN:DAYLIGHT
TZOFFSETFROM:+1000
TZOFFSETTO:+1100
TZNAME:AEDT
DTSTART:20241005T160000
END:DAYLIGHT
BEGIN:STANDARD
TZOFFSETFROM:+1100
TZOFFSETTO:+1000
TZNAME:AEST
DTSTART:20250405T160000
END:STANDARD
BEGIN:DAYLIGHT
TZOFFSETFROM:+1000
TZOFFSETTO:+1100
TZNAME:AEDT
DTSTART:20251004T160000
END:DAYLIGHT
END:VTIMEZONE
BEGIN:VEVENT
DTSTART;TZID=Australia/Sydney:20240607T000000
DTEND;TZID=Australia/Sydney:20240610T235959
DTSTAMP:20260422T001121
CREATED:20240312T033549Z
LAST-MODIFIED:20240312T033642Z
UID:8498-1717718400-1718063999@sydneynorthscouts.com
SUMMARY:Mudbash
DESCRIPTION:Mudbash is an annual motorsport event run by the Rover section of the Victorian Branch of Scouts Australia\, held annually on the King’s Birthday long weekend in June at Mafeking Rover Park. \n\n\n\nEvent Facebook page – https://www.facebook.com/Mudbash
URL:https://sydneynorthscouts.com/event/mudbash-4/
LOCATION:Mafeking Rover Park\, 338 Caveat-Dropmore Rd\, Caveat\, Victoria\, 3660\, Australia
CATEGORIES:Rover Scouts
ATTACH;FMTTYPE=image/jpeg:https://sydneynorthscouts.com/wp-content/uploads/2024/03/Mudbash_2024-scaled.jpg
END:VEVENT
END:VCALENDAR