BEGIN:VCALENDAR
VERSION:2.0
PRODID:-//Sydney North Region Scouts - ECPv6.15.20//NONSGML v1.0//EN
CALSCALE:GREGORIAN
METHOD:PUBLISH
X-WR-CALNAME:Sydney North Region Scouts
X-ORIGINAL-URL:https://sydneynorthscouts.com
X-WR-CALDESC:Events for Sydney North Region Scouts
REFRESH-INTERVAL;VALUE=DURATION:PT1H
X-Robots-Tag:noindex
X-PUBLISHED-TTL:PT1H
BEGIN:VTIMEZONE
TZID:Australia/Sydney
BEGIN:STANDARD
TZOFFSETFROM:+1100
TZOFFSETTO:+1000
TZNAME:AEST
DTSTART:20230401T160000
END:STANDARD
BEGIN:DAYLIGHT
TZOFFSETFROM:+1000
TZOFFSETTO:+1100
TZNAME:AEDT
DTSTART:20230930T160000
END:DAYLIGHT
BEGIN:STANDARD
TZOFFSETFROM:+1100
TZOFFSETTO:+1000
TZNAME:AEST
DTSTART:20240406T160000
END:STANDARD
BEGIN:DAYLIGHT
TZOFFSETFROM:+1000
TZOFFSETTO:+1100
TZNAME:AEDT
DTSTART:20241005T160000
END:DAYLIGHT
BEGIN:STANDARD
TZOFFSETFROM:+1100
TZOFFSETTO:+1000
TZNAME:AEST
DTSTART:20250405T160000
END:STANDARD
BEGIN:DAYLIGHT
TZOFFSETFROM:+1000
TZOFFSETTO:+1100
TZNAME:AEDT
DTSTART:20251004T160000
END:DAYLIGHT
END:VTIMEZONE
BEGIN:VEVENT
DTSTART;TZID=Australia/Sydney:20240622T140000
DTEND;TZID=Australia/Sydney:20240622T170000
DTSTAMP:20260426T022925
CREATED:20240613T135927Z
LAST-MODIFIED:20240711T060200Z
UID:8815-1719064800-1719075600@sydneynorthscouts.com
SUMMARY:Garigal Cubs (only) District Hike - CANCELLED DUE TO WET WEATHER
DESCRIPTION:Garigal District Cubs (only) are invited to attend District Cub Hike from Manly Dam to 1st Allambie Heights Scout Hall (approx 2pm-5pm).Light refreshments will be served at the Scout Hall at end of Hike (sausage sizzle and chicken noodles) – please bring a cup/bowl and cutlery for noodles.  \n\n\n\nAttendees must wear a wide brimmed hat\, sturdy walking shoes\, bring a warm jacket\, headtorch and consider rain gear\, as appropriate. \n\n\n\n\n\n\n				Registrations for this event have closed. \n				\n				\n				\n			\n\n\n\n\n\n\n\n\n\n\n\n				Registrations for this event have closed.
URL:https://sydneynorthscouts.com/event/garigal-cubs-only-district-hike/
LOCATION:Manly Dam\, 107 King Street\,\, Manly Vale\, NSW\, 2093
CATEGORIES:Cub Scouts
END:VEVENT
END:VCALENDAR