BEGIN:VCALENDAR
VERSION:2.0
PRODID:-//Sydney North Region Scouts - ECPv6.15.20//NONSGML v1.0//EN
CALSCALE:GREGORIAN
METHOD:PUBLISH
X-WR-CALNAME:Sydney North Region Scouts
X-ORIGINAL-URL:https://sydneynorthscouts.com
X-WR-CALDESC:Events for Sydney North Region Scouts
REFRESH-INTERVAL;VALUE=DURATION:PT1H
X-Robots-Tag:noindex
X-PUBLISHED-TTL:PT1H
BEGIN:VTIMEZONE
TZID:Australia/Sydney
BEGIN:STANDARD
TZOFFSETFROM:+1100
TZOFFSETTO:+1000
TZNAME:AEST
DTSTART:20230401T160000
END:STANDARD
BEGIN:DAYLIGHT
TZOFFSETFROM:+1000
TZOFFSETTO:+1100
TZNAME:AEDT
DTSTART:20230930T160000
END:DAYLIGHT
BEGIN:STANDARD
TZOFFSETFROM:+1100
TZOFFSETTO:+1000
TZNAME:AEST
DTSTART:20240406T160000
END:STANDARD
BEGIN:DAYLIGHT
TZOFFSETFROM:+1000
TZOFFSETTO:+1100
TZNAME:AEDT
DTSTART:20241005T160000
END:DAYLIGHT
BEGIN:STANDARD
TZOFFSETFROM:+1100
TZOFFSETTO:+1000
TZNAME:AEST
DTSTART:20250405T160000
END:STANDARD
BEGIN:DAYLIGHT
TZOFFSETFROM:+1000
TZOFFSETTO:+1100
TZNAME:AEDT
DTSTART:20251004T160000
END:DAYLIGHT
END:VTIMEZONE
BEGIN:VEVENT
DTSTART;TZID=Australia/Sydney:20240616T090000
DTEND;TZID=Australia/Sydney:20240616T150000
DTSTAMP:20260424T165559
CREATED:20240526T113204Z
LAST-MODIFIED:20240531T070136Z
UID:8742-1718528400-1718550000@sydneynorthscouts.com
SUMMARY:OAS Skills Day for Cubs
DESCRIPTION:This day is aimed at Cubs to participate in OAS Skills to complete or part complete some of the skill areas. There will be a variety of activities for the youth members to do. \n\n\n\nLocation: Berowra Scout Hall \n\n\n\nCost: $20.00 participation fee \n\n\n\nWhat to Bring: The youth members and leaders will need to bring the following\, Morning Tea\, and lunch if they don’t like sausage sizzle\, a water bottle. Everyone needs to wear full uniform. \n\n\n\nhttps://events.nsw.scouts.com.au/event/1698 \n\n\n\n				Registrations for this event have closed.
URL:https://sydneynorthscouts.com/event/oas-skills-day-for-cubs/
LOCATION:NSW
CATEGORIES:Cub Scouts
END:VEVENT
END:VCALENDAR