BEGIN:VCALENDAR
VERSION:2.0
PRODID:-//Sydney North Region Scouts - ECPv6.15.20//NONSGML v1.0//EN
CALSCALE:GREGORIAN
METHOD:PUBLISH
X-ORIGINAL-URL:https://sydneynorthscouts.com
X-WR-CALDESC:Events for Sydney North Region Scouts
REFRESH-INTERVAL;VALUE=DURATION:PT1H
X-Robots-Tag:noindex
X-PUBLISHED-TTL:PT1H
BEGIN:VTIMEZONE
TZID:Australia/Sydney
BEGIN:STANDARD
TZOFFSETFROM:+1100
TZOFFSETTO:+1000
TZNAME:AEST
DTSTART:20250405T160000
END:STANDARD
BEGIN:DAYLIGHT
TZOFFSETFROM:+1000
TZOFFSETTO:+1100
TZNAME:AEDT
DTSTART:20251004T160000
END:DAYLIGHT
BEGIN:STANDARD
TZOFFSETFROM:+1100
TZOFFSETTO:+1000
TZNAME:AEST
DTSTART:20260404T160000
END:STANDARD
BEGIN:DAYLIGHT
TZOFFSETFROM:+1000
TZOFFSETTO:+1100
TZNAME:AEDT
DTSTART:20261003T160000
END:DAYLIGHT
BEGIN:STANDARD
TZOFFSETFROM:+1100
TZOFFSETTO:+1000
TZNAME:AEST
DTSTART:20270403T160000
END:STANDARD
BEGIN:DAYLIGHT
TZOFFSETFROM:+1000
TZOFFSETTO:+1100
TZNAME:AEDT
DTSTART:20271002T160000
END:DAYLIGHT
END:VTIMEZONE
BEGIN:VEVENT
DTSTART;TZID=Australia/Sydney:20260313T180000
DTEND;TZID=Australia/Sydney:20260315T120000
DTSTAMP:20260420T150032
CREATED:20260226T034239Z
LAST-MODIFIED:20260226T034243Z
UID:11339-1773424800-1773576000@sydneynorthscouts.com
SUMMARY:Garigial District Cub Camp
DESCRIPTION:Registrations for this event have closed.
URL:https://sydneynorthscouts.com/event/garigial-district-cub-camp/
LOCATION:Kariong Scout Camp\, Scout Camp Rd\, Kariong\, NSW\, 2250\, Australia
CATEGORIES:Cub Scouts
END:VEVENT
BEGIN:VEVENT
DTSTART;TZID=Australia/Sydney:20260317T203000
DTEND;TZID=Australia/Sydney:20260317T223000
DTSTAMP:20260420T150032
CREATED:20260202T012416Z
LAST-MODIFIED:20260202T012419Z
UID:11174-1773779400-1773786600@sydneynorthscouts.com
SUMMARY:Northern Beaches Seeonee
DESCRIPTION:
URL:https://sydneynorthscouts.com/event/northern-beaches-seeonee-2/
LOCATION:Cromer/Dee Why Scout Hall\, 25 Arthur Street\, Dee Why\, NSW\, 2099\, Australia
CATEGORIES:Seeonee
END:VEVENT
BEGIN:VEVENT
DTSTART;TZID=Australia/Sydney:20260327T183000
DTEND;TZID=Australia/Sydney:20260327T203000
DTSTAMP:20260420T150032
CREATED:20260223T220556Z
LAST-MODIFIED:20260223T220601Z
UID:11335-1774636200-1774643400@sydneynorthscouts.com
SUMMARY:Benowie District Cub Scout Campfire
DESCRIPTION:Registrations for this event have closed.
URL:https://sydneynorthscouts.com/event/benowie-district-cub-scout-campfire/
LOCATION:Baden-Powell Activity Centre\, End of Pomona Street\,\, Pennant Hills\, NSW\, 2120
CATEGORIES:Cub Scouts
END:VEVENT
END:VCALENDAR