BEGIN:VCALENDAR
VERSION:2.0
PRODID:-//Sydney North Region Scouts - ECPv6.15.20//NONSGML v1.0//EN
CALSCALE:GREGORIAN
METHOD:PUBLISH
X-WR-CALNAME:Sydney North Region Scouts
X-ORIGINAL-URL:https://sydneynorthscouts.com
X-WR-CALDESC:Events for Sydney North Region Scouts
REFRESH-INTERVAL;VALUE=DURATION:PT1H
X-Robots-Tag:noindex
X-PUBLISHED-TTL:PT1H
BEGIN:VTIMEZONE
TZID:Australia/Sydney
BEGIN:STANDARD
TZOFFSETFROM:+1100
TZOFFSETTO:+1000
TZNAME:AEST
DTSTART:20230401T160000
END:STANDARD
BEGIN:DAYLIGHT
TZOFFSETFROM:+1000
TZOFFSETTO:+1100
TZNAME:AEDT
DTSTART:20230930T160000
END:DAYLIGHT
BEGIN:STANDARD
TZOFFSETFROM:+1100
TZOFFSETTO:+1000
TZNAME:AEST
DTSTART:20240406T160000
END:STANDARD
BEGIN:DAYLIGHT
TZOFFSETFROM:+1000
TZOFFSETTO:+1100
TZNAME:AEDT
DTSTART:20241005T160000
END:DAYLIGHT
BEGIN:STANDARD
TZOFFSETFROM:+1100
TZOFFSETTO:+1000
TZNAME:AEST
DTSTART:20250405T160000
END:STANDARD
BEGIN:DAYLIGHT
TZOFFSETFROM:+1000
TZOFFSETTO:+1100
TZNAME:AEDT
DTSTART:20251004T160000
END:DAYLIGHT
END:VTIMEZONE
BEGIN:VEVENT
DTSTART;TZID=Australia/Sydney:20240914T090000
DTEND;TZID=Australia/Sydney:20240914T160000
DTSTAMP:20260422T151337
CREATED:20240722T005010Z
LAST-MODIFIED:20240722T005016Z
UID:8913-1726304400-1726329600@sydneynorthscouts.com
SUMMARY:Cub Scout Environment Activity DayScout Environment Day 2024
DESCRIPTION:This is a day activity\, based on the natural environment. The Cub Scouts who participate will gain a SIA Environment Badge through a range of hand on activities\, including streamwatch. Only Cubs who are with Leaders should attend. \n\n\n\n\n\n				Registrations for this event have closed.
URL:https://sydneynorthscouts.com/event/cub-scout-environment-activity-dayscout-environment-day-2024/
LOCATION:1st Collaroy Plateau Scout Hall\, Goodwin Street\, Narrabeen\, NSW\, 2101\, Australia
CATEGORIES:Cub Scouts,Environment Activity Days
ORGANIZER;CN="Barbara Harrison":MAILTO:Barbara.Harrison@nsw.scouts.com.au
END:VEVENT
BEGIN:VEVENT
DTSTART;TZID=Australia/Sydney:20240915T093000
DTEND;TZID=Australia/Sydney:20240915T124500
DTSTAMP:20260422T151338
CREATED:20240722T005335Z
LAST-MODIFIED:20240722T005339Z
UID:8917-1726392600-1726404300@sydneynorthscouts.com
SUMMARY:Water Bugs Morning Activity Day
DESCRIPTION:This is a morning activity\, based on the natural environment. The Joey & Cub Scouts will be learning about the water environment of Narrabeen Lagoon through Streamwatch by catching waterbugs and collecting data on the animals in the lagoon. \n\n\n\n\n\n				Registrations for this event have closed.
URL:https://sydneynorthscouts.com/event/water-bugs-morning-activity-day/
LOCATION:1st Collaroy Plateau Scout Hall\, Goodwin Street\, Narrabeen\, NSW\, 2101\, Australia
CATEGORIES:Joey Scouts,Cub Scouts,Environment Activity Days
ORGANIZER;CN="Barbara Harrison":MAILTO:Barbara.Harrison@nsw.scouts.com.au
END:VEVENT
BEGIN:VEVENT
DTSTART;TZID=Australia/Sydney:20240919T190000
DTEND;TZID=Australia/Sydney:20240919T203000
DTSTAMP:20260422T151338
CREATED:20240819T112304Z
LAST-MODIFIED:20240819T112306Z
UID:8993-1726772400-1726777800@sydneynorthscouts.com
SUMMARY:Benowie District Cub Seeonee
DESCRIPTION:Cub Leaders from the Benowie attend these meeting for networking with other leaders within the same district to share ideas and talk about what is happening in the District. \n\n\n\nLocation: Asquith Bowling Club
URL:https://sydneynorthscouts.com/event/benowie-district-cub-seeonee/
LOCATION:NSW
CATEGORIES:Seeonee,Cub Scouts
END:VEVENT
END:VCALENDAR