BEGIN:VCALENDAR
VERSION:2.0
PRODID:-//Sydney North Region Scouts - ECPv6.15.20//NONSGML v1.0//EN
CALSCALE:GREGORIAN
METHOD:PUBLISH
X-ORIGINAL-URL:https://sydneynorthscouts.com
X-WR-CALDESC:Events for Sydney North Region Scouts
REFRESH-INTERVAL;VALUE=DURATION:PT1H
X-Robots-Tag:noindex
X-PUBLISHED-TTL:PT1H
BEGIN:VTIMEZONE
TZID:Australia/Sydney
BEGIN:STANDARD
TZOFFSETFROM:+1100
TZOFFSETTO:+1000
TZNAME:AEST
DTSTART:20250405T160000
END:STANDARD
BEGIN:DAYLIGHT
TZOFFSETFROM:+1000
TZOFFSETTO:+1100
TZNAME:AEDT
DTSTART:20251004T160000
END:DAYLIGHT
BEGIN:STANDARD
TZOFFSETFROM:+1100
TZOFFSETTO:+1000
TZNAME:AEST
DTSTART:20260404T160000
END:STANDARD
BEGIN:DAYLIGHT
TZOFFSETFROM:+1000
TZOFFSETTO:+1100
TZNAME:AEDT
DTSTART:20261003T160000
END:DAYLIGHT
BEGIN:STANDARD
TZOFFSETFROM:+1100
TZOFFSETTO:+1000
TZNAME:AEST
DTSTART:20270403T160000
END:STANDARD
BEGIN:DAYLIGHT
TZOFFSETFROM:+1000
TZOFFSETTO:+1100
TZNAME:AEDT
DTSTART:20271002T160000
END:DAYLIGHT
END:VTIMEZONE
BEGIN:VEVENT
DTSTART;TZID=Australia/Sydney:20261002T180000
DTEND;TZID=Australia/Sydney:20261005T190000
DTSTAMP:20260421T064842
CREATED:20260111T010339Z
LAST-MODIFIED:20260111T010342Z
UID:10987-1790964000-1791226800@sydneynorthscouts.com
SUMMARY:NSW State Rover Moot
DESCRIPTION:Venue and theme TBA
URL:https://sydneynorthscouts.com/event/nsw-state-rover-moot-2/
LOCATION:NSW
CATEGORIES:Rover Scouts
END:VEVENT
BEGIN:VEVENT
DTSTART;TZID=Australia/Sydney:20261008T190000
DTEND;TZID=Australia/Sydney:20261008T210000
DTSTAMP:20260421T064842
CREATED:20260109T090221Z
LAST-MODIFIED:20260109T090223Z
UID:10911-1791486000-1791493200@sydneynorthscouts.com
SUMMARY:NSW State Rover Council meeting
DESCRIPTION:online meeting via Teams
URL:https://sydneynorthscouts.com/event/nsw-state-rover-council-meeting-7/
LOCATION:NSW
CATEGORIES:State Rover Council Meetings,Rover Scouts
END:VEVENT
BEGIN:VEVENT
DTSTART;TZID=Australia/Sydney:20261009T190000
DTEND;TZID=Australia/Sydney:20261009T230000
DTSTAMP:20260421T064842
CREATED:20260109T121142Z
LAST-MODIFIED:20260109T121615Z
UID:10944-1791572400-1791586800@sydneynorthscouts.com
SUMMARY:Turramurra Rovers' Harbour Cruise
DESCRIPTION:Running for over 30 years\, this event sees hundreds of Rovers and friends pack a cruise boat on Sydney Harbour for a fun night out. \n\n\n\nTheme for 2026: tba \n\n\n\nBookings: tba \n\n\n\nFacebook event: tba
URL:https://sydneynorthscouts.com/event/turramurra-rovers-harbour-cruise-2/
LOCATION:NSW
CATEGORIES:Rover Scouts
END:VEVENT
BEGIN:VEVENT
DTSTART;TZID=Australia/Sydney:20261011T190000
DTEND;TZID=Australia/Sydney:20261011T210000
DTSTAMP:20260421T064842
CREATED:20260109T113439Z
LAST-MODIFIED:20260109T113442Z
UID:10921-1791745200-1791752400@sydneynorthscouts.com
SUMMARY:Sydney North Region Rover Council meeting
DESCRIPTION:Free BBQ from 6.30pm
URL:https://sydneynorthscouts.com/event/sydney-north-region-rover-council-meeting-4/
LOCATION:2nd Gordon Scout Hall\, 32c Rosedale Rd\, Gordon\, NSW
CATEGORIES:Region Rover Council Meetings (RRC),Rover Scouts
END:VEVENT
BEGIN:VEVENT
DTSTART;TZID=Australia/Sydney:20261013T193000
DTEND;TZID=Australia/Sydney:20261013T213000
DTSTAMP:20260421T064842
CREATED:20260202T010639Z
LAST-MODIFIED:20260202T010642Z
UID:11162-1791919800-1791927000@sydneynorthscouts.com
SUMMARY:Northern Beaches & Garigal Mindari
DESCRIPTION:
URL:https://sydneynorthscouts.com/event/northern-beaches-garigal-mindari-8/
LOCATION:NSW
CATEGORIES:Mindari
ORGANIZER;CN="Tom Miles":MAILTO:Tom.Miles@nsw.scouts.com.au
END:VEVENT
BEGIN:VEVENT
DTSTART;TZID=Australia/Sydney:20261018T100000
DTEND;TZID=Australia/Sydney:20261018T150000
DTSTAMP:20260421T064842
CREATED:20260109T121423Z
LAST-MODIFIED:20260109T121426Z
UID:10946-1792317600-1792335600@sydneynorthscouts.com
SUMMARY:Kalang Kup
DESCRIPTION:The Kalang Kup is Sydney North’s annual inter-Crew sports comp day. Traditionally soccer\, sometimes Oztag\, frisbee\, netball\, Speedaway\, chess soccer… for 2026\, who knows! \n\n\n\nFacebook Event: tba
URL:https://sydneynorthscouts.com/event/kalang-kup/
LOCATION:NSW
CATEGORIES:Rover Scouts
END:VEVENT
BEGIN:VEVENT
DTSTART;TZID=Australia/Sydney:20261019T190000
DTEND;TZID=Australia/Sydney:20261019T210000
DTSTAMP:20260421T064842
CREATED:20260202T034658Z
LAST-MODIFIED:20260202T034701Z
UID:11215-1792436400-1792443600@sydneynorthscouts.com
SUMMARY:Benowie Mindari
DESCRIPTION:
URL:https://sydneynorthscouts.com/event/benowie-mindari-8/
LOCATION:Asquith Bowling Club\, 1 Lodge Street\, Hornsby\, NSW\, 2077\, Australia
CATEGORIES:Mindari
END:VEVENT
BEGIN:VEVENT
DTSTART;TZID=Australia/Sydney:20261020T203000
DTEND;TZID=Australia/Sydney:20261020T223000
DTSTAMP:20260421T064842
CREATED:20260202T015103Z
LAST-MODIFIED:20260202T015107Z
UID:11190-1792528200-1792535400@sydneynorthscouts.com
SUMMARY:Northern Beaches Seeonee
DESCRIPTION:
URL:https://sydneynorthscouts.com/event/northern-beaches-seeonee-10/
LOCATION:Cromer/Dee Why Scout Hall\, 25 Arthur Street\, Dee Why\, NSW\, 2099\, Australia
CATEGORIES:Seeonee
END:VEVENT
BEGIN:VEVENT
DTSTART;TZID=Australia/Sydney:20261027T200000
DTEND;TZID=Australia/Sydney:20261027T210000
DTSTAMP:20260421T064842
CREATED:20260112T000809Z
LAST-MODIFIED:20260112T000815Z
UID:11023-1793131200-1793134800@sydneynorthscouts.com
SUMMARY:Lower North Shore/Turrumburra Mindari
DESCRIPTION:Venue to be advised
URL:https://sydneynorthscouts.com/event/lower-north-shore-turrumburra-mindari-19/
LOCATION:NSW
CATEGORIES:Mindari
END:VEVENT
END:VCALENDAR