BEGIN:VCALENDAR
VERSION:2.0
PRODID:-//Sydney North Region Scouts - ECPv6.15.20//NONSGML v1.0//EN
CALSCALE:GREGORIAN
METHOD:PUBLISH
X-WR-CALNAME:Sydney North Region Scouts
X-ORIGINAL-URL:https://sydneynorthscouts.com
X-WR-CALDESC:Events for Sydney North Region Scouts
REFRESH-INTERVAL;VALUE=DURATION:PT1H
X-Robots-Tag:noindex
X-PUBLISHED-TTL:PT1H
BEGIN:VTIMEZONE
TZID:Australia/Sydney
BEGIN:STANDARD
TZOFFSETFROM:+1100
TZOFFSETTO:+1000
TZNAME:AEST
DTSTART:20250405T160000
END:STANDARD
BEGIN:DAYLIGHT
TZOFFSETFROM:+1000
TZOFFSETTO:+1100
TZNAME:AEDT
DTSTART:20251004T160000
END:DAYLIGHT
BEGIN:STANDARD
TZOFFSETFROM:+1100
TZOFFSETTO:+1000
TZNAME:AEST
DTSTART:20260404T160000
END:STANDARD
BEGIN:DAYLIGHT
TZOFFSETFROM:+1000
TZOFFSETTO:+1100
TZNAME:AEDT
DTSTART:20261003T160000
END:DAYLIGHT
BEGIN:STANDARD
TZOFFSETFROM:+1100
TZOFFSETTO:+1000
TZNAME:AEST
DTSTART:20270403T160000
END:STANDARD
BEGIN:DAYLIGHT
TZOFFSETFROM:+1000
TZOFFSETTO:+1100
TZNAME:AEDT
DTSTART:20271002T160000
END:DAYLIGHT
END:VTIMEZONE
BEGIN:VEVENT
DTSTART;TZID=Australia/Sydney:20260808T130000
DTEND;TZID=Australia/Sydney:20260808T150000
DTSTAMP:20260420T193141
CREATED:20260111T005918Z
LAST-MODIFIED:20260111T005921Z
UID:10981-1786194000-1786201200@sydneynorthscouts.com
SUMMARY:NSW State Rover Council meeting
DESCRIPTION:
URL:https://sydneynorthscouts.com/event/nsw-state-rover-council-meeting-17/
LOCATION:NSW
CATEGORIES:State Rover Council Meetings,Rover Scouts
END:VEVENT
BEGIN:VEVENT
DTSTART;TZID=Australia/Sydney:20260809T190000
DTEND;TZID=Australia/Sydney:20260809T210000
DTSTAMP:20260420T193141
CREATED:20260109T113403Z
LAST-MODIFIED:20260109T113406Z
UID:10919-1786302000-1786309200@sydneynorthscouts.com
SUMMARY:Sydney North Region Rover Council meeting
DESCRIPTION:Free BBQ from 6.30pm
URL:https://sydneynorthscouts.com/event/sydney-north-region-rover-council-meeting-3/
LOCATION:2nd Gordon Scout Hall\, 32c Rosedale Rd\, Gordon\, NSW
CATEGORIES:Region Rover Council Meetings (RRC),Rover Scouts
END:VEVENT
BEGIN:VEVENT
DTSTART;TZID=Australia/Sydney:20260811T193000
DTEND;TZID=Australia/Sydney:20260811T213000
DTSTAMP:20260420T193141
CREATED:20260202T004644Z
LAST-MODIFIED:20260202T004647Z
UID:11158-1786476600-1786483800@sydneynorthscouts.com
SUMMARY:Northern Beaches & Garigal Mindari
DESCRIPTION:
URL:https://sydneynorthscouts.com/event/northern-beaches-garigal-mindari-6/
LOCATION:NSW
CATEGORIES:Mindari
ORGANIZER;CN="Tom Miles":MAILTO:Tom.Miles@nsw.scouts.com.au
END:VEVENT
BEGIN:VEVENT
DTSTART;TZID=Australia/Sydney:20260817T190000
DTEND;TZID=Australia/Sydney:20260817T210000
DTSTAMP:20260420T193141
CREATED:20260202T034318Z
LAST-MODIFIED:20260202T034321Z
UID:11211-1786993200-1787000400@sydneynorthscouts.com
SUMMARY:Benowie Mindari
DESCRIPTION:Online via Teams
URL:https://sydneynorthscouts.com/event/benowie-mindari-6/
LOCATION:NSW
CATEGORIES:Mindari
END:VEVENT
BEGIN:VEVENT
DTSTART;TZID=Australia/Sydney:20260818T203000
DTEND;TZID=Australia/Sydney:20260818T223000
DTSTAMP:20260420T193141
CREATED:20260202T014403Z
LAST-MODIFIED:20260202T014406Z
UID:11186-1787085000-1787092200@sydneynorthscouts.com
SUMMARY:Northern Beaches Seeonee
DESCRIPTION:
URL:https://sydneynorthscouts.com/event/northern-beaches-seeonee-8/
LOCATION:Cromer/Dee Why Scout Hall\, 25 Arthur Street\, Dee Why\, NSW\, 2099\, Australia
CATEGORIES:Seeonee
END:VEVENT
BEGIN:VEVENT
DTSTART;TZID=Australia/Sydney:20260825T200000
DTEND;TZID=Australia/Sydney:20260825T210000
DTSTAMP:20260420T193141
CREATED:20260111T235715Z
LAST-MODIFIED:20260111T235739Z
UID:11019-1787688000-1787691600@sydneynorthscouts.com
SUMMARY:Lower North Shore/Turrumburra Mindari
DESCRIPTION:Venue to be advised
URL:https://sydneynorthscouts.com/event/lower-north-shore-turrumburra-mindari-17/
LOCATION:NSW
CATEGORIES:Mindari
END:VEVENT
END:VCALENDAR