BEGIN:VCALENDAR
VERSION:2.0
PRODID:-//Sydney North Region Scouts - ECPv6.15.20//NONSGML v1.0//EN
CALSCALE:GREGORIAN
METHOD:PUBLISH
X-ORIGINAL-URL:https://sydneynorthscouts.com
X-WR-CALDESC:Events for Sydney North Region Scouts
REFRESH-INTERVAL;VALUE=DURATION:PT1H
X-Robots-Tag:noindex
X-PUBLISHED-TTL:PT1H
BEGIN:VTIMEZONE
TZID:Australia/Sydney
BEGIN:STANDARD
TZOFFSETFROM:+1100
TZOFFSETTO:+1000
TZNAME:AEST
DTSTART:20250405T160000
END:STANDARD
BEGIN:DAYLIGHT
TZOFFSETFROM:+1000
TZOFFSETTO:+1100
TZNAME:AEDT
DTSTART:20251004T160000
END:DAYLIGHT
BEGIN:STANDARD
TZOFFSETFROM:+1100
TZOFFSETTO:+1000
TZNAME:AEST
DTSTART:20260404T160000
END:STANDARD
BEGIN:DAYLIGHT
TZOFFSETFROM:+1000
TZOFFSETTO:+1100
TZNAME:AEDT
DTSTART:20261003T160000
END:DAYLIGHT
BEGIN:STANDARD
TZOFFSETFROM:+1100
TZOFFSETTO:+1000
TZNAME:AEST
DTSTART:20270403T160000
END:STANDARD
BEGIN:DAYLIGHT
TZOFFSETFROM:+1000
TZOFFSETTO:+1100
TZNAME:AEDT
DTSTART:20271002T160000
END:DAYLIGHT
END:VTIMEZONE
BEGIN:VEVENT
DTSTART;TZID=Australia/Sydney:20260501T190000
DTEND;TZID=Australia/Sydney:20260503T130000
DTSTAMP:20260420T124547
CREATED:20260112T222431Z
LAST-MODIFIED:20260131T111105Z
UID:11031-1777662000-1777813200@sydneynorthscouts.com
SUMMARY:ScoutHike 2026 "Generational Adventure"
DESCRIPTION:Details & Registration: https://sydneynorthscouts.com/sections/scouts/scouthike/
URL:https://sydneynorthscouts.com/event/scouthike-2026-generational-adventure/
LOCATION:NSW
CATEGORIES:Scouts
END:VEVENT
BEGIN:VEVENT
DTSTART;TZID=Australia/Sydney:20260507T190000
DTEND;TZID=Australia/Sydney:20260507T210000
DTSTAMP:20260420T124547
CREATED:20260111T005106Z
LAST-MODIFIED:20260111T005108Z
UID:10968-1778180400-1778187600@sydneynorthscouts.com
SUMMARY:RRC Executive meeting
DESCRIPTION:
URL:https://sydneynorthscouts.com/event/rrc-executive-meeting-7/
LOCATION:Sydney North Region Support Hub\, cnr Roseville Ave & Martin Lane\, Roseville\, NSW\, 2069\, Australia
CATEGORIES:Region Rover Council Meetings (RRC),Rover Scouts
END:VEVENT
BEGIN:VEVENT
DTSTART;TZID=Australia/Sydney:20260512T193000
DTEND;TZID=Australia/Sydney:20260512T213000
DTSTAMP:20260420T124547
CREATED:20260202T004211Z
LAST-MODIFIED:20260202T004214Z
UID:11154-1778614200-1778621400@sydneynorthscouts.com
SUMMARY:Northern Beaches & Garigal Mindari
DESCRIPTION:
URL:https://sydneynorthscouts.com/event/northern-beaches-garigal-mindari-4/
LOCATION:NSW
CATEGORIES:Mindari
ORGANIZER;CN="Tom Miles":MAILTO:Tom.Miles@nsw.scouts.com.au
END:VEVENT
BEGIN:VEVENT
DTSTART;TZID=Australia/Sydney:20260514T190000
DTEND;TZID=Australia/Sydney:20260514T210000
DTSTAMP:20260420T124547
CREATED:20260111T005654Z
LAST-MODIFIED:20260111T005656Z
UID:10979-1778785200-1778792400@sydneynorthscouts.com
SUMMARY:ULBAM - Crew/Unit Leader & RA Bi-Annual Meeting
DESCRIPTION:The first of two meetings to share ideas and issues among the Region’s Crew/Unit Leaders\, Rover Advisers\, and newly-elected RRC executive team. \n\n\n\nVenue: TBA
URL:https://sydneynorthscouts.com/event/ulbam-crew-unit-leader-ra-bi-annual-meeting/
LOCATION:NSW
CATEGORIES:Rover Scouts
END:VEVENT
BEGIN:VEVENT
DTSTART;TZID=Australia/Sydney:20260518T190000
DTEND;TZID=Australia/Sydney:20260518T210000
DTSTAMP:20260420T124547
CREATED:20260202T033720Z
LAST-MODIFIED:20260202T033723Z
UID:11207-1779130800-1779138000@sydneynorthscouts.com
SUMMARY:Benowie Mindari
DESCRIPTION:Online via Teams
URL:https://sydneynorthscouts.com/event/benowie-mindari-4/
LOCATION:NSW
CATEGORIES:Mindari
END:VEVENT
BEGIN:VEVENT
DTSTART;TZID=Australia/Sydney:20260519T203000
DTEND;TZID=Australia/Sydney:20260519T223000
DTSTAMP:20260420T124547
CREATED:20260202T012932Z
LAST-MODIFIED:20260202T012937Z
UID:11178-1779222600-1779229800@sydneynorthscouts.com
SUMMARY:Northern Beaches Seeonee
DESCRIPTION:
URL:https://sydneynorthscouts.com/event/northern-beaches-seeonee-4/
LOCATION:Cromer/Dee Why Scout Hall\, 25 Arthur Street\, Dee Why\, NSW\, 2099\, Australia
CATEGORIES:Seeonee
END:VEVENT
BEGIN:VEVENT
DTSTART;TZID=Australia/Sydney:20260519T203000
DTEND;TZID=Australia/Sydney:20260519T223000
DTSTAMP:20260420T124547
CREATED:20260202T013310Z
LAST-MODIFIED:20260202T013313Z
UID:11180-1779222600-1779229800@sydneynorthscouts.com
SUMMARY:Northern Beaches Seeonee
DESCRIPTION:
URL:https://sydneynorthscouts.com/event/northern-beaches-seeonee-5/
LOCATION:Cromer/Dee Why Scout Hall\, 25 Arthur Street\, Dee Why\, NSW\, 2099\, Australia
CATEGORIES:Seeonee
END:VEVENT
BEGIN:VEVENT
DTSTART;TZID=Australia/Sydney:20260526T200000
DTEND;TZID=Australia/Sydney:20260526T210000
DTSTAMP:20260420T124547
CREATED:20260111T234803Z
LAST-MODIFIED:20260111T234823Z
UID:11011-1779825600-1779829200@sydneynorthscouts.com
SUMMARY:Lower North Shore/Turrumburra Mindari
DESCRIPTION:
URL:https://sydneynorthscouts.com/event/lower-north-shore-turrumburra-mindari-14/
LOCATION:Chatswood Scout Group\, 11 Kooba Avenue\, Chatswood\, NSW\, 2067\, Australia
CATEGORIES:Mindari
END:VEVENT
END:VCALENDAR