BEGIN:VCALENDAR
VERSION:2.0
PRODID:-//Sydney North Region Scouts - ECPv6.15.20//NONSGML v1.0//EN
CALSCALE:GREGORIAN
METHOD:PUBLISH
X-WR-CALNAME:Sydney North Region Scouts
X-ORIGINAL-URL:https://sydneynorthscouts.com
X-WR-CALDESC:Events for Sydney North Region Scouts
REFRESH-INTERVAL;VALUE=DURATION:PT1H
X-Robots-Tag:noindex
X-PUBLISHED-TTL:PT1H
BEGIN:VTIMEZONE
TZID:Australia/Sydney
BEGIN:STANDARD
TZOFFSETFROM:+1100
TZOFFSETTO:+1000
TZNAME:AEST
DTSTART:20240406T160000
END:STANDARD
BEGIN:DAYLIGHT
TZOFFSETFROM:+1000
TZOFFSETTO:+1100
TZNAME:AEDT
DTSTART:20241005T160000
END:DAYLIGHT
BEGIN:STANDARD
TZOFFSETFROM:+1100
TZOFFSETTO:+1000
TZNAME:AEST
DTSTART:20250405T160000
END:STANDARD
BEGIN:DAYLIGHT
TZOFFSETFROM:+1000
TZOFFSETTO:+1100
TZNAME:AEDT
DTSTART:20251004T160000
END:DAYLIGHT
BEGIN:STANDARD
TZOFFSETFROM:+1100
TZOFFSETTO:+1000
TZNAME:AEST
DTSTART:20260404T160000
END:STANDARD
BEGIN:DAYLIGHT
TZOFFSETFROM:+1000
TZOFFSETTO:+1100
TZNAME:AEDT
DTSTART:20261003T160000
END:DAYLIGHT
BEGIN:STANDARD
TZOFFSETFROM:+1100
TZOFFSETTO:+1000
TZNAME:AEST
DTSTART:20270403T160000
END:STANDARD
BEGIN:DAYLIGHT
TZOFFSETFROM:+1000
TZOFFSETTO:+1100
TZNAME:AEDT
DTSTART:20271002T160000
END:DAYLIGHT
END:VTIMEZONE
BEGIN:VEVENT
DTSTART;TZID=Australia/Sydney:20251205T190000
DTEND;TZID=Australia/Sydney:20251205T230000
DTSTAMP:20260420T131747
CREATED:20241227T130758Z
LAST-MODIFIED:20250914T031401Z
UID:9423-1764961200-1764975600@sydneynorthscouts.com
SUMMARY:Forest Rovers' Claus for a Cause
DESCRIPTION:Get your best Christmas gear on for the 17th annual Claus for a Cause… Santa suit or whatever… and travel around The Rocks and Circular Quay area. Run by Forest Rovers and raises funds for a different charity each year. \n\n\n\nFacebook Event: https://www.facebook.com/events/1897965244298032
URL:https://sydneynorthscouts.com/event/forest-rovers-claus-for-a-cause-3/
LOCATION:NSW
CATEGORIES:Rover Scouts
END:VEVENT
BEGIN:VEVENT
DTSTART;TZID=Australia/Sydney:20251206T130000
DTEND;TZID=Australia/Sydney:20251206T150000
DTSTAMP:20260420T131747
CREATED:20241227T094130Z
LAST-MODIFIED:20241227T094133Z
UID:9389-1765026000-1765033200@sydneynorthscouts.com
SUMMARY:NSW State Rover Council meeting
DESCRIPTION:
URL:https://sydneynorthscouts.com/event/nsw-state-rover-council-meeting-16/
LOCATION:NSW
CATEGORIES:State Rover Council Meetings,Rover Scouts
END:VEVENT
BEGIN:VEVENT
DTSTART;TZID=Australia/Sydney:20251207T190000
DTEND;TZID=Australia/Sydney:20251207T210000
DTSTAMP:20260420T131747
CREATED:20241227T025832Z
LAST-MODIFIED:20241227T025836Z
UID:9368-1765134000-1765141200@sydneynorthscouts.com
SUMMARY:Sydney North Region Rover Council meeting
DESCRIPTION:Free BBQ from 6.30pm
URL:https://sydneynorthscouts.com/event/sydney-north-region-rover-council-meeting-15/
LOCATION:2nd Gordon Scout Hall\, 32c Rosedale Rd\, Gordon\, NSW
CATEGORIES:Region Rover Council Meetings (RRC),Rover Scouts
END:VEVENT
BEGIN:VEVENT
DTSTART;TZID=Australia/Sydney:20251218T190000
DTEND;TZID=Australia/Sydney:20251218T210000
DTSTAMP:20260420T131747
CREATED:20241227T125718Z
LAST-MODIFIED:20241227T125752Z
UID:9410-1766084400-1766091600@sydneynorthscouts.com
SUMMARY:RRC Executive meeting (Christmas function)
DESCRIPTION:
URL:https://sydneynorthscouts.com/event/rrc-executive-meeting-20/
LOCATION:Sydney North Region Office\, 2 Ellis Street\, Chatswood\, NSW\, 2067\, Australia
CATEGORIES:Region Rover Council Meetings (RRC),Rover Scouts
END:VEVENT
BEGIN:VEVENT
DTSTART;TZID=Australia/Sydney:20251230T000000
DTEND;TZID=Australia/Sydney:20260109T235959
DTSTAMP:20260420T131747
CREATED:20250125T053531Z
LAST-MODIFIED:20260111T011624Z
UID:9606-1767052800-1768003199@sydneynorthscouts.com
SUMMARY:16th New Zealand Venture 2026
DESCRIPTION:Scouts Australia is sending a Contingent to the 16th Aotearoa / New Zealand Jamboree in December 2025 – January 2026. \n\n\n\nAttending a New Zealand Venture is an outstanding introduction to International Scouting. Set in one of the most picturesque countries on the planet\, Australian Scouts will be offered a program of outdoor adventure and cultural immersion that will deliver a once-in-a-lifetime experience. \n\n\n\nDates \n\n\n\nThe Australian Contingent will depart on 28 December 2025 and return to Australia on 10 January 2026. An optional post-tour featuring a selection of thrill-seeking and cultural activities will also be offered to Australian Contingent members\, returning to Australia on 15 January 2026.   \n\n\n\nLocation \n\n\n\nPhase One includes a choice of Expeditions stretching from the upper South Island to the middle of the North Island. Phase Two will be held at the Brookfield Outdoor Education Centre\, one hour from Wellington.  \n\n\n\nApplications \n\n\n\nOfficial applications to join the Australian Contingent to the 16th Aotearoa / New Zealand Venture will open on 8 January 2025 and close on 23 February 2025. Applications may close earlier if the size of the Australian Contingent exceeds the number of places available at the Venture.    \n\n\n\nIn the meantime\, you can submit an Expression of Interest and we will send you a reminder when official applications are about to open.   \n\n\n\nVenturer Scout and line leader applicants will need to nominate their top three Expedition preferences upon application. Expedition places will be allocated in the order that applications are submitted with deposit paid. To secure your preferred Expedition\, applicants are encouraged to submit their application and pay the deposit as soon as possible after applications open on 8 January 2025. Expeditions will be allocated after applications close.   \n\n\n\nContact \n\n\n\nPlease don’t hesitate to direct any questions to the Contingent Management Team by emailing nzv2024@scouts.com.au
URL:https://sydneynorthscouts.com/event/16th-new-zealand-venture-2026/
LOCATION:NSW
CATEGORIES:International Events,Venturer Scouts
END:VEVENT
END:VCALENDAR