BEGIN:VCALENDAR
VERSION:2.0
PRODID:-//Sydney North Region Scouts - ECPv6.15.20//NONSGML v1.0//EN
CALSCALE:GREGORIAN
METHOD:PUBLISH
X-ORIGINAL-URL:https://sydneynorthscouts.com
X-WR-CALDESC:Events for Sydney North Region Scouts
REFRESH-INTERVAL;VALUE=DURATION:PT1H
X-Robots-Tag:noindex
X-PUBLISHED-TTL:PT1H
BEGIN:VTIMEZONE
TZID:Australia/Sydney
BEGIN:STANDARD
TZOFFSETFROM:+1100
TZOFFSETTO:+1000
TZNAME:AEST
DTSTART:20240406T160000
END:STANDARD
BEGIN:DAYLIGHT
TZOFFSETFROM:+1000
TZOFFSETTO:+1100
TZNAME:AEDT
DTSTART:20241005T160000
END:DAYLIGHT
BEGIN:STANDARD
TZOFFSETFROM:+1100
TZOFFSETTO:+1000
TZNAME:AEST
DTSTART:20250405T160000
END:STANDARD
BEGIN:DAYLIGHT
TZOFFSETFROM:+1000
TZOFFSETTO:+1100
TZNAME:AEDT
DTSTART:20251004T160000
END:DAYLIGHT
BEGIN:STANDARD
TZOFFSETFROM:+1100
TZOFFSETTO:+1000
TZNAME:AEST
DTSTART:20260404T160000
END:STANDARD
BEGIN:DAYLIGHT
TZOFFSETFROM:+1000
TZOFFSETTO:+1100
TZNAME:AEDT
DTSTART:20261003T160000
END:DAYLIGHT
END:VTIMEZONE
BEGIN:VEVENT
DTSTART;TZID=Australia/Sydney:20251002T190000
DTEND;TZID=Australia/Sydney:20251002T210000
DTSTAMP:20260421T133945
CREATED:20241227T093939Z
LAST-MODIFIED:20241227T093941Z
UID:9384-1759431600-1759438800@sydneynorthscouts.com
SUMMARY:NSW State Rover Council meeting
DESCRIPTION:online meeting via Teams
URL:https://sydneynorthscouts.com/event/nsw-state-rover-council-meeting-3/
LOCATION:NSW
CATEGORIES:State Rover Council Meetings,Rover Scouts
END:VEVENT
BEGIN:VEVENT
DTSTART;TZID=Australia/Sydney:20251004T180000
DTEND;TZID=Australia/Sydney:20251006T120000
DTSTAMP:20260421T133945
CREATED:20241227T235511Z
LAST-MODIFIED:20251004T124409Z
UID:9446-1759600800-1759752000@sydneynorthscouts.com
SUMMARY:NSW State Rover Moot - "Jim's Moots" - CANCELLED
DESCRIPTION:This Moot has unfortunately been cancelled… \n\n\n\nEvent Facebook page – https://www.facebook.com/events/492943023176877
URL:https://sydneynorthscouts.com/event/nsw-state-rover-moot-jims-moots/
LOCATION:Glenfield Scout Activity Centre\, 2 Cambridge Ave\, Glenfield\, NSW\, 2167\, Australia
CATEGORIES:Rover Scouts
END:VEVENT
BEGIN:VEVENT
DTSTART;TZID=Australia/Sydney:20251010T190000
DTEND;TZID=Australia/Sydney:20251010T230000
DTSTAMP:20260421T133945
CREATED:20241227T130058Z
LAST-MODIFIED:20250910T032126Z
UID:9415-1760122800-1760137200@sydneynorthscouts.com
SUMMARY:Turramurra Rovers' Harbour Cruise
DESCRIPTION:Running for over 30 years\, this event sees hundreds of Rovers and friends pack a cruise boat on Sydney Harbour for a fun night out. \n\n\n\nTheme for 2025 is “Neon”. \n\n\n\nBookings via https://events.nsw.scouts.com.au/event/2727 \n\n\n\nFacebook event: https://www.facebook.com/events/1229038941912327
URL:https://sydneynorthscouts.com/event/turramurra-rovers-harbour-cruise/
LOCATION:NSW
CATEGORIES:Rover Scouts
END:VEVENT
BEGIN:VEVENT
DTSTART;TZID=Australia/Sydney:20251012T190000
DTEND;TZID=Australia/Sydney:20251012T210000
DTSTAMP:20260421T133945
CREATED:20241227T025744Z
LAST-MODIFIED:20241227T025749Z
UID:9365-1760295600-1760302800@sydneynorthscouts.com
SUMMARY:Sydney North Region Rover Council meeting
DESCRIPTION:Free BBQ from 6.30pm
URL:https://sydneynorthscouts.com/event/sydney-north-region-rover-council-meeting-14/
LOCATION:2nd Gordon Scout Hall\, 32c Rosedale Rd\, Gordon\, NSW
CATEGORIES:Region Rover Council Meetings (RRC),Rover Scouts
END:VEVENT
BEGIN:VEVENT
DTSTART;TZID=Australia/Sydney:20251016T190000
DTEND;TZID=Australia/Sydney:20251016T210000
DTSTAMP:20260421T133945
CREATED:20250120T112750Z
LAST-MODIFIED:20250120T112752Z
UID:9582-1760641200-1760648400@sydneynorthscouts.com
SUMMARY:Benowie District Seeonee
DESCRIPTION:
URL:https://sydneynorthscouts.com/event/benowie-district-seeonee-10/
LOCATION:NSW
CATEGORIES:Seeonee,Cub Scouts
END:VEVENT
BEGIN:VEVENT
DTSTART;TZID=Australia/Sydney:20251017T190000
DTEND;TZID=Australia/Sydney:20251019T150000
DTSTAMP:20260421T133945
CREATED:20250120T104641Z
LAST-MODIFIED:20250521T114930Z
UID:9546-1760727600-1760886000@sydneynorthscouts.com
SUMMARY:Region Cub Camp
DESCRIPTION:This is a Cub Camp for the Sydney North Region. This camp is being held at Camp Ku-ring-gai. \n\n\n\nThe theme is Secret agents & Spies.
URL:https://sydneynorthscouts.com/event/region-cub-camp-2/
LOCATION:NSW
CATEGORIES:Cub Scouts
END:VEVENT
BEGIN:VEVENT
DTSTART;TZID=Australia/Sydney:20251019T100000
DTEND;TZID=Australia/Sydney:20251019T150000
DTSTAMP:20260421T133945
CREATED:20241227T130351Z
LAST-MODIFIED:20250916T233918Z
UID:9417-1760868000-1760886000@sydneynorthscouts.com
SUMMARY:Kalang Kup
DESCRIPTION:The Kalang Kup is Sydney North’s annual inter-Crew sports comp day. Traditionally soccer\, sometimes Oztag\, frisbee\, netball\, Speedaway… for 2025\, who knows! \n\n\n\nFacebook Event: https://www.facebook.com/events/s/51st-kalang-kup/1094682502844791
URL:https://sydneynorthscouts.com/event/kalang-kup-4/
LOCATION:NSW
CATEGORIES:Rover Scouts
END:VEVENT
BEGIN:VEVENT
DTSTART;TZID=Australia/Sydney:20251021T200000
DTEND;TZID=Australia/Sydney:20251021T213000
DTSTAMP:20260421T133945
CREATED:20250113T005631Z
LAST-MODIFIED:20250113T005635Z
UID:9521-1761076800-1761082200@sydneynorthscouts.com
SUMMARY:Lower North Shore/Turrumburra Mindari
DESCRIPTION:
URL:https://sydneynorthscouts.com/event/lower-north-shore-turrumburra-mindari-9/
LOCATION:NSW
CATEGORIES:Mindari
END:VEVENT
BEGIN:VEVENT
DTSTART;TZID=Australia/Sydney:20251023T190000
DTEND;TZID=Australia/Sydney:20251023T200000
DTSTAMP:20260421T133945
CREATED:20251014T001449Z
LAST-MODIFIED:20251014T001453Z
UID:10627-1761246000-1761249600@sydneynorthscouts.com
SUMMARY:VOC2 Team Meeting
DESCRIPTION:
URL:https://sydneynorthscouts.com/event/voc2-team-meeting/
LOCATION:Barra Brui Scout Hall\, Hunter Ave\, St Ives NSW 2075
CATEGORIES:Venturer Scouts
END:VEVENT
BEGIN:VEVENT
DTSTART;TZID=Australia/Sydney:20251025T080000
DTEND;TZID=Australia/Sydney:20251026T170000
DTSTAMP:20260421T133945
CREATED:20250814T051435Z
LAST-MODIFIED:20250814T051441Z
UID:10436-1761379200-1761498000@sydneynorthscouts.com
SUMMARY:Region Joey Camp
DESCRIPTION:Details to come
URL:https://sydneynorthscouts.com/event/region-joey-camp/
LOCATION:NSW
CATEGORIES:Joey Scouts
ORGANIZER;CN="Jim Baldwin":MAILTO:jim.baldwin@nsw.scouts.com.au
END:VEVENT
END:VCALENDAR