BEGIN:VCALENDAR
VERSION:2.0
PRODID:-//Sydney North Region Scouts - ECPv6.15.20//NONSGML v1.0//EN
CALSCALE:GREGORIAN
METHOD:PUBLISH
X-ORIGINAL-URL:https://sydneynorthscouts.com
X-WR-CALDESC:Events for Sydney North Region Scouts
REFRESH-INTERVAL;VALUE=DURATION:PT1H
X-Robots-Tag:noindex
X-PUBLISHED-TTL:PT1H
BEGIN:VTIMEZONE
TZID:Australia/Sydney
BEGIN:STANDARD
TZOFFSETFROM:+1100
TZOFFSETTO:+1000
TZNAME:AEST
DTSTART:20250405T160000
END:STANDARD
BEGIN:DAYLIGHT
TZOFFSETFROM:+1000
TZOFFSETTO:+1100
TZNAME:AEDT
DTSTART:20251004T160000
END:DAYLIGHT
BEGIN:STANDARD
TZOFFSETFROM:+1100
TZOFFSETTO:+1000
TZNAME:AEST
DTSTART:20260404T160000
END:STANDARD
BEGIN:DAYLIGHT
TZOFFSETFROM:+1000
TZOFFSETTO:+1100
TZNAME:AEDT
DTSTART:20261003T160000
END:DAYLIGHT
BEGIN:STANDARD
TZOFFSETFROM:+1100
TZOFFSETTO:+1000
TZNAME:AEST
DTSTART:20270403T160000
END:STANDARD
BEGIN:DAYLIGHT
TZOFFSETFROM:+1000
TZOFFSETTO:+1100
TZNAME:AEDT
DTSTART:20271002T160000
END:DAYLIGHT
END:VTIMEZONE
BEGIN:VEVENT
DTSTART;TZID=Australia/Sydney:20260511T193000
DTEND;TZID=Australia/Sydney:20260511T213000
DTSTAMP:20260426T012933
CREATED:20260201T225619Z
LAST-MODIFIED:20260201T233906Z
UID:11098-1778527800-1778535000@sydneynorthscouts.com
SUMMARY:Northern Beaches Group Leaders Meeting
DESCRIPTION:
URL:https://sydneynorthscouts.com/event/11098/
LOCATION:Cromer/Dee Why Scout Hall\, 25 Arthur Street\, Dee Why\, NSW\, 2099\, Australia
CATEGORIES:Region Meetings
END:VEVENT
BEGIN:VEVENT
DTSTART;TZID=Australia/Sydney:20260513T193000
DTEND;TZID=Australia/Sydney:20260513T210000
DTSTAMP:20260426T012933
CREATED:20260216T223321Z
LAST-MODIFIED:20260216T223328Z
UID:11307-1778700600-1778706000@sydneynorthscouts.com
SUMMARY:District Commissioners Meeting
DESCRIPTION:Online Only
URL:https://sydneynorthscouts.com/event/district-commissioners-meeting-2/
LOCATION:NSW
CATEGORIES:Region Meetings
END:VEVENT
BEGIN:VEVENT
DTSTART;TZID=Australia/Sydney:20260519T190000
DTEND;TZID=Australia/Sydney:20260519T210000
DTSTAMP:20260426T012933
CREATED:20260201T231855Z
LAST-MODIFIED:20260201T231858Z
UID:11120-1779217200-1779224400@sydneynorthscouts.com
SUMMARY:Kuring-gai Group Leaders Meeting
DESCRIPTION:
URL:https://sydneynorthscouts.com/event/kuring-gai-group-leaders-meeting-4/
LOCATION:2nd Turramurra Scout Hall\, Kate Street\, Turramurra\, Kate Street\, Turramurra\, NSW
CATEGORIES:Region Meetings
END:VEVENT
BEGIN:VEVENT
DTSTART;TZID=Australia/Sydney:20260520T193000
DTEND;TZID=Australia/Sydney:20260520T210000
DTSTAMP:20260426T012933
CREATED:20260216T222307Z
LAST-MODIFIED:20260216T222310Z
UID:11297-1779305400-1779310800@sydneynorthscouts.com
SUMMARY:Region Executive Meeting
DESCRIPTION:
URL:https://sydneynorthscouts.com/event/region-executive-meeting-3/
LOCATION:SNR Roseville Hub\, Corner of Roseville Ave and Martin Ln\, Roseville\, NSW\, 2069
CATEGORIES:Region Meetings
END:VEVENT
END:VCALENDAR