BEGIN:VCALENDAR
VERSION:2.0
PRODID:-//Sydney North Region Scouts - ECPv6.15.20//NONSGML v1.0//EN
CALSCALE:GREGORIAN
METHOD:PUBLISH
X-WR-CALNAME:Sydney North Region Scouts
X-ORIGINAL-URL:https://sydneynorthscouts.com
X-WR-CALDESC:Events for Sydney North Region Scouts
REFRESH-INTERVAL;VALUE=DURATION:PT1H
X-Robots-Tag:noindex
X-PUBLISHED-TTL:PT1H
BEGIN:VTIMEZONE
TZID:Australia/Sydney
BEGIN:STANDARD
TZOFFSETFROM:+1100
TZOFFSETTO:+1000
TZNAME:AEST
DTSTART:20240406T160000
END:STANDARD
BEGIN:DAYLIGHT
TZOFFSETFROM:+1000
TZOFFSETTO:+1100
TZNAME:AEDT
DTSTART:20241005T160000
END:DAYLIGHT
BEGIN:STANDARD
TZOFFSETFROM:+1100
TZOFFSETTO:+1000
TZNAME:AEST
DTSTART:20250405T160000
END:STANDARD
BEGIN:DAYLIGHT
TZOFFSETFROM:+1000
TZOFFSETTO:+1100
TZNAME:AEDT
DTSTART:20251004T160000
END:DAYLIGHT
BEGIN:STANDARD
TZOFFSETFROM:+1100
TZOFFSETTO:+1000
TZNAME:AEST
DTSTART:20260404T160000
END:STANDARD
BEGIN:DAYLIGHT
TZOFFSETFROM:+1000
TZOFFSETTO:+1100
TZNAME:AEDT
DTSTART:20261003T160000
END:DAYLIGHT
END:VTIMEZONE
BEGIN:VEVENT
DTSTART;TZID=Australia/Sydney:20251101T080000
DTEND;TZID=Australia/Sydney:20251101T170000
DTSTAMP:20260422T051235
CREATED:20250907T004311Z
LAST-MODIFIED:20250907T004353Z
UID:10534-1761984000-1762016400@sydneynorthscouts.com
SUMMARY:Cub Canoe Activity Day
DESCRIPTION:Activity 2025CC3 \n\n\n\nBookings via ScoutEvent: https://events.nsw.scouts.com.au/region/sn
URL:https://sydneynorthscouts.com/event/cub-canoe-activity-day-2/
LOCATION:Jamieson Park\, The Esplanade\, Narrabeen\, NSW\, 2101\, Australia
CATEGORIES:canoeing,Cub Scout Canoe Activities
END:VEVENT
BEGIN:VEVENT
DTSTART;TZID=Australia/Sydney:20251102T080000
DTEND;TZID=Australia/Sydney:20251102T170000
DTSTAMP:20260422T051235
CREATED:20250907T004440Z
LAST-MODIFIED:20250907T004444Z
UID:10537-1762070400-1762102800@sydneynorthscouts.com
SUMMARY:Cub Canoe Activity Day
DESCRIPTION:Activity 2025CC4 \n\n\n\nBookings via ScoutEvent: https://events.nsw.scouts.com.au/region/sn
URL:https://sydneynorthscouts.com/event/cub-canoe-activity-day-3/
LOCATION:Jamieson Park\, The Esplanade\, Narrabeen\, NSW\, 2101\, Australia
CATEGORIES:canoeing,Cub Scout Canoe Activities
END:VEVENT
BEGIN:VEVENT
DTSTART;TZID=Australia/Sydney:20251115T080000
DTEND;TZID=Australia/Sydney:20251116T170000
DTSTAMP:20260422T051235
CREATED:20250907T005257Z
LAST-MODIFIED:20250907T005301Z
UID:10544-1763193600-1763312400@sydneynorthscouts.com
SUMMARY:Canoe Course practical weekend - 2nd of 2
DESCRIPTION:Brisbane Water \n\n\n\nBookings via ScoutEvent: https://events.nsw.scouts.com.au/region/sn
URL:https://sydneynorthscouts.com/event/canoe-course-practical-weekend-2nd-of-2/
LOCATION:Brisbane Water
CATEGORIES:canoeing,Canoe Courses
END:VEVENT
BEGIN:VEVENT
DTSTART;TZID=Australia/Sydney:20251122T080000
DTEND;TZID=Australia/Sydney:20251122T170000
DTSTAMP:20260422T051235
CREATED:20250907T004647Z
LAST-MODIFIED:20250907T004701Z
UID:10539-1763798400-1763830800@sydneynorthscouts.com
SUMMARY:Joey Scout Canoe Activity Day
DESCRIPTION:Bookings via ScoutEvent: https://events.nsw.scouts.com.au/region/sn
URL:https://sydneynorthscouts.com/event/joey-scout-activity-day/
LOCATION:Jamieson Park\, The Esplanade\, Narrabeen\, NSW\, 2101\, Australia
CATEGORIES:Joey Scout Canoe,canoeing
END:VEVENT
END:VCALENDAR