BEGIN:VCALENDAR
VERSION:2.0
PRODID:-//Sydney North Region Scouts - ECPv6.15.20//NONSGML v1.0//EN
CALSCALE:GREGORIAN
METHOD:PUBLISH
X-ORIGINAL-URL:https://sydneynorthscouts.com
X-WR-CALDESC:Events for Sydney North Region Scouts
REFRESH-INTERVAL;VALUE=DURATION:PT1H
X-Robots-Tag:noindex
X-PUBLISHED-TTL:PT1H
BEGIN:VTIMEZONE
TZID:Australia/Sydney
BEGIN:STANDARD
TZOFFSETFROM:+1100
TZOFFSETTO:+1000
TZNAME:AEST
DTSTART:20230401T160000
END:STANDARD
BEGIN:DAYLIGHT
TZOFFSETFROM:+1000
TZOFFSETTO:+1100
TZNAME:AEDT
DTSTART:20230930T160000
END:DAYLIGHT
BEGIN:STANDARD
TZOFFSETFROM:+1100
TZOFFSETTO:+1000
TZNAME:AEST
DTSTART:20240406T160000
END:STANDARD
BEGIN:DAYLIGHT
TZOFFSETFROM:+1000
TZOFFSETTO:+1100
TZNAME:AEDT
DTSTART:20241005T160000
END:DAYLIGHT
BEGIN:STANDARD
TZOFFSETFROM:+1100
TZOFFSETTO:+1000
TZNAME:AEST
DTSTART:20250405T160000
END:STANDARD
BEGIN:DAYLIGHT
TZOFFSETFROM:+1000
TZOFFSETTO:+1100
TZNAME:AEDT
DTSTART:20251004T160000
END:DAYLIGHT
BEGIN:STANDARD
TZOFFSETFROM:+1100
TZOFFSETTO:+1000
TZNAME:AEST
DTSTART:20260404T160000
END:STANDARD
BEGIN:DAYLIGHT
TZOFFSETFROM:+1000
TZOFFSETTO:+1100
TZNAME:AEDT
DTSTART:20261003T160000
END:DAYLIGHT
END:VTIMEZONE
BEGIN:VEVENT
DTSTART;TZID=Australia/Sydney:20250322T080000
DTEND;TZID=Australia/Sydney:20250323T170000
DTSTAMP:20260425T122648
CREATED:20241203T102921Z
LAST-MODIFIED:20241203T102924Z
UID:9213-1742630400-1742749200@sydneynorthscouts.com
SUMMARY:Rockclimbing Workshop CLB25A Level 1 (Basic) – Practical Weekend
DESCRIPTION:Rock Climbing Practical Weekend. Attending this workshop provides training for Safe Participant\, Trained Participant\, Assistant Guide and Guide along with the ability for youth members to achieve you Stage 4 Climbing OAS under Vertical (Youth Program). \n\n\n\nThe course is suitable for Venturers\, Rovers\, and Leaders. \n\n\n\nThe theory night 1 is held at Barra Brui Scout Hall and theory night 2 at a Climbing Gym. It includes a mix of theory presentations and practical components covering personal equipment\, rope skills\, climbing techniques\, environmental protection of climbing\, logistics\, risks and minor emergencies. \n\n\n\n\n\n\n\n\n\n\n\n\n\n				Registrations for this event have closed. Contact the organiser for more information.
URL:https://sydneynorthscouts.com/event/rockclimbing-workshop-clb25a-level-1-basic-practical-weekend/
LOCATION:Blue Mountains NSW
CATEGORIES:Basic Rockclimbing Workshop
ORGANIZER;CN="Tom (Turtle) Judge":MAILTO:Thomas.Judge@nsw.scouts.com.au
END:VEVENT
BEGIN:VEVENT
DTSTART;TZID=Australia/Sydney:20250319T073000
DTEND;TZID=Australia/Sydney:20250319T211500
DTSTAMP:20260425T122648
CREATED:20241203T102809Z
LAST-MODIFIED:20241203T102812Z
UID:9211-1742369400-1742418900@sydneynorthscouts.com
SUMMARY:Rockclimbing Workshop CLB25A Level 1 (Basic) – Artificial Practical Night
DESCRIPTION:Artificial Climbing Practical Night for – Rock Climbing Weekend. Attending this workshop provides training for Safe Participant\, Trained Participant\, Assistant Guide and Guide along with the ability for youth members to achieve you Stage 4 Climbing OAS under Vertical (Youth Program). \n\n\n\nThe course is suitable for Venturers\, Rovers\, and Leaders. \n\n\n\nThe theory night 1 is held at Barra Brui Scout Hall and theory night 2 at a Climbing Gym. It includes a mix of theory presentations and practical components covering personal equipment\, rope skills\, climbing techniques\, environmental protection of climbing\, logistics\, risks and minor emergencies. \n\n\n\n\n\n\n\n\n\n\n\n\n\n				Registrations for this event have closed. Contact the organiser for more information.
URL:https://sydneynorthscouts.com/event/rockclimbing-workshop-clb25a-level-1-basic-artificial-practical-night/
CATEGORIES:Basic Rockclimbing Workshop
ORGANIZER;CN="Tom (Turtle) Judge":MAILTO:Thomas.Judge@nsw.scouts.com.au
END:VEVENT
BEGIN:VEVENT
DTSTART;TZID=Australia/Sydney:20250311T073000
DTEND;TZID=Australia/Sydney:20250311T213000
DTSTAMP:20260425T122649
CREATED:20241203T102620Z
LAST-MODIFIED:20241203T102624Z
UID:9209-1741678200-1741728600@sydneynorthscouts.com
SUMMARY:Rockclimbing Workshop CLB25A Level 1 (Basic) – Theory Night
DESCRIPTION:Theory Night and information for – Rock Climbing Weekend. Attending this workshop provides training for Safe Participant\, Trained Participant\, Assistant Guide and Guide along with the ability for youth members to achieve you Stage 4 Climbing OAS under Vertical (Youth Program). The course is suitable for Venturers\, Rovers\, and Leaders.The theory night 1 is held at Barra Brui Scout Hall and theory night 2 at a Climbing Gym. It includes a mix of theory presentations and practical components covering personal equipment\, rope skills\, climbing techniques\, environmental protection of climbing\, logistics\, risks and minor emergencies. \n\n\n\n\n\n\n\n\n\n\n\n\n\n				Registrations for this event have closed. Contact the organiser for more information.
URL:https://sydneynorthscouts.com/event/rockclimbing-workshop-clb25a-level-1-basic-theory-night/
LOCATION:Barra Brui Activity Hall\, Barra Brui Scout Hall\, Hunter St\, St Ives\, NSW\, 2075\, Australia
CATEGORIES:Basic Rockclimbing Workshop
ORGANIZER;CN="Tom (Turtle) Judge":MAILTO:Thomas.Judge@nsw.scouts.com.au
END:VEVENT
BEGIN:VEVENT
DTSTART;TZID=Australia/Sydney:20241123T080000
DTEND;TZID=Australia/Sydney:20241124T170000
DTSTAMP:20260425T122649
CREATED:20231213T124603Z
LAST-MODIFIED:20240307T114517Z
UID:8005-1732348800-1732467600@sydneynorthscouts.com
SUMMARY:Rockclimbing Workshop CLB24D Level 1 (Basic) – Practical Weekend
DESCRIPTION:Rock Climbing Practical Weekend. Attending this workshop provides training for Safe Participant\, Trained Participant\, Assistant Guide and Guide along with the ability for youth members to achieve you Stage 4 Climbing OAS under Vertical (Youth Program). \n\n\n\nThe course is suitable for Venturers\, Rovers\, and Leaders. \n\n\n\nThe theory night 1 is held at Barra Brui Scout Hall and theory night 2 at a Climbing Gym. It includes a mix of theory presentations and practical components covering personal equipment\, rope skills\, climbing techniques\, environmental protection of climbing\, logistics\, risks and minor emergencies. \n\n\n\n\n\n\n\n\n\n\n\n\n\n				Registrations for this event have closed. Contact the organiser for more information.
URL:https://sydneynorthscouts.com/event/rockclimbing-workshop-clb24d-level-1-basic-practical-weekend/
LOCATION:Blue Mountains NSW
CATEGORIES:Basic Rockclimbing Workshop
ORGANIZER;CN="Tom (Turtle) Judge":MAILTO:Thomas.Judge@nsw.scouts.com.au
END:VEVENT
BEGIN:VEVENT
DTSTART;TZID=Australia/Sydney:20241119T073000
DTEND;TZID=Australia/Sydney:20241119T213000
DTSTAMP:20260425T122649
CREATED:20231213T123928Z
LAST-MODIFIED:20240307T114213Z
UID:8003-1732001400-1732051800@sydneynorthscouts.com
SUMMARY:Rockclimbing Workshop CLB24D Level 1 (Basic) – Artificial Practical Night
DESCRIPTION:Artificial Climbing Practical Night for – Rock Climbing Weekend. Attending this workshop provides training for Safe Participant\, Trained Participant\, Assistant Guide and Guide along with the ability for youth members to achieve you Stage 4 Climbing OAS under Vertical (Youth Program). \n\n\n\nThe course is suitable for Venturers\, Rovers\, and Leaders. \n\n\n\nThe theory night 1 is held at Barra Brui Scout Hall and theory night 2 at a Climbing Gym. It includes a mix of theory presentations and practical components covering personal equipment\, rope skills\, climbing techniques\, environmental protection of climbing\, logistics\, risks and minor emergencies. \n\n\n\n\n\n\n\n\n\n\n\n\n\n				Registrations for this event have closed. Contact the organiser for more information.
URL:https://sydneynorthscouts.com/event/rockclimbing-workshop-clb24d-level-1-basic-artificial-practical-night/
CATEGORIES:Basic Rockclimbing Workshop
ORGANIZER;CN="Tom (Turtle) Judge":MAILTO:Thomas.Judge@nsw.scouts.com.au
END:VEVENT
BEGIN:VEVENT
DTSTART;TZID=Australia/Sydney:20241112T073000
DTEND;TZID=Australia/Sydney:20241112T213000
DTSTAMP:20260425T122650
CREATED:20231213T123545Z
LAST-MODIFIED:20240307T114414Z
UID:8001-1731396600-1731447000@sydneynorthscouts.com
SUMMARY:Rockclimbing Workshop CLB24D Level 1 (Basic) – Theory Night
DESCRIPTION:Theory Night and information for – Rock Climbing Weekend. Attending this workshop provides training for Safe Participant\, Trained Participant\, Assistant Guide and Guide along with the ability for youth members to achieve you Stage 4 Climbing OAS under Vertical (Youth Program). The course is suitable for Venturers\, Rovers\, and Leaders.The theory night 1 is held at Barra Brui Scout Hall and theory night 2 at a Climbing Gym. It includes a mix of theory presentations and practical components covering personal equipment\, rope skills\, climbing techniques\, environmental protection of climbing\, logistics\, risks and minor emergencies. \n\n\n\n\n\n\n\n\n\n\n\n\n\n				Registrations for this event have closed. Contact the organiser for more information.
URL:https://sydneynorthscouts.com/event/rockclimbing-workshop-clb24d-level-1-basic-theory-night/
LOCATION:Barra Brui Activity Hall\, Barra Brui Scout Hall\, Hunter St\, St Ives\, NSW\, 2075\, Australia
CATEGORIES:Basic Rockclimbing Workshop
ORGANIZER;CN="Tom (Turtle) Judge":MAILTO:Thomas.Judge@nsw.scouts.com.au
END:VEVENT
BEGIN:VEVENT
DTSTART;TZID=Australia/Sydney:20241019T080000
DTEND;TZID=Australia/Sydney:20241020T170000
DTSTAMP:20260425T122650
CREATED:20231213T123035Z
LAST-MODIFIED:20240307T113502Z
UID:7999-1729324800-1729443600@sydneynorthscouts.com
SUMMARY:Rockclimbing Workshop CLB24C Level 1 (Basic) – Practical Weekend
DESCRIPTION:Rock Climbing Practical Weekend. Attending this workshop provides training for Safe Participant\, Trained Participant\, Assistant Guide and Guide along with the ability for youth members to achieve you Stage 4 Climbing OAS under Vertical (Youth Program). \n\n\n\nThe course is suitable for Venturers\, Rovers\, and Leaders. \n\n\n\nThe theory night 1 is held at Barra Brui Scout Hall and theory night 2 at a Climbing Gym. It includes a mix of theory presentations and practical components covering personal equipment\, rope skills\, climbing techniques\, environmental protection of climbing\, logistics\, risks and minor emergencies. \n\n\n\n\n\n\n\n\n\n\n\n\n\n				Registrations for this event have closed. Contact the organiser for more information.
URL:https://sydneynorthscouts.com/event/rockclimbing-workshop-clb24c-level-1-basic-practical-weekend/
LOCATION:Blue Mountains NSW
CATEGORIES:Basic Rockclimbing Workshop
ORGANIZER;CN="Tom (Turtle) Judge":MAILTO:Thomas.Judge@nsw.scouts.com.au
END:VEVENT
BEGIN:VEVENT
DTSTART;TZID=Australia/Sydney:20241016T190000
DTEND;TZID=Australia/Sydney:20241016T213000
DTSTAMP:20260425T122650
CREATED:20231213T121536Z
LAST-MODIFIED:20240307T113235Z
UID:7993-1729105200-1729114200@sydneynorthscouts.com
SUMMARY:Rockclimbing Workshop CLB24C Level 1 (Basic) – Artificial Practical Night
DESCRIPTION:Artificial Climbing Practical Night for – Rock Climbing Weekend. Attending this workshop provides training for Safe Participant\, Trained Participant\, Assistant Guide and Guide along with the ability for youth members to achieve you Stage 4 Climbing OAS under Vertical (Youth Program). \n\n\n\nThe course is suitable for Venturers\, Rovers\, and Leaders. \n\n\n\nThe theory night 1 is held at Barra Brui Scout Hall and theory night 2 at a Climbing Gym. It includes a mix of theory presentations and practical components covering personal equipment\, rope skills\, climbing techniques\, environmental protection of climbing\, logistics\, risks and minor emergencies. \n\n\n\n\n\n\n\n\n\n\n\n\n\n				Registrations for this event have closed. Contact the organiser for more information.
URL:https://sydneynorthscouts.com/event/rockclimbing-workshop-clb24c-level-1-basic-artificial-practical-night/
CATEGORIES:Basic Rockclimbing Workshop
ORGANIZER;CN="Tom (Turtle) Judge":MAILTO:Thomas.Judge@nsw.scouts.com.au
END:VEVENT
BEGIN:VEVENT
DTSTART;TZID=Australia/Sydney:20241009T190000
DTEND;TZID=Australia/Sydney:20241009T213000
DTSTAMP:20260425T122650
CREATED:20231213T122231Z
LAST-MODIFIED:20240307T113354Z
UID:7996-1728500400-1728509400@sydneynorthscouts.com
SUMMARY:Rockclimbing Workshop CLB24C Level 1 (Basic) – Theory Night
DESCRIPTION:Theory Night and information for – Rock Climbing Weekend. Attending this workshop provides training for Safe Participant\, Trained Participant\, Assistant Guide and Guide along with the ability for youth members to achieve you Stage 4 Climbing OAS under Vertical (Youth Program). \n\n\n\nThe course is suitable for Venturers\, Rovers\, and Leaders. \n\n\n\nThe theory night 1 is held at Barra Brui Scout Hall and theory night 2 at a Climbing Gym. It includes a mix of theory presentations and practical components covering personal equipment\, rope skills\, climbing techniques\, environmental protection of climbing\, logistics\, risks and minor emergencies. \n\n\n\n\n\n\n\n\n\n\n\n\n\n				Registrations for this event have closed. Contact the organiser for more information.
URL:https://sydneynorthscouts.com/event/rockclimbing-workshop-clb24c-level-1-basic-theory-night/
LOCATION:Barra Brui Activity Hall\, Barra Brui Scout Hall\, Hunter St\, St Ives\, NSW\, 2075\, Australia
CATEGORIES:Basic Rockclimbing Workshop
ORGANIZER;CN="Tom (Turtle) Judge":MAILTO:Thomas.Judge@nsw.scouts.com.au
END:VEVENT
BEGIN:VEVENT
DTSTART;TZID=Australia/Sydney:20240518T080000
DTEND;TZID=Australia/Sydney:20240519T170000
DTSTAMP:20260425T122651
CREATED:20231213T120201Z
LAST-MODIFIED:20240307T112358Z
UID:7988-1716019200-1716138000@sydneynorthscouts.com
SUMMARY:Rockclimbing Workshop CLB24B Level 1 (Basic) – Practical Weekend
DESCRIPTION:Rock Climbing Practical Weekend. Attending this workshop provides training for Safe Participant\, Trained Participant\, Assistant Guide and Guide along with the ability for youth members to achieve you Stage 4 Climbing OAS under Vertical (Youth Program). \n\n\n\nThe course is suitable for Venturers\, Rovers\, and Leaders. \n\n\n\nThe theory night 1 is held at Barra Brui Scout Hall and theory night 2 at a Climbing Gym. It includes a mix of theory presentations and practical components covering personal equipment\, rope skills\, climbing techniques\, environmental protection of climbing\, logistics\, risks and minor emergencies. \n\n\n\n\n\n\n\n\n\n\n\n\n\n				Registrations for this event have closed. Contact the organiser for more information.
URL:https://sydneynorthscouts.com/event/rockclimbing-workshop-clb24b-level-1-basic-practical-weekend/
LOCATION:Blue Mountains NSW
CATEGORIES:Basic Rockclimbing Workshop
ORGANIZER;CN="Tom (Turtle) Judge":MAILTO:Thomas.Judge@nsw.scouts.com.au
END:VEVENT
BEGIN:VEVENT
DTSTART;TZID=Australia/Sydney:20240514T190000
DTEND;TZID=Australia/Sydney:20240514T213000
DTSTAMP:20260425T122651
CREATED:20231213T121333Z
LAST-MODIFIED:20240307T112620Z
UID:7992-1715713200-1715722200@sydneynorthscouts.com
SUMMARY:Rockclimbing Workshop CLB24B Level 1 (Basic) – Artificial Practical Night
DESCRIPTION:Artificial Climbing Practical Night for – Rock Climbing Weekend. Attending this workshop provides training for Safe Participant\, Trained Participant\, Assistant Guide and Guide along with the ability for youth members to achieve you Stage 4 Climbing OAS under Vertical (Youth Program). \n\n\n\nThe course is suitable for Venturers\, Rovers\, and Leaders. \n\n\n\nThe theory night 1 is held at Barra Brui Scout Hall and theory night 2 at a Climbing Gym. It includes a mix of theory presentations and practical components covering personal equipment\, rope skills\, climbing techniques\, environmental protection of climbing\, logistics\, risks and minor emergencies. \n\n\n\n\n\n\n\n\n\n\n\n\n\n				Registrations for this event have closed. Contact the organiser for more information.
URL:https://sydneynorthscouts.com/event/rockclimbing-workshop-clb24b-level-1-basic-artificial-practical-night/
CATEGORIES:Basic Rockclimbing Workshop
ORGANIZER;CN="Tom (Turtle) Judge":MAILTO:Thomas.Judge@nsw.scouts.com.au
END:VEVENT
BEGIN:VEVENT
DTSTART;TZID=Australia/Sydney:20240507T190000
DTEND;TZID=Australia/Sydney:20240507T213000
DTSTAMP:20260425T122651
CREATED:20231213T120547Z
LAST-MODIFIED:20240307T112456Z
UID:7990-1715108400-1715117400@sydneynorthscouts.com
SUMMARY:Rockclimbing Workshop CLB24B Level 1 (Basic) – Theory Night
DESCRIPTION:Theory Night and information for – Rock Climbing Weekend. Attending this workshop provides training for Safe Participant\, Trained Participant\, Assistant Guide and Guide along with the ability for youth members to achieve you Stage 4 Climbing OAS under Vertical (Youth Program). \n\n\n\nThe course is suitable for Venturers\, Rovers\, and Leaders. \n\n\n\nThe theory night 1 is held at Barra Brui Scout Hall and theory night 2 at a Climbing Gym. It includes a mix of theory presentations and practical components covering personal equipment\, rope skills\, climbing techniques\, environmental protection of climbing\, logistics\, risks and minor emergencies. \n\n\n\n\n\n\n\n\n\n\n\n\n\n				Registrations for this event have closed. Contact the organiser for more information.
URL:https://sydneynorthscouts.com/event/rockclimbing-workshop-clb24b-level-1-basic-theory-night/
LOCATION:Barra Brui Activity Hall\, Barra Brui Scout Hall\, Hunter St\, St Ives\, NSW\, 2075\, Australia
CATEGORIES:Basic Rockclimbing Workshop
ORGANIZER;CN="Tom (Turtle) Judge":MAILTO:Thomas.Judge@nsw.scouts.com.au
END:VEVENT
END:VCALENDAR