BEGIN:VCALENDAR
VERSION:2.0
PRODID:-//Sydney North Region Scouts - ECPv6.15.20//NONSGML v1.0//EN
CALSCALE:GREGORIAN
METHOD:PUBLISH
X-WR-CALNAME:Sydney North Region Scouts
X-ORIGINAL-URL:https://sydneynorthscouts.com
X-WR-CALDESC:Events for Sydney North Region Scouts
REFRESH-INTERVAL;VALUE=DURATION:PT1H
X-Robots-Tag:noindex
X-PUBLISHED-TTL:PT1H
BEGIN:VTIMEZONE
TZID:Australia/Sydney
BEGIN:STANDARD
TZOFFSETFROM:+1100
TZOFFSETTO:+1000
TZNAME:AEST
DTSTART:20250405T160000
END:STANDARD
BEGIN:DAYLIGHT
TZOFFSETFROM:+1000
TZOFFSETTO:+1100
TZNAME:AEDT
DTSTART:20251004T160000
END:DAYLIGHT
BEGIN:STANDARD
TZOFFSETFROM:+1100
TZOFFSETTO:+1000
TZNAME:AEST
DTSTART:20260404T160000
END:STANDARD
BEGIN:DAYLIGHT
TZOFFSETFROM:+1000
TZOFFSETTO:+1100
TZNAME:AEDT
DTSTART:20261003T160000
END:DAYLIGHT
BEGIN:STANDARD
TZOFFSETFROM:+1100
TZOFFSETTO:+1000
TZNAME:AEST
DTSTART:20270403T160000
END:STANDARD
BEGIN:DAYLIGHT
TZOFFSETFROM:+1000
TZOFFSETTO:+1100
TZNAME:AEDT
DTSTART:20271002T160000
END:DAYLIGHT
END:VTIMEZONE
BEGIN:VEVENT
DTSTART;TZID=Australia/Sydney:20260124T073000
DTEND;TZID=Australia/Sydney:20260126T180000
DTSTAMP:20260421T045909
CREATED:20251127T101915Z
LAST-MODIFIED:20251127T101919Z
UID:10679-1769239800-1769450400@sydneynorthscouts.com
SUMMARY:Victorian Scouts Canyoning - Mt Wilson
DESCRIPTION:Canyoning Guides and Trained Participants Only \n\n\n\n\n\nWe have some Victorian Venturers and Leaders coming up at the end of January to do some canyoning. They will arrive in the Blue Mts on Friday night and we will canyon Sat\, Sun\, & Mon.If you can lend a hand for the weekend or even a day or two it would be much appreciated.Need minimum of 3 Guides and 3 TP’s for each day. \n\n\n\nCamping\n\n\n\nWe will be camping at Mt WIlson \n\n\n\nYou will need to bring your own Tent & Sleeping Gear and the event will be self catered. \n\n\n\n				\n                Book Now\n            \n				\n				Registrations closes by:  2026-08-03 18:45:00 \n				Note: starting your application does not reserve your spot\, you must submit your application and pay.
URL:https://sydneynorthscouts.com/event/victorian-scouts-canyoning-mt-wilson/
LOCATION:Kanangra-Boyd National Park
CATEGORIES:Canyoning
ORGANIZER;CN="Wesley Leverton":MAILTO:wesley.leverton@nsw.scouts.com.au
END:VEVENT
END:VCALENDAR