BEGIN:VCALENDAR
VERSION:2.0
PRODID:-//Sydney North Region Scouts - ECPv6.15.20//NONSGML v1.0//EN
CALSCALE:GREGORIAN
METHOD:PUBLISH
X-ORIGINAL-URL:https://sydneynorthscouts.com
X-WR-CALDESC:Events for Sydney North Region Scouts
REFRESH-INTERVAL;VALUE=DURATION:PT1H
X-Robots-Tag:noindex
X-PUBLISHED-TTL:PT1H
BEGIN:VTIMEZONE
TZID:Australia/Sydney
BEGIN:STANDARD
TZOFFSETFROM:+1100
TZOFFSETTO:+1000
TZNAME:AEST
DTSTART:20250405T160000
END:STANDARD
BEGIN:DAYLIGHT
TZOFFSETFROM:+1000
TZOFFSETTO:+1100
TZNAME:AEDT
DTSTART:20251004T160000
END:DAYLIGHT
BEGIN:STANDARD
TZOFFSETFROM:+1100
TZOFFSETTO:+1000
TZNAME:AEST
DTSTART:20260404T160000
END:STANDARD
BEGIN:DAYLIGHT
TZOFFSETFROM:+1000
TZOFFSETTO:+1100
TZNAME:AEDT
DTSTART:20261003T160000
END:DAYLIGHT
BEGIN:STANDARD
TZOFFSETFROM:+1100
TZOFFSETTO:+1000
TZNAME:AEST
DTSTART:20270403T160000
END:STANDARD
BEGIN:DAYLIGHT
TZOFFSETFROM:+1000
TZOFFSETTO:+1100
TZNAME:AEDT
DTSTART:20271002T160000
END:DAYLIGHT
END:VTIMEZONE
BEGIN:VEVENT
DTSTART;TZID=Australia/Sydney:20260207T080000
DTEND;TZID=Australia/Sydney:20260208T163000
DTSTAMP:20260420T125433
CREATED:20251201T094817Z
LAST-MODIFIED:20251201T095350Z
UID:10713-1770451200-1770568200@sydneynorthscouts.com
SUMMARY:Advanced Rescue Workshop - CVR26A
DESCRIPTION:This a workshop for those that already have a Guide (Abseil\, Canyon\, Cave\, Rock Climbing) qualification and are looking to work towards mulitpitch abseiling and advanced canyoning. \n\n\n\nTo Attend you MUST already hold a Guide Vertical Qualification in at least one vertical disipline and MUST be able to perform basic vertical rescues with a level of proficiency. \n\n\n\nWe will have time for people to practice their skills on the Saturday and complete the assessment on Sunday. Depeding on numbers and skill levels we may be able to complete the workshop on the Saturday. \n\n\n\nWe will be covering the following\, hauls\, pick off rescues\, load transfers to another system\, rescue from below\, rescue from above\, hauls\, rescue from a traverse. \n\n\n\nThis workshop requires a reasonable fitness level to be able to perform the required rescues. \n\n\n\nCovers the Complex Rescue Module. Targeted at existing Vertical Guides. \n\n\n\n\n\n\n\n				\n                Book Now\n            \n				\n				Registrations closes by:  2026-08-03 18:45:00 \n				Note: starting your application does not reserve your spot\, you must submit your application and pay.
URL:https://sydneynorthscouts.com/event/advanced-rescue-workshop-cvr26a/
LOCATION:Wahroonga Rocks\, Cliff Oval\, Wahroonga\, NSW\, Australia
CATEGORIES:Abseiling,SNR Rigging & Rescue Course,Canyoning
ORGANIZER;CN="Harry J.E Day":MAILTO:harry.day@nsw.scouts.com.au
END:VEVENT
END:VCALENDAR