BEGIN:VCALENDAR
VERSION:2.0
PRODID:-//Sydney North Region Scouts - ECPv6.15.20//NONSGML v1.0//EN
CALSCALE:GREGORIAN
METHOD:PUBLISH
X-WR-CALNAME:Sydney North Region Scouts
X-ORIGINAL-URL:https://sydneynorthscouts.com
X-WR-CALDESC:Events for Sydney North Region Scouts
REFRESH-INTERVAL;VALUE=DURATION:PT1H
X-Robots-Tag:noindex
X-PUBLISHED-TTL:PT1H
BEGIN:VTIMEZONE
TZID:Australia/Sydney
BEGIN:STANDARD
TZOFFSETFROM:+1100
TZOFFSETTO:+1000
TZNAME:AEST
DTSTART:20230401T160000
END:STANDARD
BEGIN:DAYLIGHT
TZOFFSETFROM:+1000
TZOFFSETTO:+1100
TZNAME:AEDT
DTSTART:20230930T160000
END:DAYLIGHT
BEGIN:STANDARD
TZOFFSETFROM:+1100
TZOFFSETTO:+1000
TZNAME:AEST
DTSTART:20240406T160000
END:STANDARD
BEGIN:DAYLIGHT
TZOFFSETFROM:+1000
TZOFFSETTO:+1100
TZNAME:AEDT
DTSTART:20241005T160000
END:DAYLIGHT
BEGIN:STANDARD
TZOFFSETFROM:+1100
TZOFFSETTO:+1000
TZNAME:AEST
DTSTART:20250405T160000
END:STANDARD
BEGIN:DAYLIGHT
TZOFFSETFROM:+1000
TZOFFSETTO:+1100
TZNAME:AEDT
DTSTART:20251004T160000
END:DAYLIGHT
END:VTIMEZONE
BEGIN:VEVENT
DTSTART;TZID=Australia/Sydney:20241102T080000
DTEND;TZID=Australia/Sydney:20241103T170000
DTSTAMP:20260425T131745
CREATED:20231213T110423Z
LAST-MODIFIED:20240307T054127Z
UID:7969-1730534400-1730653200@sydneynorthscouts.com
SUMMARY:Canyoning Trained Participant Workshop – CYN24B-TP
DESCRIPTION:Attending this workshop provides training for Trained Participant\, Assistant Guide and Guide. \n\n\n\nThe course is suitable for Venturers\, Rovers\, and Leaders. \n\n\n\nThe location is Barra Brui Hall on Saturday and TBC on Sunday and includes a mix of theory and practical components covering personal equipment\, rope skills\, abseiling in canyons\, walking skills\, environmental protection of canyons\, logistics\, risks\, minor emergencies\, set-ups and rescues. \n\n\n\n\n\n\n\n\n\n\n\n				\n                Book Now\n            \n				\n				Registrations closes by:  2026-08-03 18:45:00 \n				Note: starting your application does not reserve your spot\, you must submit your application and pay.
URL:https://sydneynorthscouts.com/event/canyoning-trained-participant-workshop-cny24b-tp/
LOCATION:Barra Brui Activity Hall\, Barra Brui Scout Hall\, Hunter St\, St Ives\, NSW\, 2075\, Australia
CATEGORIES:Canyoning
ORGANIZER;CN="Craig Stanfield":MAILTO:Craig.Stanfield@nsw.scouts.com.au
END:VEVENT
BEGIN:VEVENT
DTSTART;TZID=Australia/Sydney:20241105T183000
DTEND;TZID=Australia/Sydney:20241105T200000
DTSTAMP:20260425T131745
CREATED:20240812T120325Z
LAST-MODIFIED:20240812T120327Z
UID:8959-1730831400-1730836800@sydneynorthscouts.com
SUMMARY:Evening Rockcraft Workshop (REW24I)
DESCRIPTION:Monthly Rockcraft Skills workshop – open to anyone who has attended a TP/AG (Level 2) course\, or Guides maintaining currency. Current Qual not required. This is a self driven workshop where we will cover what you need to work on toward your quals\, or what you want to practise/review. \n\n\n\nA great way to build your skills towards guide (or your OAS levels). Rescue workshops are also one of the ways you can demonstrate your rescue currency which is required for all guides\, and especially if you are going through requal. If you are a current guide this is also a good way to stop your rescue skills getting rusty. \n\n\n\nWhat to Bring\n\n\n\n\nA Head Torch\n\n\n\nYour Personal Abseil Gear (It is assumed you have your own gear\, if you do not please specify on Scout Event at least 24 hours beforehand)\n\n\n\n\nPlease let me know if you have any topics you specifically want to cover. \n\n\n\nThis year we are asking that all participants register on Scout Event. \n\n\n\n				\n                Book Now\n            \n				\n				Registrations closes by:  2026-08-03 18:45:00 \n				Note: starting your application does not reserve your spot\, you must submit your application and pay.
URL:https://sydneynorthscouts.com/event/evening-rockcraft-workshop-rew24i-2/
LOCATION:Barra Brui Activity Hall\, Barra Brui Scout Hall\, Hunter St\, St Ives\, NSW\, 2075\, Australia
CATEGORIES:Evening Rescue Workshops
END:VEVENT
BEGIN:VEVENT
DTSTART;TZID=Australia/Sydney:20241106T190000
DTEND;TZID=Australia/Sydney:20241106T213000
DTSTAMP:20260425T131746
CREATED:20231213T105202Z
LAST-MODIFIED:20231213T105206Z
UID:7964-1730919600-1730928600@sydneynorthscouts.com
SUMMARY:Canyoning Adventure Weekend – Theory Night CNY24B & CNY24C
DESCRIPTION:This is an adventure weekend of vertical canyoning. Attending this workshop provides training for Safe Participant\, Trained Participant\, Assistant Guide and Guide along with the ability for youth members to achieve you Stage 4 Caynoning OAS under Vertical (Youth Program). \n\n\n\nThe course is suitable for Venturers\, Rovers\, and Leaders. \n\n\n\nThe theory night is held at Barra Brui Scout Hall and includes a mix of theory presentations and practical components covering personal equipment\, rope skills\, abseiling in canyons\, walking skills\, environmental protection of canyons\, logistics\, risks and minor emergencies. \n\n\n\nThe theory night is shared between the November & December Canyoning events. You can register and find more information here.
URL:https://sydneynorthscouts.com/event/canyoning-adventure-weekend-theory-night-cny24b-cny24c/
LOCATION:Barra Brui Activity Hall\, Barra Brui Scout Hall\, Hunter St\, St Ives\, NSW\, 2075\, Australia
CATEGORIES:Canyoning
ORGANIZER;CN="Craig Stanfield":MAILTO:Craig.Stanfield@nsw.scouts.com.au
END:VEVENT
BEGIN:VEVENT
DTSTART;TZID=Australia/Sydney:20241110T090000
DTEND;TZID=Australia/Sydney:20241110T163000
DTSTAMP:20260425T131746
CREATED:20231213T101746Z
LAST-MODIFIED:20231213T101755Z
UID:7948-1731229200-1731256200@sydneynorthscouts.com
SUMMARY:Scout Abseil Day – ASD24F
DESCRIPTION:3 Sessions 9-30am\, 12 Noon and 2-00pm \n\n\n\nBookings Close 13th October\, 2024. Contact Roland Simpson for Further info
URL:https://sydneynorthscouts.com/event/scout-abseil-day-asd24f/
LOCATION:Lindfield Rocks\, Lindfield Rocks\, Tryon Rd\, East Lindfield\, NSW\, 2070\, Australia
CATEGORIES:Scouts Abseil Days
ORGANIZER;CN="Roland Simpson":MAILTO:roland.simpson@nsw.scouts.com.au
END:VEVENT
BEGIN:VEVENT
DTSTART;TZID=Australia/Sydney:20241112T073000
DTEND;TZID=Australia/Sydney:20241112T213000
DTSTAMP:20260425T131746
CREATED:20231213T123545Z
LAST-MODIFIED:20240307T114414Z
UID:8001-1731396600-1731447000@sydneynorthscouts.com
SUMMARY:Rockclimbing Workshop CLB24D Level 1 (Basic) – Theory Night
DESCRIPTION:Theory Night and information for – Rock Climbing Weekend. Attending this workshop provides training for Safe Participant\, Trained Participant\, Assistant Guide and Guide along with the ability for youth members to achieve you Stage 4 Climbing OAS under Vertical (Youth Program). The course is suitable for Venturers\, Rovers\, and Leaders.The theory night 1 is held at Barra Brui Scout Hall and theory night 2 at a Climbing Gym. It includes a mix of theory presentations and practical components covering personal equipment\, rope skills\, climbing techniques\, environmental protection of climbing\, logistics\, risks and minor emergencies. \n\n\n\n\n\n\n\n\n\n\n\n\n\n				\n                Book Now\n            \n				\n				Registrations closes by:  2026-08-03 18:45:00 \n				Note: starting your application does not reserve your spot\, you must submit your application and pay.
URL:https://sydneynorthscouts.com/event/rockclimbing-workshop-clb24d-level-1-basic-theory-night/
LOCATION:Barra Brui Activity Hall\, Barra Brui Scout Hall\, Hunter St\, St Ives\, NSW\, 2075\, Australia
CATEGORIES:Basic Rockclimbing Workshop
ORGANIZER;CN="Tom (Turtle) Judge":MAILTO:Thomas.Judge@nsw.scouts.com.au
END:VEVENT
BEGIN:VEVENT
DTSTART;TZID=Australia/Sydney:20241116T080000
DTEND;TZID=Australia/Sydney:20241117T170000
DTSTAMP:20260425T131746
CREATED:20231213T104326Z
LAST-MODIFIED:20240307T052946Z
UID:7960-1731744000-1731862800@sydneynorthscouts.com
SUMMARY:Canyoning Adventure Weekend – Practical CYN24B
DESCRIPTION:This is an adventure weekend of vertical canyoning. Attending this workshop provides training for Safe Participant\, Trained Participant\, Assistant Guide and Guide along with the ability for youth members to achieve you Stage 4 Caynoning OAS under Vertical (Youth Program). \n\n\n\nThe course is suitable for Venturers\, Rovers\, and Leaders. \n\n\n\nThe theory night is held at Barra Brui Scout Hall and includes a mix of theory presentations and practical components covering personal equipment\, rope skills\, abseiling in canyons\, walking skills\, environmental protection of canyons\, logistics\, risks and minor emergencies. \n\n\n\n\n\n\n\n\n\n\n\n				\n                Book Now\n            \n				\n				Registrations closes by:  2026-08-03 18:45:00 \n				Note: starting your application does not reserve your spot\, you must submit your application and pay.
URL:https://sydneynorthscouts.com/event/canyoning-adventure-weekend-practical-cny24b/
LOCATION:Blue Mountains NSW
CATEGORIES:Canyoning
ORGANIZER;CN="Craig Stanfield":MAILTO:Craig.Stanfield@nsw.scouts.com.au
END:VEVENT
BEGIN:VEVENT
DTSTART;TZID=Australia/Sydney:20241119T073000
DTEND;TZID=Australia/Sydney:20241119T213000
DTSTAMP:20260425T131746
CREATED:20231213T123928Z
LAST-MODIFIED:20240307T114213Z
UID:8003-1732001400-1732051800@sydneynorthscouts.com
SUMMARY:Rockclimbing Workshop CLB24D Level 1 (Basic) – Artificial Practical Night
DESCRIPTION:Artificial Climbing Practical Night for – Rock Climbing Weekend. Attending this workshop provides training for Safe Participant\, Trained Participant\, Assistant Guide and Guide along with the ability for youth members to achieve you Stage 4 Climbing OAS under Vertical (Youth Program). \n\n\n\nThe course is suitable for Venturers\, Rovers\, and Leaders. \n\n\n\nThe theory night 1 is held at Barra Brui Scout Hall and theory night 2 at a Climbing Gym. It includes a mix of theory presentations and practical components covering personal equipment\, rope skills\, climbing techniques\, environmental protection of climbing\, logistics\, risks and minor emergencies. \n\n\n\n\n\n\n\n\n\n\n\n\n\n				\n                Book Now\n            \n				\n				Registrations closes by:  2026-08-03 18:45:00 \n				Note: starting your application does not reserve your spot\, you must submit your application and pay.
URL:https://sydneynorthscouts.com/event/rockclimbing-workshop-clb24d-level-1-basic-artificial-practical-night/
CATEGORIES:Basic Rockclimbing Workshop
ORGANIZER;CN="Tom (Turtle) Judge":MAILTO:Thomas.Judge@nsw.scouts.com.au
END:VEVENT
BEGIN:VEVENT
DTSTART;TZID=Australia/Sydney:20241123T080000
DTEND;TZID=Australia/Sydney:20241124T170000
DTSTAMP:20260425T131747
CREATED:20231213T124603Z
LAST-MODIFIED:20240307T114517Z
UID:8005-1732348800-1732467600@sydneynorthscouts.com
SUMMARY:Rockclimbing Workshop CLB24D Level 1 (Basic) – Practical Weekend
DESCRIPTION:Rock Climbing Practical Weekend. Attending this workshop provides training for Safe Participant\, Trained Participant\, Assistant Guide and Guide along with the ability for youth members to achieve you Stage 4 Climbing OAS under Vertical (Youth Program). \n\n\n\nThe course is suitable for Venturers\, Rovers\, and Leaders. \n\n\n\nThe theory night 1 is held at Barra Brui Scout Hall and theory night 2 at a Climbing Gym. It includes a mix of theory presentations and practical components covering personal equipment\, rope skills\, climbing techniques\, environmental protection of climbing\, logistics\, risks and minor emergencies. \n\n\n\n\n\n\n\n\n\n\n\n\n\n				\n                Book Now\n            \n				\n				Registrations closes by:  2026-08-03 18:45:00 \n				Note: starting your application does not reserve your spot\, you must submit your application and pay.
URL:https://sydneynorthscouts.com/event/rockclimbing-workshop-clb24d-level-1-basic-practical-weekend/
LOCATION:Blue Mountains NSW
CATEGORIES:Basic Rockclimbing Workshop
ORGANIZER;CN="Tom (Turtle) Judge":MAILTO:Thomas.Judge@nsw.scouts.com.au
END:VEVENT
BEGIN:VEVENT
DTSTART;TZID=Australia/Sydney:20241127T183000
DTEND;TZID=Australia/Sydney:20241127T200000
DTSTAMP:20260425T131747
CREATED:20240812T120529Z
LAST-MODIFIED:20240812T120533Z
UID:8960-1732732200-1732737600@sydneynorthscouts.com
SUMMARY:Evening Rockcraft Workshop (REW24M)
DESCRIPTION:Monthly Rockcraft Skills workshop – open to anyone who has attended a TP/AG (Level 2) course\, or Guides maintaining currency. Current Qual not required. This is a self driven workshop where we will cover what you need to work on toward your quals\, or what you want to practise/review. \n\n\n\nA great way to build your skills towards guide (or your OAS levels). Rescue workshops are also one of the ways you can demonstrate your rescue currency which is required for all guides\, and especially if you are going through requal. If you are a current guide this is also a good way to stop your rescue skills getting rusty. \n\n\n\nWhat to Bring\n\n\n\n\nA Head Torch\n\n\n\nYour Personal Abseil Gear (It is assumed you have your own gear\, if you do not please specify on Scout Event at least 24 hours beforehand)\n\n\n\n\nPlease let me know if you have any topics you specifically want to cover. \n\n\n\nThis year we are asking that all participants register on Scout Event. \n\n\n\n				\n                Book Now\n            \n				\n				Registrations closes by:  2026-08-03 18:45:00 \n				Note: starting your application does not reserve your spot\, you must submit your application and pay.
URL:https://sydneynorthscouts.com/event/evening-rockcraft-workshop-rew24m/
LOCATION:Lindfield Rocks\, Lindfield Rocks\, Tryon Rd\, East Lindfield\, NSW\, 2070\, Australia
CATEGORIES:Evening Rescue Workshops
END:VEVENT
BEGIN:VEVENT
DTSTART;TZID=Australia/Sydney:20241130T080000
DTEND;TZID=Australia/Sydney:20241201T170000
DTSTAMP:20260425T131747
CREATED:20231213T104739Z
LAST-MODIFIED:20240307T053201Z
UID:7961-1732953600-1733072400@sydneynorthscouts.com
SUMMARY:Canyoning Adventure Weekend – Practical CYN24C
DESCRIPTION:This is an adventure weekend of vertical canyoning. Attending this workshop provides training for Safe Participant\, Trained Participant\, Assistant Guide and Guide along with the ability for youth members to achieve you Stage 4 Caynoning OAS under Vertical (Youth Program). \n\n\n\nThe course is suitable for Venturers\, Rovers\, and Leaders. \n\n\n\nThe theory night is held at Barra Brui Scout Hall and includes a mix of theory presentations and practical components covering personal equipment\, rope skills\, abseiling in canyons\, walking skills\, environmental protection of canyons\, logistics\, risks and minor emergencies. \n\n\n\n\n\n\n\n\n\n\n\n				\n                Book Now\n            \n				\n				Registrations closes by:  2026-08-03 18:45:00 \n				Note: starting your application does not reserve your spot\, you must submit your application and pay.
URL:https://sydneynorthscouts.com/event/canyoning-adventure-weekend-practical-cny24c/
LOCATION:Blue Mountains NSW
CATEGORIES:Canyoning
ORGANIZER;CN="Craig Stanfield":MAILTO:Craig.Stanfield@nsw.scouts.com.au
END:VEVENT
END:VCALENDAR