BEGIN:VCALENDAR
VERSION:2.0
PRODID:-//Sydney North Region Scouts - ECPv6.15.20//NONSGML v1.0//EN
CALSCALE:GREGORIAN
METHOD:PUBLISH
X-WR-CALNAME:Sydney North Region Scouts
X-ORIGINAL-URL:https://sydneynorthscouts.com
X-WR-CALDESC:Events for Sydney North Region Scouts
REFRESH-INTERVAL;VALUE=DURATION:PT1H
X-Robots-Tag:noindex
X-PUBLISHED-TTL:PT1H
BEGIN:VTIMEZONE
TZID:Australia/Sydney
BEGIN:STANDARD
TZOFFSETFROM:+1100
TZOFFSETTO:+1000
TZNAME:AEST
DTSTART:20250405T160000
END:STANDARD
BEGIN:DAYLIGHT
TZOFFSETFROM:+1000
TZOFFSETTO:+1100
TZNAME:AEDT
DTSTART:20251004T160000
END:DAYLIGHT
BEGIN:STANDARD
TZOFFSETFROM:+1100
TZOFFSETTO:+1000
TZNAME:AEST
DTSTART:20260404T160000
END:STANDARD
BEGIN:DAYLIGHT
TZOFFSETFROM:+1000
TZOFFSETTO:+1100
TZNAME:AEDT
DTSTART:20261003T160000
END:DAYLIGHT
BEGIN:STANDARD
TZOFFSETFROM:+1100
TZOFFSETTO:+1000
TZNAME:AEST
DTSTART:20270403T160000
END:STANDARD
BEGIN:DAYLIGHT
TZOFFSETFROM:+1000
TZOFFSETTO:+1100
TZNAME:AEDT
DTSTART:20271002T160000
END:DAYLIGHT
END:VTIMEZONE
BEGIN:VEVENT
DTSTART;TZID=Australia/Sydney:20260420T193000
DTEND;TZID=Australia/Sydney:20260420T213000
DTSTAMP:20260420T081607
CREATED:20251201T092932Z
LAST-MODIFIED:20251201T092934Z
UID:10699-1776713400-1776720600@sydneynorthscouts.com
SUMMARY:Rockcraft Team Meeting
DESCRIPTION:
URL:https://sydneynorthscouts.com/event/rockcraft-team-meeting-8/
LOCATION:Barra Brui Activity Hall\, Barra Brui Scout Hall\, Hunter St\, St Ives\, NSW\, 2075\, Australia
CATEGORIES:Rockcraft Team Meetings
ORGANIZER;CN="Shane Miller":MAILTO:shane.miller@nsw.scouts.com.au
END:VEVENT
BEGIN:VEVENT
DTSTART;TZID=Australia/Sydney:20260429T073000
DTEND;TZID=Australia/Sydney:20260429T213000
DTSTAMP:20260420T081607
CREATED:20260107T093650Z
LAST-MODIFIED:20260107T093654Z
UID:10876-1777447800-1777498200@sydneynorthscouts.com
SUMMARY:Rockclimbing Workshop CLB26B Level 1 (Basic) – Theory Night
DESCRIPTION:Theory Night and information for – Rock Climbing Weekend. Attending this workshop provides training for Safe Participant\, Trained Participant\, Assistant Guide and Guide along with the ability for youth members to achieve you Stage 4 Climbing OAS under Vertical (Youth Program). The course is suitable for Venturers\, Rovers\, and Leaders.The theory night 1 is held at Barra Brui Scout Hall and theory night 2 at a Climbing Gym. It includes a mix of theory presentations and practical components covering personal equipment\, rope skills\, climbing techniques\, environmental protection of climbing\, logistics\, risks and minor emergencies. \n\n\n\n\n\n\n\n\n\n				\n                Book Now\n            \n				23 of 25 places remaining. \n				Registrations closes by:  2026-07-18 18:30:00 \n				Note: starting your application does not reserve your spot\, you must submit your application and pay.
URL:https://sydneynorthscouts.com/event/rockclimbing-workshop-clb26b-level-1-basic-theory-night/
LOCATION:Barra Brui Activity Hall\, Barra Brui Scout Hall\, Hunter St\, St Ives\, NSW\, 2075\, Australia
CATEGORIES:Basic Rockclimbing Workshop
ORGANIZER;CN="Tom (Turtle) Judge":MAILTO:Thomas.Judge@nsw.scouts.com.au
END:VEVENT
END:VCALENDAR