BEGIN:VCALENDAR
VERSION:2.0
PRODID:-//Sydney North Region Scouts - ECPv6.15.20//NONSGML v1.0//EN
CALSCALE:GREGORIAN
METHOD:PUBLISH
X-ORIGINAL-URL:https://sydneynorthscouts.com
X-WR-CALDESC:Events for Sydney North Region Scouts
REFRESH-INTERVAL;VALUE=DURATION:PT1H
X-Robots-Tag:noindex
X-PUBLISHED-TTL:PT1H
BEGIN:VTIMEZONE
TZID:Australia/Sydney
BEGIN:STANDARD
TZOFFSETFROM:+1100
TZOFFSETTO:+1000
TZNAME:AEST
DTSTART:20240406T160000
END:STANDARD
BEGIN:DAYLIGHT
TZOFFSETFROM:+1000
TZOFFSETTO:+1100
TZNAME:AEDT
DTSTART:20241005T160000
END:DAYLIGHT
BEGIN:STANDARD
TZOFFSETFROM:+1100
TZOFFSETTO:+1000
TZNAME:AEST
DTSTART:20250405T160000
END:STANDARD
BEGIN:DAYLIGHT
TZOFFSETFROM:+1000
TZOFFSETTO:+1100
TZNAME:AEDT
DTSTART:20251004T160000
END:DAYLIGHT
BEGIN:STANDARD
TZOFFSETFROM:+1100
TZOFFSETTO:+1000
TZNAME:AEST
DTSTART:20260404T160000
END:STANDARD
BEGIN:DAYLIGHT
TZOFFSETFROM:+1000
TZOFFSETTO:+1100
TZNAME:AEDT
DTSTART:20261003T160000
END:DAYLIGHT
END:VTIMEZONE
BEGIN:VEVENT
DTSTART;TZID=Australia/Sydney:20251130T090000
DTEND;TZID=Australia/Sydney:20251130T170000
DTSTAMP:20260426T004349
CREATED:20250923T045246Z
LAST-MODIFIED:20250923T045411Z
UID:10583-1764493200-1764522000@sydneynorthscouts.com
SUMMARY:Hornsby Gang Show Auditions
DESCRIPTION:Do you have a passion for performing\, singing\, dancing\, or acting? Now’s your chance to register to audition for the cast of one of the most enthusiastic and fun shows in the Scouting movement! Whether you’re a seasoned performer or it’s your first time on stage\, we want YOU to sign up and show us what you’ve got! \n\n\n\nThrough performing arts\, Gang Show supports the Creative side of the youth program\, plus builds self-confidence\, teamwork\, and initiative \n\n\n\nAudition for Hornsby Gang Show 2026… it’s a great opportunity! \n\n\n\nFind out more and register at https://www.gangshow.com
URL:https://sydneynorthscouts.com/event/hornsby-gang-show-auditions/
LOCATION:Hornsby Gang Show Central\, Reddy Park Pretoria Parade\, Hornsby\, NSW\, 2077\, Australia
CATEGORIES:Gang Show
END:VEVENT
END:VCALENDAR