BEGIN:VCALENDAR
VERSION:2.0
PRODID:-//Sydney North Region Scouts - ECPv6.15.20//NONSGML v1.0//EN
CALSCALE:GREGORIAN
METHOD:PUBLISH
X-WR-CALNAME:Sydney North Region Scouts
X-ORIGINAL-URL:https://sydneynorthscouts.com
X-WR-CALDESC:Events for Sydney North Region Scouts
REFRESH-INTERVAL;VALUE=DURATION:PT1H
X-Robots-Tag:noindex
X-PUBLISHED-TTL:PT1H
BEGIN:VTIMEZONE
TZID:Australia/Sydney
BEGIN:STANDARD
TZOFFSETFROM:+1100
TZOFFSETTO:+1000
TZNAME:AEST
DTSTART:20230401T160000
END:STANDARD
BEGIN:DAYLIGHT
TZOFFSETFROM:+1000
TZOFFSETTO:+1100
TZNAME:AEDT
DTSTART:20230930T160000
END:DAYLIGHT
BEGIN:STANDARD
TZOFFSETFROM:+1100
TZOFFSETTO:+1000
TZNAME:AEST
DTSTART:20240406T160000
END:STANDARD
BEGIN:DAYLIGHT
TZOFFSETFROM:+1000
TZOFFSETTO:+1100
TZNAME:AEDT
DTSTART:20241005T160000
END:DAYLIGHT
BEGIN:STANDARD
TZOFFSETFROM:+1100
TZOFFSETTO:+1000
TZNAME:AEST
DTSTART:20250405T160000
END:STANDARD
BEGIN:DAYLIGHT
TZOFFSETFROM:+1000
TZOFFSETTO:+1100
TZNAME:AEDT
DTSTART:20251004T160000
END:DAYLIGHT
END:VTIMEZONE
BEGIN:VEVENT
DTSTART;TZID=Australia/Sydney:20240811T090000
DTEND;TZID=Australia/Sydney:20240811T160000
DTSTAMP:20260423T100824
CREATED:20240702T061807Z
LAST-MODIFIED:20240702T061812Z
UID:8843-1723366800-1723392000@sydneynorthscouts.com
SUMMARY:Scout Environment Day 2024
DESCRIPTION:Great opportunity for scouts to learn about solar energy and bushcare through fun activities. Activities include cooking an snack on a solar oven\, solar water filtration system and bit bush regeneration of the surround bushland.Scouts work towards an SIA environment project and the Earth Tribe Scouts Go Solar Challenge. \n\n\n\nScouts wear clothing to do bushcare work in and scout uniform. a Bring your own lunch and snacks. Scouts bring a water bottle\, hat and sunscreen. \n\n\n\n\n\n\n\n				Registrations for this event have closed. Contact the organiser for more information.
URL:https://sydneynorthscouts.com/event/scout-environment-day-2024/
LOCATION:1st Frenchs Forest Scout Hall\, Utyana Place\, Frenchs Forest\, NSW\, 2086\, Australia
CATEGORIES:Environment Activity Days,Scouts,Environment
ORGANIZER;CN="Cameron.Lathwell":MAILTO:cameron.lathwell@nsw.scouts.com.au
END:VEVENT
END:VCALENDAR