BEGIN:VCALENDAR
VERSION:2.0
PRODID:-//Sydney North Region Scouts - ECPv6.15.20//NONSGML v1.0//EN
CALSCALE:GREGORIAN
METHOD:PUBLISH
X-ORIGINAL-URL:https://sydneynorthscouts.com
X-WR-CALDESC:Events for Sydney North Region Scouts
REFRESH-INTERVAL;VALUE=DURATION:PT1H
X-Robots-Tag:noindex
X-PUBLISHED-TTL:PT1H
BEGIN:VTIMEZONE
TZID:Australia/Sydney
BEGIN:STANDARD
TZOFFSETFROM:+1100
TZOFFSETTO:+1000
TZNAME:AEST
DTSTART:20240406T160000
END:STANDARD
BEGIN:DAYLIGHT
TZOFFSETFROM:+1000
TZOFFSETTO:+1100
TZNAME:AEDT
DTSTART:20241005T160000
END:DAYLIGHT
BEGIN:STANDARD
TZOFFSETFROM:+1100
TZOFFSETTO:+1000
TZNAME:AEST
DTSTART:20250405T160000
END:STANDARD
BEGIN:DAYLIGHT
TZOFFSETFROM:+1000
TZOFFSETTO:+1100
TZNAME:AEDT
DTSTART:20251004T160000
END:DAYLIGHT
BEGIN:STANDARD
TZOFFSETFROM:+1100
TZOFFSETTO:+1000
TZNAME:AEST
DTSTART:20260404T160000
END:STANDARD
BEGIN:DAYLIGHT
TZOFFSETFROM:+1000
TZOFFSETTO:+1100
TZNAME:AEDT
DTSTART:20261003T160000
END:DAYLIGHT
END:VTIMEZONE
BEGIN:VEVENT
DTSTART;TZID=Australia/Sydney:20251102T080000
DTEND;TZID=Australia/Sydney:20251102T170000
DTSTAMP:20260424T024505
CREATED:20250907T004440Z
LAST-MODIFIED:20250907T004444Z
UID:10537-1762070400-1762102800@sydneynorthscouts.com
SUMMARY:Cub Canoe Activity Day
DESCRIPTION:Activity 2025CC4 \n\n\n\nBookings via ScoutEvent: https://events.nsw.scouts.com.au/region/sn
URL:https://sydneynorthscouts.com/event/cub-canoe-activity-day-3/
LOCATION:Jamieson Park\, The Esplanade\, Narrabeen\, NSW\, 2101\, Australia
CATEGORIES:canoeing,Cub Scout Canoe Activities
END:VEVENT
BEGIN:VEVENT
DTSTART;TZID=Australia/Sydney:20251102T090000
DTEND;TZID=Australia/Sydney:20251102T150000
DTSTAMP:20260424T024505
CREATED:20250427T072921Z
LAST-MODIFIED:20251016T085034Z
UID:10192-1762074000-1762095600@sydneynorthscouts.com
SUMMARY:HLTAID011 Provide First Aid
DESCRIPTION:(One day with pre-learning). All students (adults and youth) must be Members of Scouts NSW and must be over 14. Adult Members are particularly welcome to help provide 2-deep Leadership. \n\n\n\n\n\n\n\n\n\n\n\nRTO – 90666 \n\n\n\n\n\n\n\n\n\n\n\n				\n                Book Now\n            \n				23 of 25 places remaining. \n				Registrations closes by:  2026-07-18 18:30:00 \n				Note: starting your application does not reserve your spot\, you must submit your application and pay.
URL:https://sydneynorthscouts.com/event/hltaid011-provide-first-aid-16/
LOCATION:Barra Brui Activity Hall\, Barra Brui Scout Hall\, Hunter St\, St Ives\, NSW\, 2075\, Australia
CATEGORIES:First Aid Courses Barra Brui
ORGANIZER;CN="Belinda Keir (Magpie) - Region Leader Activities":MAILTO:belinda.keir@nsw.scouts.com.au
END:VEVENT
END:VCALENDAR