BEGIN:VCALENDAR
VERSION:2.0
PRODID:-//Sydney North Region Scouts - ECPv6.15.20//NONSGML v1.0//EN
CALSCALE:GREGORIAN
METHOD:PUBLISH
X-ORIGINAL-URL:https://sydneynorthscouts.com
X-WR-CALDESC:Events for Sydney North Region Scouts
REFRESH-INTERVAL;VALUE=DURATION:PT1H
X-Robots-Tag:noindex
X-PUBLISHED-TTL:PT1H
BEGIN:VTIMEZONE
TZID:Australia/Sydney
BEGIN:STANDARD
TZOFFSETFROM:+1100
TZOFFSETTO:+1000
TZNAME:AEST
DTSTART:20240406T160000
END:STANDARD
BEGIN:DAYLIGHT
TZOFFSETFROM:+1000
TZOFFSETTO:+1100
TZNAME:AEDT
DTSTART:20241005T160000
END:DAYLIGHT
BEGIN:STANDARD
TZOFFSETFROM:+1100
TZOFFSETTO:+1000
TZNAME:AEST
DTSTART:20250405T160000
END:STANDARD
BEGIN:DAYLIGHT
TZOFFSETFROM:+1000
TZOFFSETTO:+1100
TZNAME:AEDT
DTSTART:20251004T160000
END:DAYLIGHT
BEGIN:STANDARD
TZOFFSETFROM:+1100
TZOFFSETTO:+1000
TZNAME:AEST
DTSTART:20260404T160000
END:STANDARD
BEGIN:DAYLIGHT
TZOFFSETFROM:+1000
TZOFFSETTO:+1100
TZNAME:AEDT
DTSTART:20261003T160000
END:DAYLIGHT
END:VTIMEZONE
BEGIN:VEVENT
DTSTART;TZID=Australia/Sydney:20251017T180000
DTEND;TZID=Australia/Sydney:20251019T140000
DTSTAMP:20260425T202822
CREATED:20250907T003330Z
LAST-MODIFIED:20250907T003333Z
UID:10528-1760724000-1760882400@sydneynorthscouts.com
SUMMARY:JOTA / JOTI camp
DESCRIPTION:The annual JOTA/JOTI Scout Camp will be held at Terrey Hills Public School. Registration is through the Scout Event Registration system (linked below) and the cost is $65 per youth member. Leaders are free. Scouts will camp with their Units and be self-sufficient over the weekend. Scouts will bring their own food\, tents\, camping equipment and will need to take their rubbish with them. There will be a number of on-site (JOTI\, electronics and free time) and off-site activities (visits to the Manly Warringah Radio Club and canoeing on Narrabeen Lake) Scouts and Leaders will walk together to the radio base in Belton Ave. Scouts and Leaders will get a hired bus to Narrabeen Lakes. Scouts are to be well behaved at all times and the law of the camp is the Scout Law. \n\n\n\nhttps://events.nsw.scouts.com.au/event/2669
URL:https://sydneynorthscouts.com/event/jota-joti-camp/
CATEGORIES:JOTA/JOTI
END:VEVENT
END:VCALENDAR