BEGIN:VCALENDAR
VERSION:2.0
PRODID:-//Sydney North Region Scouts - ECPv6.15.20//NONSGML v1.0//EN
CALSCALE:GREGORIAN
METHOD:PUBLISH
X-WR-CALNAME:Sydney North Region Scouts
X-ORIGINAL-URL:https://sydneynorthscouts.com
X-WR-CALDESC:Events for Sydney North Region Scouts
REFRESH-INTERVAL;VALUE=DURATION:PT1H
X-Robots-Tag:noindex
X-PUBLISHED-TTL:PT1H
BEGIN:VTIMEZONE
TZID:Australia/Sydney
BEGIN:STANDARD
TZOFFSETFROM:+1100
TZOFFSETTO:+1000
TZNAME:AEST
DTSTART:20240406T160000
END:STANDARD
BEGIN:DAYLIGHT
TZOFFSETFROM:+1000
TZOFFSETTO:+1100
TZNAME:AEDT
DTSTART:20241005T160000
END:DAYLIGHT
BEGIN:STANDARD
TZOFFSETFROM:+1100
TZOFFSETTO:+1000
TZNAME:AEST
DTSTART:20250405T160000
END:STANDARD
BEGIN:DAYLIGHT
TZOFFSETFROM:+1000
TZOFFSETTO:+1100
TZNAME:AEDT
DTSTART:20251004T160000
END:DAYLIGHT
BEGIN:STANDARD
TZOFFSETFROM:+1100
TZOFFSETTO:+1000
TZNAME:AEST
DTSTART:20260404T160000
END:STANDARD
BEGIN:DAYLIGHT
TZOFFSETFROM:+1000
TZOFFSETTO:+1100
TZNAME:AEDT
DTSTART:20261003T160000
END:DAYLIGHT
END:VTIMEZONE
BEGIN:VEVENT
DTSTART;TZID=Australia/Sydney:20251109T083000
DTEND;TZID=Australia/Sydney:20251109T170000
DTSTAMP:20260425T232359
CREATED:20251014T110647Z
LAST-MODIFIED:20251014T110649Z
UID:10633-1762677000-1762707600@sydneynorthscouts.com
SUMMARY:Trained Participant Bushwalking Navigation Skills Workshop - BWG25B
DESCRIPTION:Practical session. Participants must have attended Online session on November 6th. \n\n\n\nDetails and bookings via ScoutEvent – https://events.nsw.scouts.com.au/event/2782
URL:https://sydneynorthscouts.com/event/trained-participant-bushwalking-navigation-skills-workshop-bwg25b-2/
LOCATION:Barra Brui Activity Hall\, Barra Brui Scout Hall\, Hunter St\, St Ives\, NSW\, 2075\, Australia
CATEGORIES:Bushwallking,Bushwalking Training
END:VEVENT
BEGIN:VEVENT
DTSTART;TZID=Australia/Sydney:20251106T193000
DTEND;TZID=Australia/Sydney:20251106T213000
DTSTAMP:20260425T232359
CREATED:20251014T110353Z
LAST-MODIFIED:20251014T110423Z
UID:10630-1762457400-1762464600@sydneynorthscouts.com
SUMMARY:Trained Participant Bushwalking Navigation Skills Workshop - BWG25B
DESCRIPTION:Online session. Followed by Practical session Sunday 9th November. \n\n\n\nDetails and bookings via ScoutEvent – https://events.nsw.scouts.com.au/event/2782
URL:https://sydneynorthscouts.com/event/trained-participant-bushwalking-navigation-skills-workshop-bwg25b/
LOCATION:NSW
CATEGORIES:Bushwallking,Bushwalking Training
END:VEVENT
BEGIN:VEVENT
DTSTART;TZID=Australia/Sydney:20250628T083000
DTEND;TZID=Australia/Sydney:20250629T153000
DTSTAMP:20260425T232359
CREATED:20250403T032454Z
LAST-MODIFIED:20250403T045931Z
UID:10065-1751099400-1751211000@sydneynorthscouts.com
SUMMARY:TP Bushwalking Workshop - BWG25A
DESCRIPTION:Bushwalking Trained Participant Tracked and Difficult Tracked workshop. This workshop will provide training for Scout skills or VET qualification in bushwalking (tracked & difficult tracked conditions) for Leaders and Rovers along with capturing the required evidence. \n\n\n\nThis is a two part workshop: \n\n\n\n\nSingle day of theory & practice on 14th June and\n\n\n\nOvernight bushwalk on 28th & 29th June.\n\n\n\n\n\n\n\n\n\ninvalid event id provided.
URL:https://sydneynorthscouts.com/event/tp-bushwalking-workshop-bwg25a/
LOCATION:Barra Brui Activity Hall\, Barra Brui Scout Hall\, Hunter St\, St Ives\, NSW\, 2075\, Australia
CATEGORIES:Bushwalking Training
ORGANIZER;CN="Mark Lim":MAILTO:Mark.Lim@nsw.scouts.com.au
END:VEVENT
BEGIN:VEVENT
DTSTART;TZID=Australia/Sydney:20250614T090000
DTEND;TZID=Australia/Sydney:20250614T170000
DTSTAMP:20260425T232359
CREATED:20250403T031845Z
LAST-MODIFIED:20250403T045804Z
UID:10060-1749891600-1749920400@sydneynorthscouts.com
SUMMARY:TP Bushwalking Workshop - BWG25A
DESCRIPTION:Bushwalking Trained Participant Tracked and Difficult Tracked workshop. This workshop will provide training for Scout skills or VET qualification in bushwalking (tracked & difficult tracked conditions) for Leaders and Rovers along with capturing the required evidence. \n\n\n\nThis is a two part workshop: \n\n\n\n\nSingle day of theory & practice on 14th June and\n\n\n\nOvernight bushwalk on 28th & 29th June.\n\n\n\n\n\n\n\n\n\ninvalid event id provided.
URL:https://sydneynorthscouts.com/event/tp-bushwalking-workshop/
LOCATION:Barra Brui Activity Hall\, Barra Brui Scout Hall\, Hunter St\, St Ives\, NSW\, 2075\, Australia
CATEGORIES:Bushwalking Training
ORGANIZER;CN="Mark Lim":MAILTO:Mark.Lim@nsw.scouts.com.au
END:VEVENT
BEGIN:VEVENT
DTSTART;TZID=Australia/Sydney:20250506T190000
DTEND;TZID=Australia/Sydney:20250506T203000
DTSTAMP:20260425T232359
CREATED:20250403T014701Z
LAST-MODIFIED:20250403T022729Z
UID:10036-1746558000-1746563400@sydneynorthscouts.com
SUMMARY:Bushwalking "PEAK" Team Meeting
DESCRIPTION:Bushwalking Team meetings. Discussion on all things bushwalking\, planning training events\, planning bushwalks
URL:https://sydneynorthscouts.com/event/bushwalking-peak-team-meeting/
LOCATION:Barra Brui Activity Hall\, Barra Brui Scout Hall\, Hunter St\, St Ives\, NSW\, 2075\, Australia
CATEGORIES:Bushwallking,Bushwalking Team Meetings
ORGANIZER;CN="Wesley Leverton":MAILTO:wesley.leverton@nsw.scouts.com.au
END:VEVENT
BEGIN:VEVENT
DTSTART;TZID=Australia/Sydney:20250428T190000
DTEND;TZID=Australia/Sydney:20250428T203000
DTSTAMP:20260425T232359
CREATED:20250403T052137Z
LAST-MODIFIED:20250405T080903Z
UID:10080-1745866800-1745872200@sydneynorthscouts.com
SUMMARY:Trained Participant Core
DESCRIPTION:Trained Participant (TP) Core is the starting qualification all leaders need to gain skill qualifications in bushwalking\, paddling\, cycling etc. \n\n\n\nIf you do not have your TP Core qualification then this evening is for you. \n\n\n\nWe will take you through the following: \n\n\n\n\nActivity plans\n\n\n\nRisk assessments\n\n\n\nActivity notification processes\n\n\n\nFilling in the TP Core workbook if you have not already filled it in.\n\n\n\n\nWe will also be available to review and sign off your workbook. \n\n\n\nNo Registration required for this event\, just turn up on the night. \n\n\n\nDownload the TP Core Workbook from the link below. \n\n\n\nScoutskills Prior Achievement Recognition – TP Core 4.0Download
URL:https://sydneynorthscouts.com/event/trained-participant-core/
LOCATION:Barra Brui Activity Hall\, Barra Brui Scout Hall\, Hunter St\, St Ives\, NSW\, 2075\, Australia
CATEGORIES:Bushwalking Training,Activities
ORGANIZER;CN="Wesley Leverton":MAILTO:wesley.leverton@nsw.scouts.com.au
END:VEVENT
END:VCALENDAR