BEGIN:VCALENDAR
VERSION:2.0
PRODID:-//Sydney North Region Scouts - ECPv6.15.20//NONSGML v1.0//EN
CALSCALE:GREGORIAN
METHOD:PUBLISH
X-ORIGINAL-URL:https://sydneynorthscouts.com
X-WR-CALDESC:Events for Sydney North Region Scouts
REFRESH-INTERVAL;VALUE=DURATION:PT1H
X-Robots-Tag:noindex
X-PUBLISHED-TTL:PT1H
BEGIN:VTIMEZONE
TZID:Australia/Sydney
BEGIN:STANDARD
TZOFFSETFROM:+1100
TZOFFSETTO:+1000
TZNAME:AEST
DTSTART:20230401T160000
END:STANDARD
BEGIN:DAYLIGHT
TZOFFSETFROM:+1000
TZOFFSETTO:+1100
TZNAME:AEDT
DTSTART:20230930T160000
END:DAYLIGHT
BEGIN:STANDARD
TZOFFSETFROM:+1100
TZOFFSETTO:+1000
TZNAME:AEST
DTSTART:20240406T160000
END:STANDARD
BEGIN:DAYLIGHT
TZOFFSETFROM:+1000
TZOFFSETTO:+1100
TZNAME:AEDT
DTSTART:20241005T160000
END:DAYLIGHT
BEGIN:STANDARD
TZOFFSETFROM:+1100
TZOFFSETTO:+1000
TZNAME:AEST
DTSTART:20250405T160000
END:STANDARD
BEGIN:DAYLIGHT
TZOFFSETFROM:+1000
TZOFFSETTO:+1100
TZNAME:AEDT
DTSTART:20251004T160000
END:DAYLIGHT
END:VTIMEZONE
BEGIN:VEVENT
DTSTART;TZID=Australia/Sydney:20240902T193000
DTEND;TZID=Australia/Sydney:20240902T213000
DTSTAMP:20260425T204036
CREATED:20231218T104046Z
LAST-MODIFIED:20231218T104059Z
UID:8038-1725305400-1725312600@sydneynorthscouts.com
SUMMARY:Rockcraft Team Meeting
DESCRIPTION:
URL:https://sydneynorthscouts.com/event/rockcraft-team-meeting-21/
LOCATION:Barra Brui Activity Hall\, Barra Brui Scout Hall\, Hunter St\, St Ives\, NSW\, 2075\, Australia
CATEGORIES:Rockcraft Team Meetings
ORGANIZER;CN="Shane Miller":MAILTO:shane.miller@nsw.scouts.com.au
END:VEVENT
BEGIN:VEVENT
DTSTART;TZID=Australia/Sydney:20240904T190000
DTEND;TZID=Australia/Sydney:20240904T213000
DTSTAMP:20260425T204036
CREATED:20231213T112815Z
LAST-MODIFIED:20240307T110557Z
UID:7973-1725476400-1725485400@sydneynorthscouts.com
SUMMARY:Caving Adventure Weekend – Theory Night – CVE24B
DESCRIPTION:Theory Night and information for – Wee Jasper Caving Weekend. Attending this workshop provides training for Safe Participant\, Trained Participant\, Assistant Guide and Guide along with the ability for youth members to achieve you Stage 4 Caving OAS under Vertical (Youth Program). \n\n\n\nThe course is suitable for Venturers\, Rovers\, and Leaders. \n\n\n\nThe theory night is held at Barra Brui Scout Hall and includes a mix of theory presentations and practical components covering personal equipment\, rope skills\, abseiling in caves\, walking skills\, environmental protection of caves\, logistics\, risks and minor emergencies. \n\n\n\n\n\n\n\n\n\n\n\n\n\n				\n                Book Now\n            \n				23 of 25 places remaining. \n				Registrations closes by:  2026-07-18 18:30:00 \n				Note: starting your application does not reserve your spot\, you must submit your application and pay.
URL:https://sydneynorthscouts.com/event/caving-adventure-weekend-theory-night-cve24b/
LOCATION:Barra Brui Activity Hall\, Barra Brui Scout Hall\, Hunter St\, St Ives\, NSW\, 2075\, Australia
CATEGORIES:Caving
ORGANIZER;CN="Ben Power":MAILTO:Ben.Power@nsw.scouts.com.au
END:VEVENT
BEGIN:VEVENT
DTSTART;TZID=Australia/Sydney:20240906T190000
DTEND;TZID=Australia/Sydney:20240909T170000
DTSTAMP:20260425T204036
CREATED:20240707T082929Z
LAST-MODIFIED:20240707T082931Z
UID:8852-1725649200-1725901200@sydneynorthscouts.com
SUMMARY:Express Abseil Rigging & Rescue Course - Residential Weekend (Tenative)
DESCRIPTION:We’re looking at running this course but location hasn’t been confirmed yet. Watch this space. Registrations will open once the date is confirmed. \n\n\n\nThis is an express version of our normal Rigging & Rescue course which will consist of an online theory night. Significant pre-reading\, and an intensive weekend. The training sessions will start on the Friday evening. \n\n\n\nIf you want to build on your skills and work towards being able to take other people out abseiling then this is the workshop for you. Learn how to set up abseils\, rig for rescue and get yourself or others out of difficulty. This course aims to get you through the Trained Participant and Assistant Guide levels of the VET qualifications and can also be used to gain OAS qualifications. \n\n\n\nThe course is suitable for Venturers\, Rovers\, and Leaders. \n\n\n\nThe theory night is held at Barra Brui Scout Hall and includes a mix of theory presentations and practical components. There are two theory nights and a practical weekend. \n\n\n\nThe theory night(s) registration is combined with the practical day for the same course number\, you do not need to register separately. \n\n\n\nSaturday is at Barra Brui and Sunday at Lindfield Rocks \n\n\n\n\n\n				\n                Book Now\n            \n				23 of 25 places remaining. \n				Registrations closes by:  2026-07-18 18:30:00 \n				Note: starting your application does not reserve your spot\, you must submit your application and pay.
URL:https://sydneynorthscouts.com/event/express-abseil-rigging-rescue-course-residential-weekend-tenative/
LOCATION:Barra Brui Activity Hall\, Barra Brui Scout Hall\, Hunter St\, St Ives\, NSW\, 2075\, Australia
CATEGORIES:SNR Rigging & Rescue Course
ORGANIZER;CN="Harry J.E Day":MAILTO:harry.day@nsw.scouts.com.au
END:VEVENT
BEGIN:VEVENT
DTSTART;TZID=Australia/Sydney:20240911T183000
DTEND;TZID=Australia/Sydney:20240911T200000
DTSTAMP:20260425T204037
CREATED:20240812T115652Z
LAST-MODIFIED:20240812T115655Z
UID:8957-1726079400-1726084800@sydneynorthscouts.com
SUMMARY:Evening Rockcraft Workshop (REW24J)
DESCRIPTION:Monthly Rockcraft Skills workshop – open to anyone who has attended a TP/AG (Level 2) course\, or Guides maintaining currency. Current Qual not required. This is a self driven workshop where we will cover what you need to work on toward your quals\, or what you want to practise/review. \n\n\n\nA great way to build your skills towards guide (or your OAS levels). Rescue workshops are also one of the ways you can demonstrate your rescue currency which is required for all guides\, and especially if you are going through requal. If you are a current guide this is also a good way to stop your rescue skills getting rusty. \n\n\n\nWhat to Bring\n\n\n\n\nA Head Torch\n\n\n\nYour Personal Abseil Gear (It is assumed you have your own gear\, if you do not please specify on Scout Event at least 24 hours beforehand)\n\n\n\n\nPlease let me know if you have any topics you specifically want to cover. \n\n\n\nThis year we are asking that all participants register on Scout Event. \n\n\n\n				\n                Book Now\n            \n				23 of 25 places remaining. \n				Registrations closes by:  2026-07-18 18:30:00 \n				Note: starting your application does not reserve your spot\, you must submit your application and pay.
URL:https://sydneynorthscouts.com/event/evening-rockcraft-workshop-rew24j/
LOCATION:Barra Brui Activity Hall\, Barra Brui Scout Hall\, Hunter St\, St Ives\, NSW\, 2075\, Australia
CATEGORIES:Evening Rescue Workshops
END:VEVENT
BEGIN:VEVENT
DTSTART;TZID=Australia/Sydney:20240914T090000
DTEND;TZID=Australia/Sydney:20240914T160000
DTSTAMP:20260425T204037
CREATED:20240722T005010Z
LAST-MODIFIED:20240722T005016Z
UID:8913-1726304400-1726329600@sydneynorthscouts.com
SUMMARY:Cub Scout Environment Activity DayScout Environment Day 2024
DESCRIPTION:This is a day activity\, based on the natural environment. The Cub Scouts who participate will gain a SIA Environment Badge through a range of hand on activities\, including streamwatch. Only Cubs who are with Leaders should attend. \n\n\n\n\n\n				\n                Book Now\n            \n				23 of 25 places remaining. \n				Registrations closes by:  2026-07-18 18:30:00 \n				Note: starting your application does not reserve your spot\, you must submit your application and pay.
URL:https://sydneynorthscouts.com/event/cub-scout-environment-activity-dayscout-environment-day-2024/
LOCATION:1st Collaroy Plateau Scout Hall\, Goodwin Street\, Narrabeen\, NSW\, 2101\, Australia
CATEGORIES:Cub Scouts,Environment Activity Days
ORGANIZER;CN="Barbara Harrison":MAILTO:Barbara.Harrison@nsw.scouts.com.au
END:VEVENT
BEGIN:VEVENT
DTSTART;TZID=Australia/Sydney:20240915T090000
DTEND;TZID=Australia/Sydney:20240915T163000
DTSTAMP:20260425T204038
CREATED:20231213T100817Z
LAST-MODIFIED:20240711T061624Z
UID:7944-1726390800-1726417800@sydneynorthscouts.com
SUMMARY:Full - Scout Abseil Day – ASD24D
DESCRIPTION:3 Sessions 9-30am\, 12 Noon and 2-00pm \n\n\n\nBookings Close 18th August\, 2024. Contact Roland Simpson for Further info
URL:https://sydneynorthscouts.com/event/scout-abseil-day-asd24d/
LOCATION:Lindfield Rocks\, Lindfield Rocks\, Tryon Rd\, East Lindfield\, NSW\, 2070\, Australia
CATEGORIES:Scouts Abseil Days
ORGANIZER;CN="Roland Simpson":MAILTO:roland.simpson@nsw.scouts.com.au
END:VEVENT
BEGIN:VEVENT
DTSTART;TZID=Australia/Sydney:20240915T093000
DTEND;TZID=Australia/Sydney:20240915T124500
DTSTAMP:20260425T204038
CREATED:20240722T005335Z
LAST-MODIFIED:20240722T005339Z
UID:8917-1726392600-1726404300@sydneynorthscouts.com
SUMMARY:Water Bugs Morning Activity Day
DESCRIPTION:This is a morning activity\, based on the natural environment. The Joey & Cub Scouts will be learning about the water environment of Narrabeen Lagoon through Streamwatch by catching waterbugs and collecting data on the animals in the lagoon. \n\n\n\n\n\n				\n                Book Now\n            \n				23 of 25 places remaining. \n				Registrations closes by:  2026-07-18 18:30:00 \n				Note: starting your application does not reserve your spot\, you must submit your application and pay.
URL:https://sydneynorthscouts.com/event/water-bugs-morning-activity-day/
LOCATION:1st Collaroy Plateau Scout Hall\, Goodwin Street\, Narrabeen\, NSW\, 2101\, Australia
CATEGORIES:Joey Scouts,Cub Scouts,Environment Activity Days
ORGANIZER;CN="Barbara Harrison":MAILTO:Barbara.Harrison@nsw.scouts.com.au
END:VEVENT
BEGIN:VEVENT
DTSTART;TZID=Australia/Sydney:20240921T080000
DTEND;TZID=Australia/Sydney:20240922T170000
DTSTAMP:20260425T204038
CREATED:20231213T113819Z
LAST-MODIFIED:20240307T110703Z
UID:7980-1726905600-1727024400@sydneynorthscouts.com
SUMMARY:Caving Adventure Weekend – Practical – CVE24B
DESCRIPTION:Practical – Wee Jasper Caving Weekend. Attending this workshop provides training for Safe Participant\, Trained Participant\, Assistant Guide and Guide along with the ability for youth members to achieve you Stage 4 Caving OAS under Vertical (Youth Program). \n\n\n\nThe course is suitable for Venturers\, Rovers\, and Leaders. \n\n\n\nThe theory night is held at Barra Brui Scout Hall and includes a mix of theory presentations and practical components covering personal equipment\, rope skills\, abseiling in caves\, walking skills\, environmental protection of caves\, logistics\, risks and minor emergencies. \n\n\n\n\n\n\n\n\n\n\n\n\n\n				\n                Book Now\n            \n				23 of 25 places remaining. \n				Registrations closes by:  2026-07-18 18:30:00 \n				Note: starting your application does not reserve your spot\, you must submit your application and pay.
URL:https://sydneynorthscouts.com/event/caving-adventure-weekend-practical-cve24b/
LOCATION:Wee Jasper Caves Reserve\, Fitzpatrick Track Head - 5 Nottingham Road\, Wee Jasper\, NSW\, 2582\, Australia
CATEGORIES:Caving
ORGANIZER;CN="Ben Power":MAILTO:Ben.Power@nsw.scouts.com.au
END:VEVENT
BEGIN:VEVENT
DTSTART;TZID=Australia/Sydney:20240922T083000
DTEND;TZID=Australia/Sydney:20240922T163000
DTSTAMP:20260425T204039
CREATED:20240903T094618Z
LAST-MODIFIED:20240903T094620Z
UID:9023-1726993800-1727022600@sydneynorthscouts.com
SUMMARY:HLTAID011 Provide First Aid - SNRFA06
DESCRIPTION:(One day with pre-learning). All students (adults and youth) must be Members of Scouts NSW and must be over 14. Adult Members are particularly welcome to help provide 2-deep Leadership. \n\n\n\n\n\n\n\n\n\n\n\n\n\n\n\n\n\n				\n                Book Now\n            \n				23 of 25 places remaining. \n				Registrations closes by:  2026-07-18 18:30:00 \n				Note: starting your application does not reserve your spot\, you must submit your application and pay.
URL:https://sydneynorthscouts.com/event/hltaid011-provide-first-aid-snrfa06/
LOCATION:Barra Brui Activity Hall\, Barra Brui Scout Hall\, Hunter St\, St Ives\, NSW\, 2075\, Australia
CATEGORIES:First Aid Courses Barra Brui
ORGANIZER;CN="Belinda Keir (Magpie) - Region Leader Activities":MAILTO:belinda.keir@nsw.scouts.com.au
END:VEVENT
END:VCALENDAR