BEGIN:VCALENDAR
VERSION:2.0
PRODID:-//Sydney North Region Scouts - ECPv6.15.20//NONSGML v1.0//EN
CALSCALE:GREGORIAN
METHOD:PUBLISH
X-ORIGINAL-URL:https://sydneynorthscouts.com
X-WR-CALDESC:Events for Sydney North Region Scouts
REFRESH-INTERVAL;VALUE=DURATION:PT1H
X-Robots-Tag:noindex
X-PUBLISHED-TTL:PT1H
BEGIN:VTIMEZONE
TZID:Australia/Sydney
BEGIN:STANDARD
TZOFFSETFROM:+1100
TZOFFSETTO:+1000
TZNAME:AEST
DTSTART:20240406T160000
END:STANDARD
BEGIN:DAYLIGHT
TZOFFSETFROM:+1000
TZOFFSETTO:+1100
TZNAME:AEDT
DTSTART:20241005T160000
END:DAYLIGHT
BEGIN:STANDARD
TZOFFSETFROM:+1100
TZOFFSETTO:+1000
TZNAME:AEST
DTSTART:20250405T160000
END:STANDARD
BEGIN:DAYLIGHT
TZOFFSETFROM:+1000
TZOFFSETTO:+1100
TZNAME:AEDT
DTSTART:20251004T160000
END:DAYLIGHT
BEGIN:STANDARD
TZOFFSETFROM:+1100
TZOFFSETTO:+1000
TZNAME:AEST
DTSTART:20260404T160000
END:STANDARD
BEGIN:DAYLIGHT
TZOFFSETFROM:+1000
TZOFFSETTO:+1100
TZNAME:AEDT
DTSTART:20261003T160000
END:DAYLIGHT
END:VTIMEZONE
BEGIN:VEVENT
DTSTART;TZID=Australia/Sydney:20250531T080000
DTEND;TZID=Australia/Sydney:20250601T170000
DTSTAMP:20260425T233442
CREATED:20241203T051752Z
LAST-MODIFIED:20241203T051755Z
UID:9185-1748678400-1748797200@sydneynorthscouts.com
SUMMARY:Caving Adventure Weekend – Practical – CVE25A
DESCRIPTION:Practical – Bungonia Caving Weekend. Attending this workshop provides training for Safe Participant\, Trained Participant\, Assistant Guide and Guide along with the ability for youth members to achieve you Stage 4 Caving OAS under Vertical (Youth Program). \n\n\n\nThe course is suitable for Venturers\, Rovers\, and Leaders. \n\n\n\nThe theory night is held at Barra Brui Scout Hall and includes a mix of theory presentations and practical components covering personal equipment\, rope skills\, abseiling in caves\, walking skills\, environmental protection of caves\, logistics\, risks and minor emergencies. \n\n\n\n\n\n\n\n\ninvalid event id provided.\n\n\n\n\n\ninvalid event id provided.
URL:https://sydneynorthscouts.com/event/caving-adventure-weekend-practical-cve25a/
LOCATION:Bungonia Caves\, Bungonia Access Road\, Bungonia\, NSW\, 2580\, Australia
CATEGORIES:Caving
ORGANIZER;CN="Scott Osborne":MAILTO:scott.osborne@nsw.scouts.com.au
END:VEVENT
BEGIN:VEVENT
DTSTART;TZID=Australia/Sydney:20250531T090000
DTEND;TZID=Australia/Sydney:20250601T150000
DTSTAMP:20260425T233442
CREATED:20250428T005515Z
LAST-MODIFIED:20250428T005519Z
UID:10197-1748682000-1748790000@sydneynorthscouts.com
SUMMARY:Northern Beaches District Cub Scout Personal Development Course
DESCRIPTION:This is a 2 day Course\, for Cubs aged 10 years and over.  \n\n\n\nThey gain their Personal Development Badge which is a requirement for the Grey Wolf Award.  \n\n\n\nSat 31st May 2025 (9.00AM – 4.00PM) & Sun 1st June 2025(9.00AM – 3.00PM) \n\n\n\nCubs must be able to attend this course for both days. \n\n\n\nCubs must bring their morning tea and lunch on both days. \n\n\n\nWear full Cub uniform\, and bring water bottle\, raincoat & hat. \n\n\n\n\ninvalid event id provided.
URL:https://sydneynorthscouts.com/event/northern-beaches-district-cub-scout-personal-development-course/
LOCATION:1st/2nd Harbord Scout Hall\, 43 Stirgess Ave\, Curl Curl\, NSW\, 2096\, Australia
CATEGORIES:Cub Scouts
ORGANIZER;CN="Barbara Harrison":MAILTO:Barbara.Harrison@nsw.scouts.com.au
END:VEVENT
BEGIN:VEVENT
DTSTART;TZID=Australia/Sydney:20250601T080000
DTEND;TZID=Australia/Sydney:20250601T170000
DTSTAMP:20260425T233442
CREATED:20250305T042224Z
LAST-MODIFIED:20250305T042226Z
UID:9907-1748764800-1748797200@sydneynorthscouts.com
SUMMARY:Region Joey Fun Day
DESCRIPTION:Details TBA
URL:https://sydneynorthscouts.com/event/region-joey-fun-day/
LOCATION:Kuring-gai Wildflower Gardens\, 420 Mona Vale Rd\, St. Ives\, NSW\, 2075\, Australia
CATEGORIES:Joey Scouts
ORGANIZER;CN="Jim Baldwin":MAILTO:jim.baldwin@nsw.scouts.com.au
END:VEVENT
BEGIN:VEVENT
DTSTART;TZID=Australia/Sydney:20250601T090000
DTEND;TZID=Australia/Sydney:20250601T150000
DTSTAMP:20260425T233442
CREATED:20250128T104607Z
LAST-MODIFIED:20250206T024026Z
UID:9619-1748768400-1748790000@sydneynorthscouts.com
SUMMARY:Region Personal Development Course for Cubs
DESCRIPTION:The Cub Scout personal development course offers interested Cub Scouts an opportunity to meet new people and develop their own communication\, teamwork and leadership skills.  \n\n\n\nThis course is designed for youth members who are aged 10 years old.  \n\n\n\nWe will be completing various activities which some might be done outside. Please come prepared to be outside\, potentially in the weather and bring a day pack with items you would need for the day which should include a hat\, snacks and water bottle. The youth members need to attend the full day to achieve their personal development badge.  \n\n\n\nLunch is included\, but if your youth member does get hungry please provide other food for them.  \n\n\n\nPlease note:  \n\n\n\n\nIf numbers exceed the nominal limit\, preference will be given to the older youth members and prospective peak award recipients. \n\n\n\n\n\nIf 4 or more youth members attend from the same scout group registered\, an adult leader will be asked to attend to assist the course facilitator. \n\n\n\n\nCost $25.00 per youth member ( which includes lunch)  \n\n\n\nStart time: 8:55am for 9am start  \n\n\n\nEnd time: 3pm  \n\n\n\nLocation: TBA \n\n\n\nCourse limit to 36 youth members  \n\n\n\nOpening date for registration 29.4.25  \n\n\n\nClosing Date for registration 18.5.25 \n\n\n\nif you have any questions please direct them to Cassie.donald@nsw.scouts.com.au  \n\n\ninvalid event id provided.
URL:https://sydneynorthscouts.com/event/region-personal-development-course-for-cubs-4/
LOCATION:NSW
CATEGORIES:Cub Scouts
ORGANIZER;CN="Cassie Donald":MAILTO:cassie.donald@nsw.scouts.com.au
END:VEVENT
END:VCALENDAR