BEGIN:VCALENDAR
VERSION:2.0
PRODID:-//Sydney North Region Scouts - ECPv6.15.20//NONSGML v1.0//EN
CALSCALE:GREGORIAN
METHOD:PUBLISH
X-ORIGINAL-URL:https://sydneynorthscouts.com
X-WR-CALDESC:Events for Sydney North Region Scouts
REFRESH-INTERVAL;VALUE=DURATION:PT1H
X-Robots-Tag:noindex
X-PUBLISHED-TTL:PT1H
BEGIN:VTIMEZONE
TZID:Australia/Sydney
BEGIN:STANDARD
TZOFFSETFROM:+1100
TZOFFSETTO:+1000
TZNAME:AEST
DTSTART:20240406T160000
END:STANDARD
BEGIN:DAYLIGHT
TZOFFSETFROM:+1000
TZOFFSETTO:+1100
TZNAME:AEDT
DTSTART:20241005T160000
END:DAYLIGHT
BEGIN:STANDARD
TZOFFSETFROM:+1100
TZOFFSETTO:+1000
TZNAME:AEST
DTSTART:20250405T160000
END:STANDARD
BEGIN:DAYLIGHT
TZOFFSETFROM:+1000
TZOFFSETTO:+1100
TZNAME:AEDT
DTSTART:20251004T160000
END:DAYLIGHT
BEGIN:STANDARD
TZOFFSETFROM:+1100
TZOFFSETTO:+1000
TZNAME:AEST
DTSTART:20260404T160000
END:STANDARD
BEGIN:DAYLIGHT
TZOFFSETFROM:+1000
TZOFFSETTO:+1100
TZNAME:AEDT
DTSTART:20261003T160000
END:DAYLIGHT
END:VTIMEZONE
BEGIN:VEVENT
DTSTART;TZID=Australia/Sydney:20250404T090000
DTEND;TZID=Australia/Sydney:20250404T170000
DTSTAMP:20260420T131935
CREATED:20250402T224904Z
LAST-MODIFIED:20250402T224913Z
UID:10033-1743757200-1743786000@sydneynorthscouts.com
SUMMARY:Region Office Closed
DESCRIPTION:
URL:https://sydneynorthscouts.com/event/region-office-closed-2/
CATEGORIES:Region Office Closures
END:VEVENT
BEGIN:VEVENT
DTSTART;TZID=Australia/Sydney:20250404T190000
DTEND;TZID=Australia/Sydney:20250404T203000
DTSTAMP:20260420T131935
CREATED:20250202T042427Z
LAST-MODIFIED:20250225T233619Z
UID:9651-1743793200-1743798600@sydneynorthscouts.com
SUMMARY:Benowie District Cub Campfire
DESCRIPTION:This is a District Cub campfire for Benowie Cub units. \n\n\n\nCubs are invited to the Benowie District Cub Scout Campfire on Friday 4th April 2025 at Baden-Powell Activity Centre\, Pomona St\, Pennant Hills. \n\n\n\nIt is a great opportunity for Benowie District Cubs to meet Cubs from other units and enjoy a campfire together with songs and maybe a  few marshmallows. \n\n\n\nPlease arrive at 6.45pm so we can get organise to start at 7pm at the campfire circle. The campfire finishes at 8.30pm. Cubs\, leaders\, adult helpers and parents/carers are welcome to come along. \n\n\n\nCubs wear their uniform shirt and scarf and bring a warm jumper\, head torch\, full water bottle\, and plastic sheet or blanket to sit on (no chairs allowed). Please eat dinner before the event. \n\n\n\nPlease register on Scout Event at: https://events.nsw.scouts.com.au/event/2294 \n\n\n\nIf you have questions or queries about the event\, please contact the event organiser\, Thomas Zeller\, at thomas.zeller@nsw.scouts.com.au \n\n\n\n\n\n				\n                Book Now\n            \n				23 of 25 places remaining. \n				Registrations closes by:  2026-07-18 18:30:00 \n				Note: starting your application does not reserve your spot\, you must submit your application and pay.
URL:https://sydneynorthscouts.com/event/benowie-district-cub-campfire-3/
LOCATION:Baden-Powell Activity Centre\, End of Pomona Street\,\, Pennant Hills\, NSW\, 2120
CATEGORIES:Cub Scouts
END:VEVENT
END:VCALENDAR