BEGIN:VCALENDAR
VERSION:2.0
PRODID:-//Sydney North Region Scouts - ECPv6.15.20//NONSGML v1.0//EN
CALSCALE:GREGORIAN
METHOD:PUBLISH
X-ORIGINAL-URL:https://sydneynorthscouts.com
X-WR-CALDESC:Events for Sydney North Region Scouts
REFRESH-INTERVAL;VALUE=DURATION:PT1H
X-Robots-Tag:noindex
X-PUBLISHED-TTL:PT1H
BEGIN:VTIMEZONE
TZID:Australia/Sydney
BEGIN:STANDARD
TZOFFSETFROM:+1100
TZOFFSETTO:+1000
TZNAME:AEST
DTSTART:20240406T160000
END:STANDARD
BEGIN:DAYLIGHT
TZOFFSETFROM:+1000
TZOFFSETTO:+1100
TZNAME:AEDT
DTSTART:20241005T160000
END:DAYLIGHT
BEGIN:STANDARD
TZOFFSETFROM:+1100
TZOFFSETTO:+1000
TZNAME:AEST
DTSTART:20250405T160000
END:STANDARD
BEGIN:DAYLIGHT
TZOFFSETFROM:+1000
TZOFFSETTO:+1100
TZNAME:AEDT
DTSTART:20251004T160000
END:DAYLIGHT
BEGIN:STANDARD
TZOFFSETFROM:+1100
TZOFFSETTO:+1000
TZNAME:AEST
DTSTART:20260404T160000
END:STANDARD
BEGIN:DAYLIGHT
TZOFFSETFROM:+1000
TZOFFSETTO:+1100
TZNAME:AEDT
DTSTART:20261003T160000
END:DAYLIGHT
END:VTIMEZONE
BEGIN:VEVENT
DTSTART;TZID=Australia/Sydney:20250321T170000
DTEND;TZID=Australia/Sydney:20250323T170000
DTSTAMP:20260420T163442
CREATED:20240606T104027Z
LAST-MODIFIED:20250302T002825Z
UID:8781-1742576400-1742749200@sydneynorthscouts.com
SUMMARY:73rd Sirius Cup 2025
DESCRIPTION:The Sirius Cup Regatta is held in March each year at Balmoral Beach. Run by the Sydney North Region\, this is the premier canoeing and sailing regatta for Scouts in NSW. Sirius Cup is a chance for Cubs\, Scouts\, Venturers and leaders to get together at a camp based around water activities. Events will be held in sailing\, canoeing\, rowing and the iron man/woman race. \n\n\n\nNote\, individual registration is now required prior to the event for everyone attending the Regatta. \n\n\n\n				\n                Book Now\n            \n				23 of 25 places remaining. \n				Registrations closes by:  2026-07-18 18:30:00 \n				Note: starting your application does not reserve your spot\, you must submit your application and pay.
URL:https://sydneynorthscouts.com/event/73rd-sirius-cup-2025/
LOCATION:Balmoral Oval\, The Esplanade\, Mosman\, NSW\, 2088\, Australia
CATEGORIES:Sirius Cup,canoeing,Sailing
ORGANIZER;CN="Paul Soltau":MAILTO:paul.soltau@nsw.scouts.com.au
END:VEVENT
END:VCALENDAR