BEGIN:VCALENDAR
VERSION:2.0
PRODID:-//Sydney North Region Scouts - ECPv6.15.20//NONSGML v1.0//EN
CALSCALE:GREGORIAN
METHOD:PUBLISH
X-ORIGINAL-URL:https://sydneynorthscouts.com
X-WR-CALDESC:Events for Sydney North Region Scouts
REFRESH-INTERVAL;VALUE=DURATION:PT1H
X-Robots-Tag:noindex
X-PUBLISHED-TTL:PT1H
BEGIN:VTIMEZONE
TZID:Australia/Sydney
BEGIN:STANDARD
TZOFFSETFROM:+1100
TZOFFSETTO:+1000
TZNAME:AEST
DTSTART:20230401T160000
END:STANDARD
BEGIN:DAYLIGHT
TZOFFSETFROM:+1000
TZOFFSETTO:+1100
TZNAME:AEDT
DTSTART:20230930T160000
END:DAYLIGHT
BEGIN:STANDARD
TZOFFSETFROM:+1100
TZOFFSETTO:+1000
TZNAME:AEST
DTSTART:20240406T160000
END:STANDARD
BEGIN:DAYLIGHT
TZOFFSETFROM:+1000
TZOFFSETTO:+1100
TZNAME:AEDT
DTSTART:20241005T160000
END:DAYLIGHT
BEGIN:STANDARD
TZOFFSETFROM:+1100
TZOFFSETTO:+1000
TZNAME:AEST
DTSTART:20250405T160000
END:STANDARD
BEGIN:DAYLIGHT
TZOFFSETFROM:+1000
TZOFFSETTO:+1100
TZNAME:AEDT
DTSTART:20251004T160000
END:DAYLIGHT
END:VTIMEZONE
BEGIN:VEVENT
DTSTART;TZID=Australia/Sydney:20241102T080000
DTEND;TZID=Australia/Sydney:20241103T170000
DTSTAMP:20260421T072337
CREATED:20231213T110423Z
LAST-MODIFIED:20240307T054127Z
UID:7969-1730534400-1730653200@sydneynorthscouts.com
SUMMARY:Canyoning Trained Participant Workshop – CYN24B-TP
DESCRIPTION:Attending this workshop provides training for Trained Participant\, Assistant Guide and Guide. \n\n\n\nThe course is suitable for Venturers\, Rovers\, and Leaders. \n\n\n\nThe location is Barra Brui Hall on Saturday and TBC on Sunday and includes a mix of theory and practical components covering personal equipment\, rope skills\, abseiling in canyons\, walking skills\, environmental protection of canyons\, logistics\, risks\, minor emergencies\, set-ups and rescues. \n\n\n\n\n\n\n\n\n\n\n\n				\n                Book Now\n            \n				23 of 25 places remaining. \n				Registrations closes by:  2026-07-18 18:30:00 \n				Note: starting your application does not reserve your spot\, you must submit your application and pay.
URL:https://sydneynorthscouts.com/event/canyoning-trained-participant-workshop-cny24b-tp/
LOCATION:Barra Brui Activity Hall\, Barra Brui Scout Hall\, Hunter St\, St Ives\, NSW\, 2075\, Australia
CATEGORIES:Canyoning
ORGANIZER;CN="Craig Stanfield":MAILTO:Craig.Stanfield@nsw.scouts.com.au
END:VEVENT
BEGIN:VEVENT
DTSTART;TZID=Australia/Sydney:20241102T090000
DTEND;TZID=Australia/Sydney:20241102T160000
DTSTAMP:20260421T072338
CREATED:20231220T110739Z
LAST-MODIFIED:20231220T110806Z
UID:8069-1730538000-1730563200@sydneynorthscouts.com
SUMMARY:Cub Scout Canoe Activity Day - 2024CC3
DESCRIPTION:The Cub Scout Canoe activity day is aimed at achieving the technical components of OAS Padding Stage 1\, although it does cover parts of Stage 2. BYO Morning tea and lunch. Each Cub scout that participants earn a fellowship camp blanket badge.  \n\n\n\nParticipants must be able to swim 50 metres.  \n\n\n\nIt is preferable for participants to supply canoes\, paddles and lifejackets\, however canoes can be provided on request prior to the weekend.
URL:https://sydneynorthscouts.com/event/cub-scout-canoe-activity-day-2024cc3/
LOCATION:North Harbour Scout Water Base\, Gourlay Ave\, North Harbour\, Manly
CATEGORIES:Cub Scout Canoe Activities
ORGANIZER;CN="Paul Soltau":MAILTO:paul.soltau@nsw.scouts.com.au
END:VEVENT
END:VCALENDAR