BEGIN:VCALENDAR
VERSION:2.0
PRODID:-//Sydney North Region Scouts - ECPv6.15.20//NONSGML v1.0//EN
CALSCALE:GREGORIAN
METHOD:PUBLISH
X-ORIGINAL-URL:https://sydneynorthscouts.com
X-WR-CALDESC:Events for Sydney North Region Scouts
REFRESH-INTERVAL;VALUE=DURATION:PT1H
X-Robots-Tag:noindex
X-PUBLISHED-TTL:PT1H
BEGIN:VTIMEZONE
TZID:Australia/Sydney
BEGIN:STANDARD
TZOFFSETFROM:+1100
TZOFFSETTO:+1000
TZNAME:AEST
DTSTART:20230401T160000
END:STANDARD
BEGIN:DAYLIGHT
TZOFFSETFROM:+1000
TZOFFSETTO:+1100
TZNAME:AEDT
DTSTART:20230930T160000
END:DAYLIGHT
BEGIN:STANDARD
TZOFFSETFROM:+1100
TZOFFSETTO:+1000
TZNAME:AEST
DTSTART:20240406T160000
END:STANDARD
BEGIN:DAYLIGHT
TZOFFSETFROM:+1000
TZOFFSETTO:+1100
TZNAME:AEDT
DTSTART:20241005T160000
END:DAYLIGHT
BEGIN:STANDARD
TZOFFSETFROM:+1100
TZOFFSETTO:+1000
TZNAME:AEST
DTSTART:20250405T160000
END:STANDARD
BEGIN:DAYLIGHT
TZOFFSETFROM:+1000
TZOFFSETTO:+1100
TZNAME:AEDT
DTSTART:20251004T160000
END:DAYLIGHT
END:VTIMEZONE
BEGIN:VEVENT
DTSTART;TZID=Australia/Sydney:20241018T080000
DTEND;TZID=Australia/Sydney:20241020T170000
DTSTAMP:20260421T080454
CREATED:20240815T010549Z
LAST-MODIFIED:20240815T014157Z
UID:8975-1729238400-1729443600@sydneynorthscouts.com
SUMMARY:Garigal and Northern Beaches Districts JOTA/JOTI Camp 2024
DESCRIPTION:The annual JOTA JOTI Scout Camp will be held at Terrey Hills Public School over the weekend 18.10 – 20.10.2024.Scouts will camp with their troops and be self sufficient over the weekend. Scouts will bring their own food\, tents\, camping equipment and will need to take their rubbish with them.There will be a number on on site (JOTI\, electronics and free time) and off site activities (visits to the Manly Warringah Radio Club and Terrey Hills RFS Station) Scouts and Leaders will walk together to the radio base in Belton ave & the RFS Station in Yulong ave. \n\n\n\n \n\n\n\n\n\n\n\n				\n                Book Now\n            \n				23 of 25 places remaining. \n				Registrations closes by:  2026-07-18 18:30:00 \n				Note: starting your application does not reserve your spot\, you must submit your application and pay. \n			\n\n\n\n\n\n\n\n\n\n\n\n\n\nGarigal and Northern Beaches Districts JOTA/JOTI Camp 2024
URL:https://sydneynorthscouts.com/event/garigal-and-northern-beaches-districts-jota-joti-camp-2024/
LOCATION:Terrey Hills Public School Cooyong Road\, Terrey Hills\, NSW 2084 Australia\, Cooyong Road\, Terrey Hills\, NSW 2084Australia
CATEGORIES:JOTA/JOTI
ORGANIZER;CN="Tom Miles %E2%80%93 Tom.Miles@nsw.scouts.com.au":MAILTO:Tom.Miles@nsw.scouts.com.au
END:VEVENT
BEGIN:VEVENT
DTSTART;TZID=Australia/Sydney:20241019T080000
DTEND;TZID=Australia/Sydney:20241020T170000
DTSTAMP:20260421T080454
CREATED:20231213T123035Z
LAST-MODIFIED:20240307T113502Z
UID:7999-1729324800-1729443600@sydneynorthscouts.com
SUMMARY:Rockclimbing Workshop CLB24C Level 1 (Basic) – Practical Weekend
DESCRIPTION:Rock Climbing Practical Weekend. Attending this workshop provides training for Safe Participant\, Trained Participant\, Assistant Guide and Guide along with the ability for youth members to achieve you Stage 4 Climbing OAS under Vertical (Youth Program). \n\n\n\nThe course is suitable for Venturers\, Rovers\, and Leaders. \n\n\n\nThe theory night 1 is held at Barra Brui Scout Hall and theory night 2 at a Climbing Gym. It includes a mix of theory presentations and practical components covering personal equipment\, rope skills\, climbing techniques\, environmental protection of climbing\, logistics\, risks and minor emergencies. \n\n\n\n\n\n\n\n\n\n\n\n\n\n				\n                Book Now\n            \n				23 of 25 places remaining. \n				Registrations closes by:  2026-07-18 18:30:00 \n				Note: starting your application does not reserve your spot\, you must submit your application and pay.
URL:https://sydneynorthscouts.com/event/rockclimbing-workshop-clb24c-level-1-basic-practical-weekend/
LOCATION:Blue Mountains NSW
CATEGORIES:Basic Rockclimbing Workshop
ORGANIZER;CN="Tom (Turtle) Judge":MAILTO:Thomas.Judge@nsw.scouts.com.au
END:VEVENT
END:VCALENDAR