BEGIN:VCALENDAR
VERSION:2.0
PRODID:-//Sydney North Region Scouts - ECPv6.15.20//NONSGML v1.0//EN
CALSCALE:GREGORIAN
METHOD:PUBLISH
X-WR-CALNAME:Sydney North Region Scouts
X-ORIGINAL-URL:https://sydneynorthscouts.com
X-WR-CALDESC:Events for Sydney North Region Scouts
REFRESH-INTERVAL;VALUE=DURATION:PT1H
X-Robots-Tag:noindex
X-PUBLISHED-TTL:PT1H
BEGIN:VTIMEZONE
TZID:Australia/Sydney
BEGIN:STANDARD
TZOFFSETFROM:+1100
TZOFFSETTO:+1000
TZNAME:AEST
DTSTART:20230401T160000
END:STANDARD
BEGIN:DAYLIGHT
TZOFFSETFROM:+1000
TZOFFSETTO:+1100
TZNAME:AEDT
DTSTART:20230930T160000
END:DAYLIGHT
BEGIN:STANDARD
TZOFFSETFROM:+1100
TZOFFSETTO:+1000
TZNAME:AEST
DTSTART:20240406T160000
END:STANDARD
BEGIN:DAYLIGHT
TZOFFSETFROM:+1000
TZOFFSETTO:+1100
TZNAME:AEDT
DTSTART:20241005T160000
END:DAYLIGHT
BEGIN:STANDARD
TZOFFSETFROM:+1100
TZOFFSETTO:+1000
TZNAME:AEST
DTSTART:20250405T160000
END:STANDARD
BEGIN:DAYLIGHT
TZOFFSETFROM:+1000
TZOFFSETTO:+1100
TZNAME:AEDT
DTSTART:20251004T160000
END:DAYLIGHT
END:VTIMEZONE
BEGIN:VEVENT
DTSTART;TZID=Australia/Sydney:20241010T083000
DTEND;TZID=Australia/Sydney:20241010T163000
DTSTAMP:20260424T124700
CREATED:20240903T095151Z
LAST-MODIFIED:20240903T095303Z
UID:9025-1728549000-1728577800@sydneynorthscouts.com
SUMMARY:HLTAID011 Provide First Aid - SNRFA07
DESCRIPTION:(One day with pre-learning). All students (adults and youth) must be Members of Scouts NSW and must be over 14. Adult Members are particularly welcome to help provide 2-deep Leadership. \n\n\n\n\n\n\n\n\n\n\n\n\n\n\n\n\ninvalid event id provided.
URL:https://sydneynorthscouts.com/event/hltaid011-provide-first-aid-snrfa07/
LOCATION:Barra Brui Activity Hall\, Barra Brui Scout Hall\, Hunter St\, St Ives\, NSW\, 2075\, Australia
CATEGORIES:First Aid Courses Barra Brui
ORGANIZER;CN="Belinda Keir (Magpie) - Region Leader Activities":MAILTO:belinda.keir@nsw.scouts.com.au
END:VEVENT
END:VCALENDAR