BEGIN:VCALENDAR
VERSION:2.0
PRODID:-//Sydney North Region Scouts - ECPv6.15.20//NONSGML v1.0//EN
CALSCALE:GREGORIAN
METHOD:PUBLISH
X-ORIGINAL-URL:https://sydneynorthscouts.com
X-WR-CALDESC:Events for Sydney North Region Scouts
REFRESH-INTERVAL;VALUE=DURATION:PT1H
X-Robots-Tag:noindex
X-PUBLISHED-TTL:PT1H
BEGIN:VTIMEZONE
TZID:Australia/Sydney
BEGIN:STANDARD
TZOFFSETFROM:+1100
TZOFFSETTO:+1000
TZNAME:AEST
DTSTART:20230401T160000
END:STANDARD
BEGIN:DAYLIGHT
TZOFFSETFROM:+1000
TZOFFSETTO:+1100
TZNAME:AEDT
DTSTART:20230930T160000
END:DAYLIGHT
BEGIN:STANDARD
TZOFFSETFROM:+1100
TZOFFSETTO:+1000
TZNAME:AEST
DTSTART:20240406T160000
END:STANDARD
BEGIN:DAYLIGHT
TZOFFSETFROM:+1000
TZOFFSETTO:+1100
TZNAME:AEDT
DTSTART:20241005T160000
END:DAYLIGHT
BEGIN:STANDARD
TZOFFSETFROM:+1100
TZOFFSETTO:+1000
TZNAME:AEST
DTSTART:20250405T160000
END:STANDARD
BEGIN:DAYLIGHT
TZOFFSETFROM:+1000
TZOFFSETTO:+1100
TZNAME:AEDT
DTSTART:20251004T160000
END:DAYLIGHT
END:VTIMEZONE
BEGIN:VEVENT
DTSTART;TZID=Australia/Sydney:20240722T000000
DTEND;TZID=Australia/Sydney:20240801T235959
DTSTAMP:20260421T110508
CREATED:20240312T035120Z
LAST-MODIFIED:20240420T095037Z
UID:8505-1721606400-1722556799@sydneynorthscouts.com
SUMMARY:Roverway 2024  - Norway
DESCRIPTION:Roverway 2024 will take place in Norway\, gathering thousands of Rovers from Europe and across the world. During the first days\, the participants will gather in smaller groups and get the opportunity to explore Norway on a self-chosen path. These will run throughout Southern Norway and end in a joint camp in the Stavanger area. \n\n\n\nRoverway is an international event for Rangers and Rovers by WAGGGS and WOSM Europe\, hosted by the Guides and Scouts of Norway. \n\n\n\nAustralian Contingent Facebook page – https://www.facebook.com/ausroverway \n\n\n\nEvent Facebook page – https://www.facebook.com/roverway2024
URL:https://sydneynorthscouts.com/event/roverway/
CATEGORIES:Rover Scouts
END:VEVENT
BEGIN:VEVENT
DTSTART;TZID=Australia/Sydney:20240801T190000
DTEND;TZID=Australia/Sydney:20240801T220000
DTSTAMP:20260421T110508
CREATED:20231126T101637Z
LAST-MODIFIED:20240307T060155Z
UID:7845-1722538800-1722549600@sydneynorthscouts.com
SUMMARY:Safe Participant Abseil Course - Theory Night (ABS24E)
DESCRIPTION:This is the base-level course for participation in rockcraft activities and is required for vertical canyoning and caving. Attending this workshop will give you a great grounding for rock adventures and you can even earn you Stage 4 OAS Abseiling (However you must abseil on at least one other occasion before or after the course to complete the OAS requirements). \n\n\n\nThe course is suitable for Venturers\, Rovers\, and Leaders. \n\n\n\nThe theory night is held at Barra Brui Scout Hall and includes a mix of theory presentations and practical components (prussiking\, knots\, setting up abseil devices\, care of equipment). \n\n\n\nThe theory night registration is combined with the prac day for the same course number\, you do not need to register separately. \n\n\n\nThe practical day is held at Wahroonga Rocks. Participants aim to complete 15 abseils on a variety of abseil devices as well as practising belaying skills\, and prussiking. The course includes a separate theory night at Barra Brui Scout Hall. \n\n\n\nRecommended Pre-reading:\n\n\n\n\nKnots (SP Section Only)\n\n\n\n\nDigital copies will be provided pri \n\n\n\n\n\n\n\n\n\n\n\n\n\n				\n                Book Now\n            \n				23 of 25 places remaining. \n				Registrations closes by:  2026-07-18 18:30:00 \n				Note: starting your application does not reserve your spot\, you must submit your application and pay.
URL:https://sydneynorthscouts.com/event/safe-participant-abseil-course-theory-night-abs24e/
LOCATION:Barra Brui Activity Hall\, Barra Brui Scout Hall\, Hunter St\, St Ives\, NSW\, 2075\, Australia
CATEGORIES:SNR Basic Rockcraft Courses
ORGANIZER;CN="Harry J.E Day":MAILTO:harry.day@nsw.scouts.com.au
END:VEVENT
END:VCALENDAR