BEGIN:VCALENDAR
VERSION:2.0
PRODID:-//Sydney North Region Scouts - ECPv6.15.20//NONSGML v1.0//EN
CALSCALE:GREGORIAN
METHOD:PUBLISH
X-WR-CALNAME:Sydney North Region Scouts
X-ORIGINAL-URL:https://sydneynorthscouts.com
X-WR-CALDESC:Events for Sydney North Region Scouts
REFRESH-INTERVAL;VALUE=DURATION:PT1H
X-Robots-Tag:noindex
X-PUBLISHED-TTL:PT1H
BEGIN:VTIMEZONE
TZID:Australia/Sydney
BEGIN:STANDARD
TZOFFSETFROM:+1100
TZOFFSETTO:+1000
TZNAME:AEST
DTSTART:20230401T160000
END:STANDARD
BEGIN:DAYLIGHT
TZOFFSETFROM:+1000
TZOFFSETTO:+1100
TZNAME:AEDT
DTSTART:20230930T160000
END:DAYLIGHT
BEGIN:STANDARD
TZOFFSETFROM:+1100
TZOFFSETTO:+1000
TZNAME:AEST
DTSTART:20240406T160000
END:STANDARD
BEGIN:DAYLIGHT
TZOFFSETFROM:+1000
TZOFFSETTO:+1100
TZNAME:AEDT
DTSTART:20241005T160000
END:DAYLIGHT
BEGIN:STANDARD
TZOFFSETFROM:+1100
TZOFFSETTO:+1000
TZNAME:AEST
DTSTART:20250405T160000
END:STANDARD
BEGIN:DAYLIGHT
TZOFFSETFROM:+1000
TZOFFSETTO:+1100
TZNAME:AEDT
DTSTART:20251004T160000
END:DAYLIGHT
END:VTIMEZONE
BEGIN:VEVENT
DTSTART;TZID=Australia/Sydney:20240607T000000
DTEND;TZID=Australia/Sydney:20240610T235959
DTSTAMP:20260425T202512
CREATED:20240312T033549Z
LAST-MODIFIED:20240312T033642Z
UID:8498-1717718400-1718063999@sydneynorthscouts.com
SUMMARY:Mudbash
DESCRIPTION:Mudbash is an annual motorsport event run by the Rover section of the Victorian Branch of Scouts Australia\, held annually on the King’s Birthday long weekend in June at Mafeking Rover Park. \n\n\n\nEvent Facebook page – https://www.facebook.com/Mudbash
URL:https://sydneynorthscouts.com/event/mudbash-4/
LOCATION:Mafeking Rover Park\, 338 Caveat-Dropmore Rd\, Caveat\, Victoria\, 3660\, Australia
CATEGORIES:Rover Scouts
ATTACH;FMTTYPE=image/jpeg:https://sydneynorthscouts.com/wp-content/uploads/2024/03/Mudbash_2024-scaled.jpg
END:VEVENT
BEGIN:VEVENT
DTSTART;TZID=Australia/Sydney:20240607T180000
DTEND;TZID=Australia/Sydney:20240610T130000
DTSTAMP:20260425T202512
CREATED:20240414T233111Z
LAST-MODIFIED:20240607T010533Z
UID:8611-1717783200-1718024400@sydneynorthscouts.com
SUMMARY:Cancelled - LNS/Turrumburra District Camp 2024
DESCRIPTION:An event designed to provide attendees with further opportunities to develop their bushcraft and camping skills while accumulating additional nights under canvas for those heading to AJ2025. \n\n\n\n \n\n\n\nPlease bring a set of gardening or work gloves for an onsite camp site maintenance task \n\n\n\n\ninvalid event id provided.
URL:https://sydneynorthscouts.com/event/lns-turrumburra-district-camp-2024/
LOCATION:Berrima Scout Camp\, Apple St\, Berrima\, NSW\, 2577\, Australia
END:VEVENT
BEGIN:VEVENT
DTSTART;TZID=Australia/Sydney:20240607T190000
DTEND;TZID=Australia/Sydney:20240610T130000
DTSTAMP:20260425T202512
CREATED:20240507T061353Z
LAST-MODIFIED:20240507T061356Z
UID:8700-1717786800-1718024400@sydneynorthscouts.com
SUMMARY:Moocooboolah District Camp
DESCRIPTION:In preperation for the Jamboree\, scouts from accross Moocoboolah District will camp as Units while participating in activites designed to develop Outdoor Adventure Skills. \n\n\n\nCompleting this registration indicates to event orgainsiers your attendance and covers payment for use of Glenfield Scout Camp and ammenties. An additional unit based E1\, Opperoo or CareMonkey form will be sent by individual Units for dietry requirments\, individualised equipment requirments and collection of catering expenses. \n\n\n\n\n\n\ninvalid event id provided.
URL:https://sydneynorthscouts.com/event/moocooboolah-district-camp-4/
LOCATION:Glenfield Scout Camp
ORGANIZER;CN="Mitch.leggo":MAILTO:mitch.leggo@nsw.scouts.com.au
END:VEVENT
END:VCALENDAR